From mboxrd@z Thu Jan 1 00:00:00 1970 Return-Path: Received: from mails.dpdk.org (mails.dpdk.org [217.70.189.124]) by inbox.dpdk.org (Postfix) with ESMTP id 762C9461A5 for ; Thu, 6 Feb 2025 05:54:38 +0100 (CET) Received: from mails.dpdk.org (localhost [127.0.0.1]) by mails.dpdk.org (Postfix) with ESMTP id 56260402F1; Thu, 6 Feb 2025 05:54:38 +0100 (CET) Received: from mail-il1-f225.google.com (mail-il1-f225.google.com [209.85.166.225]) by mails.dpdk.org (Postfix) with ESMTP id 1DC27402D6 for ; Thu, 6 Feb 2025 05:54:37 +0100 (CET) Received: by mail-il1-f225.google.com with SMTP id e9e14a558f8ab-3d01fe20598so1671015ab.3 for ; Wed, 05 Feb 2025 20:54:37 -0800 (PST) DKIM-Signature: v=1; a=rsa-sha256; c=relaxed/relaxed; d=iol.unh.edu; s=unh-iol; t=1738817676; x=1739422476; darn=dpdk.org; h=references:in-reply-to:cc:to:from:subject:message-id:date:from:to :cc:subject:date:message-id:reply-to; bh=tSWPpPDtJzVpyiBhxHFlmXHzJbsIeS/fR5y2wvFuqJk=; b=GgUWazRHR3zf4vFXkNdTwc64Ej5bE9b0OLnRSe4utgZkZ9rndyE786Ol7x0mEuuLeJ CM3otJdZXkY3cg2cp+S56QvT4EgKU74KnPFRxuajxO225NYUyPHcrCUcJFPuWBZyxLGp 1eP3ByYzbpwG2K0TmueklolJQmaFbUaXnFuYU= X-Google-DKIM-Signature: v=1; a=rsa-sha256; c=relaxed/relaxed; d=1e100.net; s=20230601; t=1738817676; x=1739422476; h=references:in-reply-to:cc:to:from:subject:message-id:date :x-gm-message-state:from:to:cc:subject:date:message-id:reply-to; bh=tSWPpPDtJzVpyiBhxHFlmXHzJbsIeS/fR5y2wvFuqJk=; b=DddWjmyT9dtm/c1w+RlZJikSXWxfztu+Ck63s2644p9U2n1bIiHLVijQArSDqmulv7 AD6Mkn19+QwVpX3k+I2B8+pIcOG9C4g9g7msIZPgFHsuTR+Vo9ST8Nu0K6t0iVnqMh+W IyzAPM3dZjxy837YfNpjwvLPbzzfQyo+K8gsf+Uy6E5Ku2g/ZSFebnuaTHKfqWE6urTA vNB0bgUBr5MvsFrjeJkwqBcdgHJ01+rHB7xFWrcHV41GJyqV1tCV93pVoJzVmXsOznJe 9AVOUk4pqc4mw8kq64zvUwABnTfpas6/vpf8HYKEk+dPbwgp9IngFgTn6UMGcYUPZ/B8 ai0A== X-Gm-Message-State: AOJu0Yzn35uZoi5KxZCm8j6oQsI3pXhGLVTKa2c9SGNvelS42IjyXIFF GlEKM0vUgVzodY/dFrADiMxSBJlw+6nNAUbIF1IVGB25lGWhNAX8KeNDJyGULg1SPySRJ8uGYsD vHspeJvNIbgP9sXwfKgWLESfSes+KHTD4dKlPzIzP8zKHrWrvB6vqpyfo X-Gm-Gg: ASbGnctE1CT45/oLlJeWgYuNmrN+uPPdJnmfdmCnD5kEzdQ9jDLgnP2WXFDKQPPvnre bCUxSkgxzOUrAKCzs+Y4er2D02DfjRTgniiKSOmTCQVDt7LeqMkikQnV2ZgQhCR/C7sNotDuvkq D38b9nTlLgCMSuJp71pmnfmaLxvXv/Nn6Pq15fLCZ57H3dq+oflCb3uVUBIIqCPXQT0c+lKtB8K 5hIhIhtHkN3uwWOmBdGanjcvUJ7oIWN3qTth8Dk9LAIw7HA8IZ+vD9EGXjmx1W7d1i0OeLLr9H2 hC1VAzQN2mZCoXANAI5j5N2nCy17sG+N0u7Wup+WGg== X-Google-Smtp-Source: AGHT+IFs1k2waxGIWtSq2Zr26D1xfCTqavHxTLC5M/k4ZT/xJu9SlLY1ehqWWM+4QU8pKz0lClAJ6RKMeL37 X-Received: by 2002:a05:6e02:17cc:b0:3cf:c7d3:e4b with SMTP id e9e14a558f8ab-3d04f9229e2mr66347515ab.21.1738817676375; Wed, 05 Feb 2025 20:54:36 -0800 (PST) Received: from postal.iol.unh.edu (postal.iol.unh.edu. [2606:4100:3880:1234::84]) by smtp-relay.gmail.com with ESMTPS id e9e14a558f8ab-3d05e8d8fa9sm268925ab.11.2025.02.05.20.54.36 (version=TLS1_2 cipher=ECDHE-ECDSA-AES128-GCM-SHA256 bits=128/128); Wed, 05 Feb 2025 20:54:36 -0800 (PST) X-Relaying-Domain: iol.unh.edu Date: Wed, 05 Feb 2025 20:54:36 -0800 (PST) Message-ID: <67a4408c.050a0220.35722.189fSMTPIN_ADDED_MISSING@mx.google.com> Received: from [172.21.0.6] (unknown [172.18.0.240]) by postal.iol.unh.edu (Postfix) with ESMTP id CEB296052471; Wed, 5 Feb 2025 23:54:35 -0500 (EST) Subject: |SUCCESS| pw150974-150991 [PATCH] [v3,19/19] common/cnxk: fix null p From: dpdklab@iol.unh.edu To: Test Report Cc: dpdk-test-reports@iol.unh.edu In-Reply-To: <20250205162448.161161-20-stephen@networkplumber.org> References: <20250205162448.161161-20-stephen@networkplumber.org> Content-Type: text/plain X-BeenThere: test-report@dpdk.org X-Mailman-Version: 2.1.29 Precedence: list List-Id: automatic DPDK test reports List-Unsubscribe: , List-Archive: List-Post: List-Help: List-Subscribe: , Errors-To: test-report-bounces@dpdk.org Test-Label: iol-unit-arm64-testing Test-Status: SUCCESS http://dpdk.org/patch/150991 _Testing PASS_ Submitter: Stephen Hemminger Date: Wednesday, February 05 2025 16:23:20 DPDK git baseline: Repo:dpdk Branch: master CommitID:32c18e7364e30a8e43cc7cc6709a7ce606fa285e 150974-150991 --> testing pass Upstream job id: Generic-Unit-Test-DPDK#311945 Test environment and result as below: +-----------------------------+---------------------------+--------------+------------------------------+----------------+ | Environment | cryptodev_sw_zuc_autotest | lpm_autotest | cryptodev_sw_snow3g_autotest | dpdk_unit_test | +=============================+===========================+==============+==============================+================+ | Debian 12 (arm) | PASS | SKIPPED | PASS | PASS | +-----------------------------+---------------------------+--------------+------------------------------+----------------+ | Ubuntu 20.04 ARM SVE | SKIPPED | PASS | SKIPPED | SKIPPED | +-----------------------------+---------------------------+--------------+------------------------------+----------------+ | 32-bit Ubuntu 22.04.4 (ARM) | SKIPPED | SKIPPED | SKIPPED | PASS | +-----------------------------+---------------------------+--------------+------------------------------+----------------+ | Debian 11 (Buster) (ARM) | SKIPPED | SKIPPED | SKIPPED | PASS | +-----------------------------+---------------------------+--------------+------------------------------+----------------+ | CentOS Stream 9 (ARM) | SKIPPED | SKIPPED | SKIPPED | PASS | +-----------------------------+---------------------------+--------------+------------------------------+----------------+ | Fedora 40 (ARM) | SKIPPED | SKIPPED | SKIPPED | PASS | +-----------------------------+---------------------------+--------------+------------------------------+----------------+ | Fedora 40 (ARM Clang) | SKIPPED | SKIPPED | SKIPPED | PASS | +-----------------------------+---------------------------+--------------+------------------------------+----------------+ | Ubuntu 22.04 (ARM) | SKIPPED | SKIPPED | SKIPPED | PASS | +-----------------------------+---------------------------+--------------+------------------------------+----------------+ | RHEL9 (ARM) | SKIPPED | SKIPPED | SKIPPED | PASS | +-----------------------------+---------------------------+--------------+------------------------------+----------------+ | Fedora 41 (ARM Clang) | SKIPPED | SKIPPED | SKIPPED | PASS | +-----------------------------+---------------------------+--------------+------------------------------+----------------+ | Ubuntu 20.04 (ARM) | SKIPPED | SKIPPED | SKIPPED | PASS | +-----------------------------+---------------------------+--------------+------------------------------+----------------+ | Fedora 41 (ARM) | SKIPPED | SKIPPED | SKIPPED | PASS | +-----------------------------+---------------------------+--------------+------------------------------+----------------+ | Ubuntu 24.04 (ARM) | SKIPPED | SKIPPED | SKIPPED | PASS | +-----------------------------+---------------------------+--------------+------------------------------+----------------+ Debian 12 (arm) Kernel: Depends on container host Compiler: gcc (Debian 12.2.0-14) 12.2.0 Ubuntu 20.04 ARM SVE Kernel: Depends on container host Compiler: gcc (Ubuntu 10.5.0-1ubuntu1~20.04) 10.5.0 32-bit Ubuntu 22.04.4 (ARM) Kernel: 5.15.83+ aarch64 Compiler: gcc (Ubuntu 11.4.0-1ubuntu1~22.04) 11.4.0 Debian 11 (Buster) (ARM) Kernel: Depends on container host Compiler: gcc (Debian 10.2.1-6) 10.2.1 20210110 CentOS Stream 9 (ARM) Kernel: Depends on container host Compiler: gcc 11.5.0 20240719 (Red Hat 11.5.0-2) Fedora 40 (ARM) Kernel: Depends on container host Compiler: gcc 14.2.1 20240912 (Red Hat 14.2.1-3) Fedora 40 (ARM Clang) Kernel: Depends on container host Compiler: clang 18.1.8 (Fedora 18.1.8-1.fc40) Ubuntu 22.04 (ARM) Kernel: Depends on container host Compiler: gcc (Ubuntu 11.4.0-1ubuntu1~22.04) 11.4.0 RHEL9 (ARM) Kernel: Depends on container host Compiler: gcc 11.5.0 20240719 (Red Hat 11.5.0-2) Fedora 41 (ARM Clang) Kernel: Depends on container host Compiler: clang 19.1.5 (Fedora 19.1.5-1.fc41) Ubuntu 20.04 (ARM) Kernel: Depends on container host Compiler: gcc (Ubuntu 9.4.0-1ubuntu1~20.04.2) 9.4.0 Fedora 41 (ARM) Kernel: Depends on container host Compiler: gcc 14.2.1 20240912 (Red Hat 14.2.1-3) Ubuntu 24.04 (ARM) Kernel: Depends on container host Compiler: gcc (Ubuntu 13.3.0-6ubuntu2~24.04) 13.3.0 To view detailed results, visit: https://lab.dpdk.org/results/dashboard/patchsets/32501/ UNH-IOL DPDK Community Lab To manage your email subscriptions, visit: https://lab.dpdk.org/results/dashboard/preferences/subscriptions/