From mboxrd@z Thu Jan 1 00:00:00 1970 Return-Path: Received: from mails.dpdk.org (mails.dpdk.org [217.70.189.124]) by inbox.dpdk.org (Postfix) with ESMTP id BD188461A6 for ; Thu, 6 Feb 2025 06:17:14 +0100 (CET) Received: from mails.dpdk.org (localhost [127.0.0.1]) by mails.dpdk.org (Postfix) with ESMTP id B9ABF402F1; Thu, 6 Feb 2025 06:17:14 +0100 (CET) Received: from mail-il1-f225.google.com (mail-il1-f225.google.com [209.85.166.225]) by mails.dpdk.org (Postfix) with ESMTP id 7FD35402D6 for ; Thu, 6 Feb 2025 06:17:13 +0100 (CET) Received: by mail-il1-f225.google.com with SMTP id e9e14a558f8ab-3d05b672ee6so1402655ab.1 for ; Wed, 05 Feb 2025 21:17:13 -0800 (PST) DKIM-Signature: v=1; a=rsa-sha256; c=relaxed/relaxed; d=iol.unh.edu; s=unh-iol; t=1738819033; x=1739423833; darn=dpdk.org; h=references:in-reply-to:cc:to:from:subject:message-id:date:from:to :cc:subject:date:message-id:reply-to; bh=NdcVPTaMgEPi+yHp9tq9XiwVbJeVkPRXqhyS+vpMYTM=; b=aLi097n4qJLNt+6AA0K/AiXjUYUPNY88ZGHzKCr84THqp/ZWvNMhfOIaloyDvAhrV4 8GcutIibNmvNCq7rgy1gHiPIyVT9I0x5TIGZEQ9rldmY/1+9ejaLqfpyG7Dwkxt8PhDX 0asFD/vpdIHPlnq0AuBrl4ml/QXY4FqAFWLUo= X-Google-DKIM-Signature: v=1; a=rsa-sha256; c=relaxed/relaxed; d=1e100.net; s=20230601; t=1738819033; x=1739423833; h=references:in-reply-to:cc:to:from:subject:message-id:date :x-gm-message-state:from:to:cc:subject:date:message-id:reply-to; bh=NdcVPTaMgEPi+yHp9tq9XiwVbJeVkPRXqhyS+vpMYTM=; b=qd1Gja3djiYsGi2ehGV4qT8H8upWVKJfwDmuBXemprM/eiZVL4pK63cQk9zY/Ll/RL Ce1d7JXziZRvAyadBOXxCaNTIjIc8DX40YKZt1mL5YkyAHcgY5k//+EeiKmrxNx+mclo 0DZFqRSlr2N/ck4rJ7EwlLz24adjwif1/TfY5JrSFD+GVSmJrk3WWs41PQY3eDUNKKqH ZTF0HpsMP8P4eCEcKNOeY+vgc9Dvz5stIAwm07thbhv4UZkFe/9rZ8b6DIpBEPpO8z4N Rx8i2Av42qSHtNxK+WQh/DUDHrII+HztwL2rmZLsWFBfVJM2o5acQNfIHSi7nVOobxdZ x2vA== X-Gm-Message-State: AOJu0YzlvHeAnl5s8qvPvbY4D5zw7+fH6y2Qw1byBpmABTQaUYolrcZy QxQmYilKgGjr0oOrnbBIfQ5pRORf4sWzNH1sH/XZ9+L6PJ82UKv5rwIYs0CHDj38zA4fWuDZnfe j3+Qty5Yw1h5sfv6jdJPLVQVk7L+D702ncl54msCOiaao4+rIcGfEI8j8 X-Gm-Gg: ASbGncs+TIOu8BOT77+JuKCm1Euv7CuLpl3s44YPM4Gxq843P68EjoRWLzYtns32/u1 THDhKReJEwV8WndXQrTjTdNdyal2UR+aQ4tiXsIsh84x78q+uqAgWD0jO6UGrieuN9QYJ6NO/Vb cz29CcuiW0YqUB5KMoXZBdkfUKwuYrfY/Ir17GIWOdJJJjEW/OrcDirQAdD2vzuBb/rejq9IC2j s+0fCjRXZrJpqj7O80QamtRCQXm68Hpcus5p8rhuPxxgOxHTlcRrWKhko5WLV16eF90ccXl0ISc QklAIbRBhX/DcfSmRnakM8PyPISBW0ULdWAsuk2f/w== X-Google-Smtp-Source: AGHT+IHEni83G8sbmBbhHP6NMN16COM73BIL1z61u34P/EwY+x5nrxg36+Y6uKzl42P9OF/FaNO3l1WY2oiU X-Received: by 2002:a92:c10b:0:b0:3ce:3541:d80f with SMTP id e9e14a558f8ab-3d05a424d1cmr16976715ab.0.1738819032783; Wed, 05 Feb 2025 21:17:12 -0800 (PST) Received: from postal.iol.unh.edu (postal.iol.unh.edu. [2606:4100:3880:1234::84]) by smtp-relay.gmail.com with ESMTPS id 8926c6da1cb9f-4eccfaa22c4sm37597173.49.2025.02.05.21.17.12 (version=TLS1_2 cipher=ECDHE-ECDSA-AES128-GCM-SHA256 bits=128/128); Wed, 05 Feb 2025 21:17:12 -0800 (PST) X-Relaying-Domain: iol.unh.edu Date: Wed, 05 Feb 2025 21:17:12 -0800 (PST) Message-ID: <67a445d8.050a0220.244229.239cSMTPIN_ADDED_MISSING@mx.google.com> Received: from [172.21.0.6] (unknown [172.18.0.240]) by postal.iol.unh.edu (Postfix) with ESMTP id 5510D6052471; Thu, 6 Feb 2025 00:17:12 -0500 (EST) Subject: |SUCCESS| pw150970 [PATCH] [v5] eal: define __SIZEOF_LONG__ when usi From: dpdklab@iol.unh.edu To: Test Report Cc: dpdk-test-reports@iol.unh.edu In-Reply-To: <1738771937-18083-1-git-send-email-andremue@linux.microsoft.com> References: <1738771937-18083-1-git-send-email-andremue@linux.microsoft.com> Content-Type: text/plain X-BeenThere: test-report@dpdk.org X-Mailman-Version: 2.1.29 Precedence: list List-Id: automatic DPDK test reports List-Unsubscribe: , List-Archive: List-Post: List-Help: List-Subscribe: , Errors-To: test-report-bounces@dpdk.org Test-Label: iol-unit-amd64-testing Test-Status: SUCCESS http://dpdk.org/patch/150970 _Testing PASS_ Submitter: Andre Muezerie Date: Wednesday, February 05 2025 16:12:17 DPDK git baseline: Repo:dpdk Branch: master CommitID:32c18e7364e30a8e43cc7cc6709a7ce606fa285e 150970 --> testing pass Upstream job id: Generic-Unit-Test-DPDK#312064 Test environment and result as below: +---------------------+----------------+ | Environment | dpdk_unit_test | +=====================+================+ | CentOS Stream 9 | PASS | +---------------------+----------------+ | Debian Bullseye | PASS | +---------------------+----------------+ | Debian 12 | PASS | +---------------------+----------------+ | Fedora 40 (Clang) | PASS | +---------------------+----------------+ | Fedora 40 | PASS | +---------------------+----------------+ | Fedora 41 | PASS | +---------------------+----------------+ | Fedora 41 (Clang) | PASS | +---------------------+----------------+ | Ubuntu 20.04 | PASS | +---------------------+----------------+ | Ubuntu 22.04 | PASS | +---------------------+----------------+ | RHEL9 | PASS | +---------------------+----------------+ | Ubuntu 24.04 | PASS | +---------------------+----------------+ | RHEL8 | PASS | +---------------------+----------------+ | Windows Server 2022 | PASS | +---------------------+----------------+ CentOS Stream 9 Kernel: Depends on container host Compiler: gcc 11.5.0 20240719 (Red Hat 11.5.0-2) Debian Bullseye Kernel: Depends on container host Compiler: gcc (Debian 10.2.1-6) 10.2.1 20210110 Debian 12 Kernel: Depends on container host Compiler: gcc (Debian 12.2.0-14) 12.2.0 Fedora 40 (Clang) Kernel: Depends on container host Compiler: clang 18.1.8 (Fedora 18.1.8-1.fc40) Fedora 40 Kernel: Depends on container host Compiler: gcc 14.2.1 20240912 (Red Hat 14.2.1-3) Fedora 41 Kernel: Depends on container host Compiler: gcc 14.2.1 20240912 (Red Hat 14.2.1-3) Fedora 41 (Clang) Kernel: Depends on container host Compiler: clang 19.1.5 (Fedora 19.1.5-1.fc41) Ubuntu 20.04 Kernel: Depends on container host Compiler: gcc (Ubuntu 9.4.0-1ubuntu1~20.04.2) 9.4.0 Ubuntu 22.04 Kernel: Depends on container host Compiler: gcc (Ubuntu 11.4.0-1ubuntu1~22.04) 11.4.0 RHEL9 Kernel: Depends on container host Compiler: gcc 11.5.0 20240719 (Red Hat 11.5.0-2) Ubuntu 24.04 Kernel: Depends on container host Compiler: gcc (Ubuntu 13.3.0-6ubuntu2~24.04) 13.3.0 RHEL8 Kernel: Depends on container host Compiler: gcc 8.5.0 20210514 (Red Hat 8.5.0-22) Windows Server 2022 Kernel: 10.0.20348.2031 Compiler: clang 15.0.7, gcc 14.1.0 (MinGW), and MSVC VS 19.39.33521 To view detailed results, visit: https://lab.dpdk.org/results/dashboard/patchsets/32498/ UNH-IOL DPDK Community Lab To manage your email subscriptions, visit: https://lab.dpdk.org/results/dashboard/preferences/subscriptions/