From mboxrd@z Thu Jan 1 00:00:00 1970 Return-Path: Received: from mails.dpdk.org (mails.dpdk.org [217.70.189.124]) by inbox.dpdk.org (Postfix) with ESMTP id 00160461A6 for ; Thu, 6 Feb 2025 06:29:49 +0100 (CET) Received: from mails.dpdk.org (localhost [127.0.0.1]) by mails.dpdk.org (Postfix) with ESMTP id D777E402F1; Thu, 6 Feb 2025 06:29:49 +0100 (CET) Received: from mail-pl1-f227.google.com (mail-pl1-f227.google.com [209.85.214.227]) by mails.dpdk.org (Postfix) with ESMTP id 390D1402D6 for ; Thu, 6 Feb 2025 06:29:48 +0100 (CET) Received: by mail-pl1-f227.google.com with SMTP id d9443c01a7336-2161eb95317so10348925ad.1 for ; Wed, 05 Feb 2025 21:29:48 -0800 (PST) DKIM-Signature: v=1; a=rsa-sha256; c=relaxed/relaxed; d=iol.unh.edu; s=unh-iol; t=1738819787; x=1739424587; darn=dpdk.org; h=references:in-reply-to:cc:to:from:subject:message-id:date:from:to :cc:subject:date:message-id:reply-to; bh=HjnmMJ2k2JpE5hvDjrTPjoYfTyM+LoVq4nfn6dXICjc=; b=BCDYiYIT2BdKuwSoIkAiea3r+ku8cSA4aFTskp7kHMWfkLL4OPpCuJpAKyojpjAVy6 YS4AJW7VxwmidZJVjEFHxPqehiuoQyofscbOP3ehZC98U6zQ5bm6UYj4JSVyPIudJ8t8 0QsNNzgbO6GDD4jKS6Kys7r9LU8MvOgkv9Eyo= X-Google-DKIM-Signature: v=1; a=rsa-sha256; c=relaxed/relaxed; d=1e100.net; s=20230601; t=1738819787; x=1739424587; h=references:in-reply-to:cc:to:from:subject:message-id:date :x-gm-message-state:from:to:cc:subject:date:message-id:reply-to; bh=HjnmMJ2k2JpE5hvDjrTPjoYfTyM+LoVq4nfn6dXICjc=; b=js9TJAK9E6O3aY2FucxTiiDSUhnP1Ah3gUbUfitbHad9SN5t3maOoeU25P+vBCFSP4 33M3v5CFEvg7q1qQ/NODrvysj3djkC+QkjmqFoPZeT21l5oXyDlM8QJpdqxKFZHkNAtk s9XNkNPB+oSvo0wanqN+q8x1ViXiLN1tz4Dj7VDkIs/ael+r4TcHNBitNmfQO657iDsN SfFo0GulbJdB/bSWAgm0nTB8A8ME1XRbdegAvywGd0Qlur+DPEb2C/Nm33uQd3GD30Mt 2qVlLiC7FkqMbCTwloDYuNxLV0ljxQ9lxUviTRJEKE8XiEnqujZ1nxuKiv450UqGTCwG oQxg== X-Gm-Message-State: AOJu0Yw3zd094paKsg9zHmyoc6DYlNuI8eLtLfn+MSLN36n2pGtLmHrc BViIDyKehIDERFvExDYQAdbu1op6pg9OXEH3ZlVDviM8H2fYbGpXuzxZfKx6bVd9T9TS7ZRQI7Y t7yUect2A44LUwE7yd5aNdy8HXeHrYib8x/Fo94KV+AUO8wCwL+JXpLrR X-Gm-Gg: ASbGnctSkpRadd/DY9Ux314W9C6T8v/HtVU1BmN6on4znWlp++/srKMUJsYdcvVAy9V 6dkdL/hn+9lAXmslq3QXMytfuFwsrKeNj1clD90jvm+Z97HkpveuLIc4dOkgHs0TCvsKVSF9rm1 SKsI5Y4hOMp241L3WHW6LXpDlHjl1bB5UvbB+5p0J8Bm4TIH57/j5PsaY2C1xmgSvllTRBZE4SA k8jUP9KOsNJ0QCYwwzGnPOuxMNmc3S9zLcQdDEyetZx+dIAfaiM4PkRVjUdSk8zIZXnE2UMBNsZ VHnq6k1SwMMsOGoAyuCQFgSy4+dtgEPDJR4giOammw== X-Google-Smtp-Source: AGHT+IEDaDUGkJoI4uaBIYZKOs+2maSvwGD3PHHGDq8FTlwZYrB9jIl/4iDflgqvul5pUiTGeKyfZNV8lEzV X-Received: by 2002:a17:902:e888:b0:215:4a31:47d8 with SMTP id d9443c01a7336-21f17dde27bmr84689695ad.9.1738819787279; Wed, 05 Feb 2025 21:29:47 -0800 (PST) Received: from postal.iol.unh.edu (postal.iol.unh.edu. [2606:4100:3880:1234::84]) by smtp-relay.gmail.com with ESMTPS id d9443c01a7336-21f3653ad84sm27765ad.31.2025.02.05.21.29.47 (version=TLS1_2 cipher=ECDHE-ECDSA-AES128-GCM-SHA256 bits=128/128); Wed, 05 Feb 2025 21:29:47 -0800 (PST) X-Relaying-Domain: iol.unh.edu Date: Wed, 05 Feb 2025 21:29:47 -0800 (PST) Message-ID: <67a448cb.170a0220.39f0c7.02ceSMTPIN_ADDED_MISSING@mx.google.com> Received: from [172.21.0.5] (unknown [172.18.0.240]) by postal.iol.unh.edu (Postfix) with ESMTP id 6DC176052471; Thu, 6 Feb 2025 00:29:46 -0500 (EST) Subject: |SUCCESS| pw151003-151004 [PATCH] [v2,2/2] build: replace support fo From: dpdklab@iol.unh.edu To: Test Report Cc: dpdk-test-reports@iol.unh.edu In-Reply-To: <20250205182918.4041268-3-bruce.richardson@intel.com> References: <20250205182918.4041268-3-bruce.richardson@intel.com> Content-Type: text/plain X-BeenThere: test-report@dpdk.org X-Mailman-Version: 2.1.29 Precedence: list List-Id: automatic DPDK test reports List-Unsubscribe: , List-Archive: List-Post: List-Help: List-Subscribe: , Errors-To: test-report-bounces@dpdk.org Test-Label: iol-abi-testing Test-Status: SUCCESS http://dpdk.org/patch/151004 _Testing PASS_ Submitter: Bruce Richardson Date: Wednesday, February 05 2025 18:29:15 DPDK git baseline: Repo:dpdk Branch: master CommitID:32c18e7364e30a8e43cc7cc6709a7ce606fa285e 151003-151004 --> testing pass Upstream job id: Generic-DPDK-Compile-ABI#114977 Test environment and result as below: +-------------------+----------+ | Environment | abi_test | +===================+==========+ | Debian Bullseye | PASS | +-------------------+----------+ | CentOS Stream 9 | PASS | +-------------------+----------+ | Debian 12 | PASS | +-------------------+----------+ | Fedora 40 | PASS | +-------------------+----------+ | RHEL8 | PASS | +-------------------+----------+ | RHEL9 | PASS | +-------------------+----------+ | Fedora 40 (Clang) | PASS | +-------------------+----------+ | Fedora 41 (Clang) | PASS | +-------------------+----------+ | Ubuntu 24.04 | PASS | +-------------------+----------+ | openSUSE Leap 15 | PASS | +-------------------+----------+ | Fedora 41 | PASS | +-------------------+----------+ | Ubuntu 22.04 | PASS | +-------------------+----------+ Debian Bullseye Kernel: Depends on container host Compiler: gcc (Debian 10.2.1-6) 10.2.1 20210110 CentOS Stream 9 Kernel: Depends on container host Compiler: gcc 11.5.0 20240719 (Red Hat 11.5.0-2) Debian 12 Kernel: Depends on container host Compiler: gcc (Debian 12.2.0-14) 12.2.0 Fedora 40 Kernel: Depends on container host Compiler: gcc 14.2.1 20240912 (Red Hat 14.2.1-3) RHEL8 Kernel: Depends on container host Compiler: gcc 8.5.0 20210514 (Red Hat 8.5.0-22) RHEL9 Kernel: Depends on container host Compiler: gcc 11.5.0 20240719 (Red Hat 11.5.0-2) Fedora 40 (Clang) Kernel: Depends on container host Compiler: clang 18.1.8 (Fedora 18.1.8-1.fc40) Fedora 41 (Clang) Kernel: Depends on container host Compiler: clang 19.1.5 (Fedora 19.1.5-1.fc41) Ubuntu 24.04 Kernel: Depends on container host Compiler: gcc (Ubuntu 13.3.0-6ubuntu2~24.04) 13.3.0 openSUSE Leap 15 Kernel: Depends on container host Compiler: gcc (SUSE Linux) 7.5.0 Fedora 41 Kernel: Depends on container host Compiler: gcc 14.2.1 20240912 (Red Hat 14.2.1-3) Ubuntu 22.04 Kernel: Depends on container host Compiler: gcc (Ubuntu 11.4.0-1ubuntu1~22.04) 11.4.0 To view detailed results, visit: https://lab.dpdk.org/results/dashboard/patchsets/32503/ UNH-IOL DPDK Community Lab To manage your email subscriptions, visit: https://lab.dpdk.org/results/dashboard/preferences/subscriptions/