From mboxrd@z Thu Jan  1 00:00:00 1970
Return-Path: <test-report-bounces@dpdk.org>
Received: from mails.dpdk.org (mails.dpdk.org [217.70.189.124])
	by inbox.dpdk.org (Postfix) with ESMTP id 0FAF3461A6
	for <public@inbox.dpdk.org>; Thu,  6 Feb 2025 06:52:10 +0100 (CET)
Received: from mails.dpdk.org (localhost [127.0.0.1])
	by mails.dpdk.org (Postfix) with ESMTP id CC800402F1;
	Thu,  6 Feb 2025 06:52:09 +0100 (CET)
Received: from mail-qk1-f228.google.com (mail-qk1-f228.google.com
 [209.85.222.228])
 by mails.dpdk.org (Postfix) with ESMTP id C0739402D6
 for <test-report@dpdk.org>; Thu,  6 Feb 2025 06:52:07 +0100 (CET)
Received: by mail-qk1-f228.google.com with SMTP id
 af79cd13be357-7b6f53c12adso42402785a.1
 for <test-report@dpdk.org>; Wed, 05 Feb 2025 21:52:07 -0800 (PST)
DKIM-Signature: v=1; a=rsa-sha256; c=relaxed/relaxed;
 d=iol.unh.edu; s=unh-iol; t=1738821127; x=1739425927; darn=dpdk.org;
 h=references:in-reply-to:cc:to:from:subject:message-id:date:from:to
 :cc:subject:date:message-id:reply-to;
 bh=FeGwXJjh3T+LmIxv1E/XtPxkrZgXXfZt8JOXbbQZvjk=;
 b=P1xsBortRSCNUaHobx8NWTVvOhtZfPWvWpRwkWAAcoVTSt2N8d/+/PQwZrHuhKso7+
 Ca+LadaGhLhDL03cvCYYCbVTW2KJLTfrgC9Kd5arXU9tlh4CjFqmMlHKrvWGrTjR5Ffw
 LMRILQZ/Hiiawb9fPrtvTqugp1F2Wq+uIx+8c=
X-Google-DKIM-Signature: v=1; a=rsa-sha256; c=relaxed/relaxed;
 d=1e100.net; s=20230601; t=1738821127; x=1739425927;
 h=references:in-reply-to:cc:to:from:subject:message-id:date
 :x-gm-message-state:from:to:cc:subject:date:message-id:reply-to;
 bh=FeGwXJjh3T+LmIxv1E/XtPxkrZgXXfZt8JOXbbQZvjk=;
 b=Z554EcOtUKeRzDxLkWfmDVXD76jUEmTKWT4NrAHM2t7kq0lB/ygY7p3zYLhw5GmYDO
 hx2rMPFGQgypBbh6HbyBVsikhTfUPNCzXmUtGa63lytWMNGy/i+ANM9wfj0ZXv7RRjGL
 ltHSkWDNhCmHJIot0x3nRee4Z53OYAnEjh8IAs6TOQEhPtxvWz276AQZN1V2vrJss0RK
 1zdiYQ5Stn7w0QN250fUPi6oPG6ETDJypjTv2Cu1exOxHXtGWGeOJLTZTbiUKNj3De/Y
 8EIgMHBsxfNFOKG/0708JmnY7IJ2ejSqd8dDBL6slJTj4kY0aEWiuiVOWVf1hfLUb92P
 OIWg==
X-Gm-Message-State: AOJu0YwX7QgKQFRy57UzFnPFeVQh0B+EVi4sD9uHn0JzgKqpsGkkOkAB
 GouuPNSkDV2diCk0yBaBaXVJfFo8pV6K5uO+GRhYI0cN5kiekovIbOpDI9OTJKzuKXTuUSAggRm
 KOsrVd7ErYdlP79UdSU6yZoKvwMh/9N66nTutGj7Y
X-Gm-Gg: ASbGncvGZHwPd54gLE4JtX5gr2o4ZzouSXtEa0LELmkbiPZjYYXsT8E8mKZyNk7gRB4
 sirz8xnGAjEm3R/kws7DcEQcJCmwCcYupd+Q1ak/cpj/vSjA3IYHpBTTBcj9MPMlUkMDoxvZ3ET
 UjJq39kDL+wOcZkpnAqw1PZGtO1MY8dgRyEDrRmPZN+dJUzQ8vCWaE52I4jpIEmjC5m+MwOLh/q
 UI7dP+xcNwqjwM0PeuuDT53V3J9D+uKrGnGE7BA6d2Fxq3ZVXuaoLQhdeKetUXpktcm8Qi0cD+D
 C2c4zqijSO3ByLvacmZPsvKPO5UoTQ==
X-Google-Smtp-Source: AGHT+IGtKGnYw4Pg7+O3to3TnNUJt9BrXwOGmsZy6vbLmGAt/RUi1aD5dSh5r16oC3gk7GSwWnsqVZbjFmKj
X-Received: by 2002:a05:6214:f65:b0:6d8:a39e:32a4 with SMTP id
 6a1803df08f44-6e42fbd7774mr111617206d6.25.1738821127097; 
 Wed, 05 Feb 2025 21:52:07 -0800 (PST)
Received: from postal.iol.unh.edu (postal.iol.unh.edu. [132.177.123.84])
 by smtp-relay.gmail.com with ESMTPS id
 6a1803df08f44-6e43ba42deesm395846d6.16.2025.02.05.21.52.07
 (version=TLS1_2 cipher=ECDHE-ECDSA-AES128-GCM-SHA256 bits=128/128);
 Wed, 05 Feb 2025 21:52:07 -0800 (PST)
X-Relaying-Domain: iol.unh.edu
Date: Wed, 05 Feb 2025 21:52:07 -0800 (PST)
Message-ID: <67a44e07.d40a0220.1d8d4b.2521SMTPIN_ADDED_MISSING@mx.google.com>
Received: from [172.21.0.6] (unknown [172.18.0.240])
 by postal.iol.unh.edu (Postfix) with ESMTP id C31086052471;
 Thu,  6 Feb 2025 00:52:06 -0500 (EST)
Subject: |SUCCESS| pw151008-151011 [PATCH] [v5,4/4] lib: change find device a
From: dpdklab@iol.unh.edu
To: Test Report <test-report@dpdk.org>
Cc: dpdk-test-reports@iol.unh.edu
In-Reply-To: <20250206000838.23428-5-shperetz@nvidia.com>
References: <20250206000838.23428-5-shperetz@nvidia.com>
Content-Type: text/plain
X-BeenThere: test-report@dpdk.org
X-Mailman-Version: 2.1.29
Precedence: list
List-Id: automatic DPDK test reports <test-report.dpdk.org>
List-Unsubscribe: <https://mails.dpdk.org/options/test-report>,
 <mailto:test-report-request@dpdk.org?subject=unsubscribe>
List-Archive: <http://mails.dpdk.org/archives/test-report/>
List-Post: <mailto:test-report@dpdk.org>
List-Help: <mailto:test-report-request@dpdk.org?subject=help>
List-Subscribe: <https://mails.dpdk.org/listinfo/test-report>,
 <mailto:test-report-request@dpdk.org?subject=subscribe>
Errors-To: test-report-bounces@dpdk.org

Test-Label: iol-abi-testing
Test-Status: SUCCESS
http://dpdk.org/patch/151011

_Testing PASS_

Submitter: Shani Peretz <shperetz@nvidia.com>
Date: Thursday, February 06 2025 00:08:38 
DPDK git baseline: Repo:dpdk
  Branch: master
  CommitID:32c18e7364e30a8e43cc7cc6709a7ce606fa285e

151008-151011 --> testing pass

Upstream job id: Generic-DPDK-Compile-ABI#115006

Test environment and result as below:

+-------------------+----------+
|    Environment    | abi_test |
+===================+==========+
| CentOS Stream 9   | PASS     |
+-------------------+----------+
| Debian 12         | PASS     |
+-------------------+----------+
| Debian Bullseye   | PASS     |
+-------------------+----------+
| Fedora 40         | PASS     |
+-------------------+----------+
| Fedora 40 (Clang) | PASS     |
+-------------------+----------+
| openSUSE Leap 15  | PASS     |
+-------------------+----------+
| Fedora 41         | PASS     |
+-------------------+----------+
| RHEL8             | PASS     |
+-------------------+----------+
| RHEL9             | PASS     |
+-------------------+----------+
| Fedora 41 (Clang) | PASS     |
+-------------------+----------+
| Ubuntu 22.04      | PASS     |
+-------------------+----------+
| Ubuntu 24.04      | PASS     |
+-------------------+----------+


CentOS Stream 9
	Kernel: Depends on container host
	Compiler: gcc 11.5.0 20240719 (Red Hat 11.5.0-2)

Debian 12
	Kernel: Depends on container host
	Compiler: gcc (Debian 12.2.0-14) 12.2.0

Debian Bullseye
	Kernel: Depends on container host
	Compiler: gcc (Debian 10.2.1-6) 10.2.1 20210110

Fedora 40
	Kernel: Depends on container host
	Compiler: gcc 14.2.1 20240912 (Red Hat 14.2.1-3)

Fedora 40 (Clang)
	Kernel: Depends on container host
	Compiler: clang 18.1.8 (Fedora 18.1.8-1.fc40)

openSUSE Leap 15
	Kernel: Depends on container host
	Compiler: gcc (SUSE Linux) 7.5.0

Fedora 41
	Kernel: Depends on container host
	Compiler: gcc 14.2.1 20240912 (Red Hat 14.2.1-3)

RHEL8
	Kernel: Depends on container host
	Compiler: gcc 8.5.0 20210514 (Red Hat 8.5.0-22)

RHEL9
	Kernel: Depends on container host
	Compiler: gcc 11.5.0 20240719 (Red Hat 11.5.0-2)

Fedora 41 (Clang)
	Kernel: Depends on container host
	Compiler: clang 19.1.5 (Fedora 19.1.5-1.fc41)

Ubuntu 22.04
	Kernel: Depends on container host
	Compiler: gcc (Ubuntu 11.4.0-1ubuntu1~22.04) 11.4.0

Ubuntu 24.04
	Kernel: Depends on container host
	Compiler: gcc (Ubuntu 13.3.0-6ubuntu2~24.04) 13.3.0

To view detailed results, visit:
https://lab.dpdk.org/results/dashboard/patchsets/32506/

UNH-IOL DPDK Community Lab

To manage your email subscriptions, visit: 
https://lab.dpdk.org/results/dashboard/preferences/subscriptions/