From mboxrd@z Thu Jan 1 00:00:00 1970 Return-Path: Received: from mails.dpdk.org (mails.dpdk.org [217.70.189.124]) by inbox.dpdk.org (Postfix) with ESMTP id 29B58461A6 for ; Thu, 6 Feb 2025 06:53:51 +0100 (CET) Received: from mails.dpdk.org (localhost [127.0.0.1]) by mails.dpdk.org (Postfix) with ESMTP id 1B594402F1; Thu, 6 Feb 2025 06:53:51 +0100 (CET) Received: from mail-qv1-f100.google.com (mail-qv1-f100.google.com [209.85.219.100]) by mails.dpdk.org (Postfix) with ESMTP id 38AB4402D6 for ; Thu, 6 Feb 2025 06:53:50 +0100 (CET) Received: by mail-qv1-f100.google.com with SMTP id 6a1803df08f44-6e4242b0b96so8638246d6.1 for ; Wed, 05 Feb 2025 21:53:50 -0800 (PST) DKIM-Signature: v=1; a=rsa-sha256; c=relaxed/relaxed; d=iol.unh.edu; s=unh-iol; t=1738821229; x=1739426029; darn=dpdk.org; h=references:in-reply-to:cc:to:from:subject:message-id:date:from:to :cc:subject:date:message-id:reply-to; bh=5Zqsy3AiCkmItlFsRpUCRnZcfdSqdfV7OG3xUUatJYc=; b=VeQZY0SnUXbe6nFKBRTuSJC9KOTceWU0GAxjFwPFIKH1n78hYWqZ+MxlniGcgZE9TH jbYv7SieeM5w6Nux05376MTOGvOG2hDdA9a9BhTZYAA0IyWMpONb7ep9hLmoMez74ss4 Z7fMPQy/Fn4xCi9GT5uKTESEShrCLFv9D2Kaw= X-Google-DKIM-Signature: v=1; a=rsa-sha256; c=relaxed/relaxed; d=1e100.net; s=20230601; t=1738821229; x=1739426029; h=references:in-reply-to:cc:to:from:subject:message-id:date :x-gm-message-state:from:to:cc:subject:date:message-id:reply-to; bh=5Zqsy3AiCkmItlFsRpUCRnZcfdSqdfV7OG3xUUatJYc=; b=o9CUULRiOHGXbpaQizmj1w17zZkuHUPnmZIXU58d+4CIUotPP7cdzSAUP3Bsd8ZADK j5Ap/q5S06blE8gqJvM4egsMVIlZWAJYPMmHiri8HzBYSxwEa1G3P7Mic/0nKHVTp8xg 7V4gorkihnwHmy1m+PnQGKVgbI9TKnYgjZ1alkLoa9qRUuw/1LY3VLC795POIas4wPpW IX+pXiTAcK+UjtuQE7aGLIQZuNfHZsve3w6AjuFKq9CpAg9Cx8KXcYwUPWI6H9thhk5B z0DsmlVgSKUO3Df0FB/mO+f1eZW94GWniejY0MCPqrBjl8lXMJJQIo41RBFJ+Wg4uUiH 70RQ== X-Gm-Message-State: AOJu0Yxh2YD6y0pp569+IPPA7TY9Zl+A79+QOUbYBYzCNaTmzXcVAuqE oOPJ/FqS9CoHMXuiSNVyFHnnfCB1lGbl7cSLR8NK2ksMwj0EXGzD/9u6QEKaChBUntzmv3WukiQ 6aEKlfxhNtL9YhrCG8t9l7lMo5V5IjNB9iouY7ecH X-Gm-Gg: ASbGncsvhQGFRZLkhG1VMrUqJWFZa1BGhJ12a/4OD/aKUZWqMCjQj5J5dNldZ1EiFNp 73BYYtbluwtvHz+oSIOudAcCcuMt7j1RDseifp/vq8alO1AAF6kFJHZiPjbvmRFpDYfyuuLc9RA cPD2WZYHruPVQqp1l41nEhqzKTkhLQMQ/7OaBvXqIfVdbFFRCqZz0fty9bb0ZyGzcAEQEnMbYlG zZdsOBJFm1BLoePHeSGXqxgcRyY0WaOPq09CAKas+DJPZOXcEsdL92nGUdpMIbQEmztbBbjyjxu qbbzwGWjDvII5M1V/1QBe6KbWm614w== X-Google-Smtp-Source: AGHT+IHYQweQ7BZMLen2z+jmvPG2oujByNkdBudJ2/yHqPkOC8Al7EqlcvIjUtbJ5dbI6BgPPOHo0YFGT0vZ X-Received: by 2002:a05:6214:21cb:b0:6d8:96a6:ec22 with SMTP id 6a1803df08f44-6e42fbc98f5mr92739916d6.23.1738821229674; Wed, 05 Feb 2025 21:53:49 -0800 (PST) Received: from postal.iol.unh.edu (postal.iol.unh.edu. [132.177.123.84]) by smtp-relay.gmail.com with ESMTPS id 6a1803df08f44-6e43ba33f7fsm370016d6.14.2025.02.05.21.53.49 (version=TLS1_2 cipher=ECDHE-ECDSA-AES128-GCM-SHA256 bits=128/128); Wed, 05 Feb 2025 21:53:49 -0800 (PST) X-Relaying-Domain: iol.unh.edu Date: Wed, 05 Feb 2025 21:53:49 -0800 (PST) Message-ID: <67a44e6d.050a0220.171eda.223aSMTPIN_ADDED_MISSING@mx.google.com> Received: from [172.21.0.5] (unknown [172.18.0.240]) by postal.iol.unh.edu (Postfix) with ESMTP id 61ABE6052471; Thu, 6 Feb 2025 00:53:49 -0500 (EST) Subject: |SUCCESS| pw150970 [PATCH] [v5] eal: define __SIZEOF_LONG__ when usi From: dpdklab@iol.unh.edu To: Test Report Cc: dpdk-test-reports@iol.unh.edu In-Reply-To: <1738771937-18083-1-git-send-email-andremue@linux.microsoft.com> References: <1738771937-18083-1-git-send-email-andremue@linux.microsoft.com> Content-Type: text/plain X-BeenThere: test-report@dpdk.org X-Mailman-Version: 2.1.29 Precedence: list List-Id: automatic DPDK test reports List-Unsubscribe: , List-Archive: List-Post: List-Help: List-Subscribe: , Errors-To: test-report-bounces@dpdk.org Test-Label: iol-abi-testing Test-Status: SUCCESS http://dpdk.org/patch/150970 _Testing PASS_ Submitter: Andre Muezerie Date: Wednesday, February 05 2025 16:12:17 DPDK git baseline: Repo:dpdk Branch: master CommitID:32c18e7364e30a8e43cc7cc6709a7ce606fa285e 150970 --> testing pass Upstream job id: Generic-DPDK-Compile-ABI#114989 Test environment and result as below: +-------------------+----------+ | Environment | abi_test | +===================+==========+ | CentOS Stream 9 | PASS | +-------------------+----------+ | Debian Bullseye | PASS | +-------------------+----------+ | Debian 12 | PASS | +-------------------+----------+ | Fedora 40 (Clang) | PASS | +-------------------+----------+ | Fedora 40 | PASS | +-------------------+----------+ | openSUSE Leap 15 | PASS | +-------------------+----------+ | Fedora 41 | PASS | +-------------------+----------+ | RHEL8 | PASS | +-------------------+----------+ | RHEL9 | PASS | +-------------------+----------+ | Ubuntu 22.04 | PASS | +-------------------+----------+ | Ubuntu 24.04 | PASS | +-------------------+----------+ CentOS Stream 9 Kernel: Depends on container host Compiler: gcc 11.5.0 20240719 (Red Hat 11.5.0-2) Debian Bullseye Kernel: Depends on container host Compiler: gcc (Debian 10.2.1-6) 10.2.1 20210110 Debian 12 Kernel: Depends on container host Compiler: gcc (Debian 12.2.0-14) 12.2.0 Fedora 40 (Clang) Kernel: Depends on container host Compiler: clang 18.1.8 (Fedora 18.1.8-1.fc40) Fedora 40 Kernel: Depends on container host Compiler: gcc 14.2.1 20240912 (Red Hat 14.2.1-3) openSUSE Leap 15 Kernel: Depends on container host Compiler: gcc (SUSE Linux) 7.5.0 Fedora 41 Kernel: Depends on container host Compiler: gcc 14.2.1 20240912 (Red Hat 14.2.1-3) RHEL8 Kernel: Depends on container host Compiler: gcc 8.5.0 20210514 (Red Hat 8.5.0-22) RHEL9 Kernel: Depends on container host Compiler: gcc 11.5.0 20240719 (Red Hat 11.5.0-2) Ubuntu 22.04 Kernel: Depends on container host Compiler: gcc (Ubuntu 11.4.0-1ubuntu1~22.04) 11.4.0 Ubuntu 24.04 Kernel: Depends on container host Compiler: gcc (Ubuntu 13.3.0-6ubuntu2~24.04) 13.3.0 To view detailed results, visit: https://lab.dpdk.org/results/dashboard/patchsets/32498/ UNH-IOL DPDK Community Lab To manage your email subscriptions, visit: https://lab.dpdk.org/results/dashboard/preferences/subscriptions/