From mboxrd@z Thu Jan 1 00:00:00 1970 Return-Path: Received: from mails.dpdk.org (mails.dpdk.org [217.70.189.124]) by inbox.dpdk.org (Postfix) with ESMTP id 13EB4461A6 for ; Thu, 6 Feb 2025 06:59:59 +0100 (CET) Received: from mails.dpdk.org (localhost [127.0.0.1]) by mails.dpdk.org (Postfix) with ESMTP id 0AE704066D; Thu, 6 Feb 2025 06:59:59 +0100 (CET) Received: from mail-yb1-f226.google.com (mail-yb1-f226.google.com [209.85.219.226]) by mails.dpdk.org (Postfix) with ESMTP id 569844026C for ; Thu, 6 Feb 2025 06:59:58 +0100 (CET) Received: by mail-yb1-f226.google.com with SMTP id 3f1490d57ef6-e46ebe19489so359724276.2 for ; Wed, 05 Feb 2025 21:59:58 -0800 (PST) DKIM-Signature: v=1; a=rsa-sha256; c=relaxed/relaxed; d=iol.unh.edu; s=unh-iol; t=1738821597; x=1739426397; darn=dpdk.org; h=references:in-reply-to:cc:to:from:subject:message-id:date:from:to :cc:subject:date:message-id:reply-to; bh=KCJ4HzY30b6w/HIk+E2awXOL1xJJtTU0BakK9x+TH8E=; b=MHFUKmBY89YppcDw6k/yk8cqJUnHzna5XrkqzErdogRtLfVR3t5Gt7m5iCAOkW901S NWmYnSuvoOYvQgCJA63HVohgXyBxaT6oiVHOWc5MKVWLrkACLThOj6s9mQRz/OWEafO3 vn6FxKDG03BPhSwh0oDbuoAk3CzlGnzIaah3g= X-Google-DKIM-Signature: v=1; a=rsa-sha256; c=relaxed/relaxed; d=1e100.net; s=20230601; t=1738821597; x=1739426397; h=references:in-reply-to:cc:to:from:subject:message-id:date :x-gm-message-state:from:to:cc:subject:date:message-id:reply-to; bh=KCJ4HzY30b6w/HIk+E2awXOL1xJJtTU0BakK9x+TH8E=; b=v451NUMdVNnt0/nldpLF5OG8Vm+7bn5yao8wMGefYniN227c3ihyn6l7zLmofS6uQ6 L6f/5Ia/gBato/SyuhEZHDSisuHSItYEUKHIb08hXSDhSZirH3dXCIOV6+3xwYS024ZS tj85BtpnzT89OhawYqntV4TVk6b7OdLFmJgh1UJh5f+kKHaI9FvA3rfz4ly/xEWIfza3 Zu4Gk7JYr/MCY+KUOUkV8yK4T9yB4OsosuUDk/1zuTvEWaiRcupLZUYhPY6ruuEb8J54 0riFj6c3GPGOYm/9TyEdgLHtghn+7IbRTRSEMl5eitr2B7jS8jEm8IDRZrT0HXuSmSe5 Iikw== X-Gm-Message-State: AOJu0Yx+p/jCX/AwEwK1hSiVyPEFTt6Ct2Rh9UUyHwN8QDYYBiZ4kqn5 Ehae6yuPWz5wvdQsEhUzYbSUVb5E9PXabwQluF1exy/rjz8esBAxJq52NkQA5CIRT2aow4t6qg3 ZvfoafK+dMGWXN0NJG7e7BePjUGaRpzfOQ5BMJB1T X-Gm-Gg: ASbGncvkuNOdjYrZP34gS6Qtg3n8K0bzUYidIDipnQJ9fB6VEggXxvDVydYWSN2Iawr vYVmr2MolKmQJlaxdIP6MZ+KaIpICBbLlVQD9UcsQKheekoUFZnNnbRWvIdVwewRb6yx7UvckNh 3Y/NtKifaHK7K6AVw84krRWt9PmTdep1e+xF2RMcWuM3mJCGpkiHkzYOWUeH33yAsAIhVDhnNLY UbY6YmcZWtFbw8oPlRugVNI5mVwlD06vppi35lemMp2o1czU85quwaelKRDIDc9LNeAaZCuJOw3 oCuFsYQ7IC/Sdyn7CTv+WnaSzG7V7A== X-Google-Smtp-Source: AGHT+IEw2pTr/iCrBhv3gcnSdMEQwUUkl0dUUqHbAjTKIjdTOZB30qPnTejfr1gfnsYXUJAkPgd70MYUpAtY X-Received: by 2002:a05:6902:2708:b0:e57:9105:514 with SMTP id 3f1490d57ef6-e5b25c105f0mr5123263276.46.1738821597751; Wed, 05 Feb 2025 21:59:57 -0800 (PST) Received: from postal.iol.unh.edu (postal.iol.unh.edu. [132.177.123.84]) by smtp-relay.gmail.com with ESMTPS id 3f1490d57ef6-e5b3a205e77sm29670276.7.2025.02.05.21.59.57 (version=TLS1_2 cipher=ECDHE-ECDSA-AES128-GCM-SHA256 bits=128/128); Wed, 05 Feb 2025 21:59:57 -0800 (PST) X-Relaying-Domain: iol.unh.edu Date: Wed, 05 Feb 2025 21:59:57 -0800 (PST) Message-ID: <67a44fdd.250a0220.41b2b.1bf7SMTPIN_ADDED_MISSING@mx.google.com> Received: from [172.21.0.7] (unknown [172.18.0.240]) by postal.iol.unh.edu (Postfix) with ESMTP id 318E26052471; Thu, 6 Feb 2025 00:59:57 -0500 (EST) Subject: |SUCCESS| pw151039 [PATCH] [v7,1/1] graph: mcore: optimize graph sea From: dpdklab@iol.unh.edu To: Test Report Cc: dpdk-test-reports@iol.unh.edu In-Reply-To: <20250206025322.2182-1-chcchc88@163.com> References: <20250206025322.2182-1-chcchc88@163.com> Content-Type: text/plain X-BeenThere: test-report@dpdk.org X-Mailman-Version: 2.1.29 Precedence: list List-Id: automatic DPDK test reports List-Unsubscribe: , List-Archive: List-Post: List-Help: List-Subscribe: , Errors-To: test-report-bounces@dpdk.org Test-Label: iol-compile-amd64-testing Test-Status: SUCCESS http://dpdk.org/patch/151039 _Testing PASS_ Submitter: Huichao Cai Date: Thursday, February 06 2025 02:53:22 DPDK git baseline: Repo:dpdk Branch: master CommitID:32c18e7364e30a8e43cc7cc6709a7ce606fa285e 151039 --> testing pass Upstream job id: Generic-VM-DPDK-Compile-Meson#33082 Test environment and result as below: +---------------------+-------------------+--------------------+ | Environment | dpdk_msvc_compile | dpdk_meson_compile | +=====================+===================+====================+ | Windows Server 2022 | PASS | SKIPPED | +---------------------+-------------------+--------------------+ | FreeBSD 13.4 | SKIPPED | PASS | +---------------------+-------------------+--------------------+ | FreeBSD 14.2 | SKIPPED | PASS | +---------------------+-------------------+--------------------+ Windows Server 2022 Kernel: 10.0.20348.2031 Compiler: clang 15.0.7, gcc 14.1.0 (MinGW), and MSVC VS 19.39.33521 FreeBSD 13.4 Kernel: 13.4-RELEASE-p1 Compiler: clang 18.1.6 FreeBSD 14.2 Kernel: 14.2-RELEASE Compiler: clang 18.1.6 To view detailed results, visit: https://lab.dpdk.org/results/dashboard/patchsets/32508/ UNH-IOL DPDK Community Lab To manage your email subscriptions, visit: https://lab.dpdk.org/results/dashboard/preferences/subscriptions/