From mboxrd@z Thu Jan 1 00:00:00 1970 Return-Path: Received: from mails.dpdk.org (mails.dpdk.org [217.70.189.124]) by inbox.dpdk.org (Postfix) with ESMTP id 5BE21461A6 for ; Thu, 6 Feb 2025 07:29:05 +0100 (CET) Received: from mails.dpdk.org (localhost [127.0.0.1]) by mails.dpdk.org (Postfix) with ESMTP id 3CFD74066D; Thu, 6 Feb 2025 07:29:05 +0100 (CET) Received: from mail-qk1-f227.google.com (mail-qk1-f227.google.com [209.85.222.227]) by mails.dpdk.org (Postfix) with ESMTP id 7CB9B4026C for ; Thu, 6 Feb 2025 07:29:04 +0100 (CET) Received: by mail-qk1-f227.google.com with SMTP id af79cd13be357-7b6e9db19c8so42791285a.3 for ; Wed, 05 Feb 2025 22:29:04 -0800 (PST) DKIM-Signature: v=1; a=rsa-sha256; c=relaxed/relaxed; d=iol.unh.edu; s=unh-iol; t=1738823344; x=1739428144; darn=dpdk.org; h=references:in-reply-to:cc:to:from:subject:message-id:date:from:to :cc:subject:date:message-id:reply-to; bh=bv3YAtRfTcIRGTFAtRTDJ/lxfhaGcluKfxq3J9dBohc=; b=GMtfrftyBds0nqt+JZ0Qx3Yl3fN4q332pevQBBnIpKGGuKVTS6p04Ep96A0+twD13H 1gmJS6eLI7qlIaa5lbg2CgExYtJJwe+SlhWAyd/YZG4JlsQlJyQLS6wPAVJPonvGFJk5 fKAyq0bNxr2+iAhso8dBghuv6R3Hfpq/IJlQg= X-Google-DKIM-Signature: v=1; a=rsa-sha256; c=relaxed/relaxed; d=1e100.net; s=20230601; t=1738823344; x=1739428144; h=references:in-reply-to:cc:to:from:subject:message-id:date :x-gm-message-state:from:to:cc:subject:date:message-id:reply-to; bh=bv3YAtRfTcIRGTFAtRTDJ/lxfhaGcluKfxq3J9dBohc=; b=wBp4n5cYvnHKrPk03Al4XM1YZIYwb24E0nLccN+OEe5uPHXKpkZJY5stRM0m894N9q vuhCTTd8K/G3by5faPG2P7VwmehNevDvLHhRB7/+1zjtW4cTH6tyFHkRLfHFfBuCRvUx 36jB2NpxaxwzN1OqVMBX5cV28ZxozcEFIk3d3ZgJrjy9uIlDGmpHWPukJWjD3MWHpZbL 0+FnFPLi3PbtLHeGG8KkrjYiXK2SbOHBI2wvOAMijn6TI78KrpzygSpjJz5fD88DIa1B aPnBFxORd7l0GFb6DZmPbnHx0HqD1z/GamaWzJjLwoj++DetBxFk4JFsAYZQpuWZeVip BwGA== X-Gm-Message-State: AOJu0Yz7L1tApFwiOHsgfpwk9EBhTKyuybk0bvA2E6gKoDve7hzOSgzT HUdnsNYWx2TmPuG0fXovP25eeRx++3dB3jkQJSKEJp9SenzswIiz7fSJhaM76B7BI+De1Wjzf4H kCmI7sUoLn8zYrp+4k2bAKQxTsZm1J6lupPXUrP5q X-Gm-Gg: ASbGnctZ0Hbmx+I8mpL43FCn+BdcguZ6ZZtQbOYtbhJW8AC9RKOTi8nL47VNA3SrAlq DMsIcAYm8muSs1mUqnJBtVdXsm1ikYiY/IZnNfM6oZIshWaPxchR6r9aB5GBS3zbS8SoMAvT5Ms iMr4ukPhUouTAZXuACECoy4stvxlViqLTWZpHUQ6krQ4j8NogZidPRWQ01aSpMSDhWvmtCvKqNd GEAhFqP7bdpQCgyAmXpEgjpypu8086YtNUWvjPEdzAK3WGy9Jw9dNVZoIu/iydtavcaAiM/crgt qBcrSKEK49BZnU5xJzctUWXd3Hj74Q== X-Google-Smtp-Source: AGHT+IFo+uuT6FU59WHJepEuhMxFC6EDVtbu6dKRyKszISZjB5zINV7hFHsSiWwoOpl/wuYwHYRwICY7dzfv X-Received: by 2002:a05:620a:1a97:b0:7b1:45ac:86b7 with SMTP id af79cd13be357-7c039fc0c67mr772036685a.17.1738823343869; Wed, 05 Feb 2025 22:29:03 -0800 (PST) Received: from postal.iol.unh.edu (postal.iol.unh.edu. [132.177.123.84]) by smtp-relay.gmail.com with ESMTPS id d75a77b69052e-471492764a2sm262041cf.3.2025.02.05.22.29.03 (version=TLS1_2 cipher=ECDHE-ECDSA-AES128-GCM-SHA256 bits=128/128); Wed, 05 Feb 2025 22:29:03 -0800 (PST) X-Relaying-Domain: iol.unh.edu Date: Wed, 05 Feb 2025 22:29:03 -0800 (PST) Message-ID: <67a456af.050a0220.3732d6.18e2SMTPIN_ADDED_MISSING@mx.google.com> Received: from [172.21.0.7] (unknown [172.18.0.240]) by postal.iol.unh.edu (Postfix) with ESMTP id 85A516052471; Thu, 6 Feb 2025 01:29:03 -0500 (EST) Subject: |SUCCESS| pw151039 [PATCH] [v7,1/1] graph: mcore: optimize graph sea From: dpdklab@iol.unh.edu To: Test Report Cc: dpdk-test-reports@iol.unh.edu In-Reply-To: <20250206025322.2182-1-chcchc88@163.com> References: <20250206025322.2182-1-chcchc88@163.com> Content-Type: text/plain X-BeenThere: test-report@dpdk.org X-Mailman-Version: 2.1.29 Precedence: list List-Id: automatic DPDK test reports List-Unsubscribe: , List-Archive: List-Post: List-Help: List-Subscribe: , Errors-To: test-report-bounces@dpdk.org Test-Label: iol-compile-amd64-testing Test-Status: SUCCESS http://dpdk.org/patch/151039 _Testing PASS_ Submitter: Huichao Cai Date: Thursday, February 06 2025 02:53:22 DPDK git baseline: Repo:dpdk Branch: master CommitID:32c18e7364e30a8e43cc7cc6709a7ce606fa285e 151039 --> testing pass Upstream job id: Windows-Compile-DPDK-Native#26464 Test environment and result as below: +---------------------+-------------------+--------------------+-------------------------+ | Environment | dpdk_msvc_compile | dpdk_meson_compile | dpdk_llvm_clang_compile | +=====================+===================+====================+=========================+ | Windows Server 2022 | PASS | SKIPPED | PASS | +---------------------+-------------------+--------------------+-------------------------+ | FreeBSD 13.4 | SKIPPED | PASS | SKIPPED | +---------------------+-------------------+--------------------+-------------------------+ | FreeBSD 14.2 | SKIPPED | PASS | SKIPPED | +---------------------+-------------------+--------------------+-------------------------+ Windows Server 2022 Kernel: 10.0.20348.2031 Compiler: clang 15.0.7, gcc 14.1.0 (MinGW), and MSVC VS 19.39.33521 FreeBSD 13.4 Kernel: 13.4-RELEASE-p1 Compiler: clang 18.1.6 FreeBSD 14.2 Kernel: 14.2-RELEASE Compiler: clang 18.1.6 To view detailed results, visit: https://lab.dpdk.org/results/dashboard/patchsets/32508/ UNH-IOL DPDK Community Lab To manage your email subscriptions, visit: https://lab.dpdk.org/results/dashboard/preferences/subscriptions/