From mboxrd@z Thu Jan 1 00:00:00 1970 Return-Path: Received: from mails.dpdk.org (mails.dpdk.org [217.70.189.124]) by inbox.dpdk.org (Postfix) with ESMTP id 3CB9E461A6 for ; Thu, 6 Feb 2025 07:37:51 +0100 (CET) Received: from mails.dpdk.org (localhost [127.0.0.1]) by mails.dpdk.org (Postfix) with ESMTP id 11AE94066D; Thu, 6 Feb 2025 07:37:51 +0100 (CET) Received: from mail-pl1-f226.google.com (mail-pl1-f226.google.com [209.85.214.226]) by mails.dpdk.org (Postfix) with ESMTP id 7AA134026C for ; Thu, 6 Feb 2025 07:37:50 +0100 (CET) Received: by mail-pl1-f226.google.com with SMTP id d9443c01a7336-21f2f386cbeso9652425ad.0 for ; Wed, 05 Feb 2025 22:37:50 -0800 (PST) DKIM-Signature: v=1; a=rsa-sha256; c=relaxed/relaxed; d=iol.unh.edu; s=unh-iol; t=1738823869; x=1739428669; darn=dpdk.org; h=references:in-reply-to:cc:to:from:subject:message-id:date:from:to :cc:subject:date:message-id:reply-to; bh=LreXcUac0eUccZxepxWrnWbdav3nFKXCzKgo8ZNly3w=; b=YAnMZNBghVNgrVcnmUuxU7SXEr7wykVopIGxmId+fCARFIs5j/z8BgZispdztGOkzM cZC0XZnm4DzEd3VUXmhzu/2ZXAAMl7Y8aKVmkfR47tpdrphbi5T+sRkNqDgnegL5Lwkx JpSXnVMUEEYXZYwAFtYLBQN0QMsitGZgoaq9w= X-Google-DKIM-Signature: v=1; a=rsa-sha256; c=relaxed/relaxed; d=1e100.net; s=20230601; t=1738823869; x=1739428669; h=references:in-reply-to:cc:to:from:subject:message-id:date :x-gm-message-state:from:to:cc:subject:date:message-id:reply-to; bh=LreXcUac0eUccZxepxWrnWbdav3nFKXCzKgo8ZNly3w=; b=pt9HnyouAXe/qQGQsTrhivZrNG0wUpVwpPZ6j6uSAJgP3cG5M3yuSnxiJ+s3MSHqsX hB+QoWX5IWZEZ/YJ6F6u8WZzVkYrO6Vh/wDYzahXpawXAlypdE+gFraH9GocIRAYrbiP rc1E1tUlm0OgLizRIApMbWIh+eLv88XIXPxXhkdRuRxbQNa5XQkPetHIZ/TRTiWYT9h2 8Z79AWtQtF6TrAOQNR8oL5wdKw2VHYu027GQBym83xYzu/hdshogU7Xotnf/qpZo9VfQ UlU5xTpequc3haTAa2Acd5VG3PiWTBPzHhSAjnuQHANKtjur8pfhLbhuJ8Z7Cy5qQa9r SyAw== X-Gm-Message-State: AOJu0YzNQRYyDaEz7WSJzdz/ilXkvNQNUctEW46sew8sWOYm8/HluJPS 08p31IU6x3q9fTncKSqVJaO8EHXxRbamT6vxksJA56IZ83R76/Y7MzHEYhcQmBd96PEIi+uvMTY 9JHICEC7Z8GygHqNQdOTxmmE2zN5pCaeoIQF0m16m X-Gm-Gg: ASbGncs/Bt/RSS44BkumDFPCJwZFsIe32LX0hAZIcJK81Jq+pnSiap3gc6zFDlygQ8f OsfBo2yMoX1OsUELC5aNc0RvaGQ4fFAlkT3bR/SDe6Enu8ujzwQa+94ZJzsaGsKrHJ64T9OdNiE WtIk4iRxVgtI3VleN2nrdOQf7zl+veoLmj1Dic1sGPWniJ7OVi7O+B9HRRZ7nTgTjy0I5YhAERF As18P5eoKdBRHDY1M8xYQCK77B/ZUe9Gdc1SWIJoB4YQRXp2IReQtpuoCUXy4uHHxmh1poby904 jBeNqEOnGIjenrlTMxGCYSdOcwce5w== X-Google-Smtp-Source: AGHT+IHF8IRl4375fg+0NErtKBVVrn6IxsfL/oW3yChV/mjgyb37A8fRSWaFKi3yWQJH5pYUwaxucHhIcrTN X-Received: by 2002:a17:903:19c6:b0:216:668d:690c with SMTP id d9443c01a7336-21f17e29a35mr120225985ad.28.1738823869234; Wed, 05 Feb 2025 22:37:49 -0800 (PST) Received: from postal.iol.unh.edu (postal.iol.unh.edu. [132.177.123.84]) by smtp-relay.gmail.com with ESMTPS id d9443c01a7336-21f3653bc87sm70495ad.39.2025.02.05.22.37.49 (version=TLS1_2 cipher=ECDHE-ECDSA-AES128-GCM-SHA256 bits=128/128); Wed, 05 Feb 2025 22:37:49 -0800 (PST) X-Relaying-Domain: iol.unh.edu Date: Wed, 05 Feb 2025 22:37:49 -0800 (PST) Message-ID: <67a458bd.170a0220.1dcab1.063fSMTPIN_ADDED_MISSING@mx.google.com> Received: from [172.21.0.5] (unknown [172.18.0.240]) by postal.iol.unh.edu (Postfix) with ESMTP id 607B06052471; Thu, 6 Feb 2025 01:37:48 -0500 (EST) Subject: |SUCCESS| pw151008-151011 [PATCH] [v5,4/4] lib: change find device a From: dpdklab@iol.unh.edu To: Test Report Cc: dpdk-test-reports@iol.unh.edu In-Reply-To: <20250206000838.23428-5-shperetz@nvidia.com> References: <20250206000838.23428-5-shperetz@nvidia.com> Content-Type: text/plain X-BeenThere: test-report@dpdk.org X-Mailman-Version: 2.1.29 Precedence: list List-Id: automatic DPDK test reports List-Unsubscribe: , List-Archive: List-Post: List-Help: List-Subscribe: , Errors-To: test-report-bounces@dpdk.org Test-Label: iol-unit-amd64-testing Test-Status: SUCCESS http://dpdk.org/patch/151011 _Testing PASS_ Submitter: Shani Peretz Date: Thursday, February 06 2025 00:08:38 DPDK git baseline: Repo:dpdk Branch: master CommitID:32c18e7364e30a8e43cc7cc6709a7ce606fa285e 151008-151011 --> testing pass Upstream job id: Generic-Unit-Test-DPDK#312090 Test environment and result as below: +---------------------+----------------+ | Environment | dpdk_unit_test | +=====================+================+ | Debian 12 | PASS | +---------------------+----------------+ | Debian Bullseye | PASS | +---------------------+----------------+ | CentOS Stream 9 | PASS | +---------------------+----------------+ | Fedora 40 | PASS | +---------------------+----------------+ | Fedora 41 (Clang) | PASS | +---------------------+----------------+ | Fedora 40 (Clang) | PASS | +---------------------+----------------+ | Fedora 41 | PASS | +---------------------+----------------+ | RHEL8 | PASS | +---------------------+----------------+ | RHEL9 | PASS | +---------------------+----------------+ | Ubuntu 22.04 | PASS | +---------------------+----------------+ | Ubuntu 20.04 | PASS | +---------------------+----------------+ | Ubuntu 24.04 | PASS | +---------------------+----------------+ | Windows Server 2022 | PASS | +---------------------+----------------+ Debian 12 Kernel: Depends on container host Compiler: gcc (Debian 12.2.0-14) 12.2.0 Debian Bullseye Kernel: Depends on container host Compiler: gcc (Debian 10.2.1-6) 10.2.1 20210110 CentOS Stream 9 Kernel: Depends on container host Compiler: gcc 11.5.0 20240719 (Red Hat 11.5.0-2) Fedora 40 Kernel: Depends on container host Compiler: gcc 14.2.1 20240912 (Red Hat 14.2.1-3) Fedora 41 (Clang) Kernel: Depends on container host Compiler: clang 19.1.5 (Fedora 19.1.5-1.fc41) Fedora 40 (Clang) Kernel: Depends on container host Compiler: clang 18.1.8 (Fedora 18.1.8-1.fc40) Fedora 41 Kernel: Depends on container host Compiler: gcc 14.2.1 20240912 (Red Hat 14.2.1-3) RHEL8 Kernel: Depends on container host Compiler: gcc 8.5.0 20210514 (Red Hat 8.5.0-22) RHEL9 Kernel: Depends on container host Compiler: gcc 11.5.0 20240719 (Red Hat 11.5.0-2) Ubuntu 22.04 Kernel: Depends on container host Compiler: gcc (Ubuntu 11.4.0-1ubuntu1~22.04) 11.4.0 Ubuntu 20.04 Kernel: Depends on container host Compiler: gcc (Ubuntu 9.4.0-1ubuntu1~20.04.2) 9.4.0 Ubuntu 24.04 Kernel: Depends on container host Compiler: gcc (Ubuntu 13.3.0-6ubuntu2~24.04) 13.3.0 Windows Server 2022 Kernel: 10.0.20348.2031 Compiler: clang 15.0.7, gcc 14.1.0 (MinGW), and MSVC VS 19.39.33521 To view detailed results, visit: https://lab.dpdk.org/results/dashboard/patchsets/32506/ UNH-IOL DPDK Community Lab To manage your email subscriptions, visit: https://lab.dpdk.org/results/dashboard/preferences/subscriptions/