From mboxrd@z Thu Jan 1 00:00:00 1970 Return-Path: Received: from mails.dpdk.org (mails.dpdk.org [217.70.189.124]) by inbox.dpdk.org (Postfix) with ESMTP id 37D22461A6 for ; Thu, 6 Feb 2025 07:43:31 +0100 (CET) Received: from mails.dpdk.org (localhost [127.0.0.1]) by mails.dpdk.org (Postfix) with ESMTP id 290304066D; Thu, 6 Feb 2025 07:43:31 +0100 (CET) Received: from mail-qv1-f100.google.com (mail-qv1-f100.google.com [209.85.219.100]) by mails.dpdk.org (Postfix) with ESMTP id 8C2FF4026C for ; Thu, 6 Feb 2025 07:43:29 +0100 (CET) Received: by mail-qv1-f100.google.com with SMTP id 6a1803df08f44-6ddcff5a823so4716276d6.0 for ; Wed, 05 Feb 2025 22:43:29 -0800 (PST) DKIM-Signature: v=1; a=rsa-sha256; c=relaxed/relaxed; d=iol.unh.edu; s=unh-iol; t=1738824209; x=1739429009; darn=dpdk.org; h=references:in-reply-to:cc:to:from:subject:message-id:date:from:to :cc:subject:date:message-id:reply-to; bh=+2YXF87caPVRa5jKn9RyTtC1IXIFLWlGBF36emQpzTg=; b=Xc6Gnzwx5yC3X8pTcGT9BEtoBqCqJvknzJHz9Ia9rN/OX8G+RHWmm5cGIJ5pDCw//J rav8REP6dCsAox2V694rJ/F1qp3ZIjbXhHIkr78klaOL0zittfljrmv7G8pYzQJIXFzv J47fmRIl+/L6GeDeld6ed+MJpph83JS+WnVwg= X-Google-DKIM-Signature: v=1; a=rsa-sha256; c=relaxed/relaxed; d=1e100.net; s=20230601; t=1738824209; x=1739429009; h=references:in-reply-to:cc:to:from:subject:message-id:date :x-gm-message-state:from:to:cc:subject:date:message-id:reply-to; bh=+2YXF87caPVRa5jKn9RyTtC1IXIFLWlGBF36emQpzTg=; b=iHRDt9R72toIsvYWQFeGc5oynh0DSLk9DRVE5DramFHBrGSqGwhr94Q9e1U6x9aRmR 3kBBTluK56xpmm2Ppxq9yjHqo87Lv8WvwQ1GnrMLtFyru9AwCz6lCYSG3pwadpUFwcK5 1yyTYp/EX8FubcEYzTY9zkNuTBo8r2/OVgtCk/ULP3Waub98t5BJda8UaKg9Hj4My9VW RiYCo6P7keZG+8dA9NJPsbkHML5brUj19+k+cqCyJ5F+15oJFecK2vMXkRake/TivxYR 52H5jZ11T5Li2mO0wORco/4apfuHt2xjlgv9x8qUP0PkLvqeurZi+Hbu5d1uSGM+GhJN BWPA== X-Gm-Message-State: AOJu0YxzKPj38sOOZkzHakbzSvjUhwnkHgeTZjVhIAbNgAe+Kna7qmMM 4mt+5U0XkFFPrHloQXUdNW8+eqv1te9egViysYOwAFA8Wv56jjCFWdgVCf5IioD71izSfn9x0H+ Y6CFrRoc+PTREEcv9Korz7uP1sDef/f9Zqq6qBzR2 X-Gm-Gg: ASbGnct/xklZ2NjeLJDNTyYub6+uJGFESQQL+0YLSMmqnwfWdQuQaaugqZNnYPMiRbo h1zTqEghLG2aVePuKEgNXoETe+R88FjfRkqX24E04+/6Ayd9X/k8fo8gujqgQcOEWSKI40YdkA5 gy3gUMDBFjNwg7AIs16N5mwedtcRKaj8Z2SHzgIJQPTHY74Yrg7cjMtUgtVZYsXPu/65gb0QrSP c6GHFB2erJW3SO+N46abETsQveEBuuWbbWOf3zCU1FgnipY9ZiXFW1xh+072aBe9pf+ZSJnpjYG LfGzoV1mptt6QOCSPN3yPCCllW7sGw== X-Google-Smtp-Source: AGHT+IGPFnunLC0HzGW2POU+lxK4nr2RCjuKpzl3QahB9SHVLtXY7N924Ey66NKUBXmxnp2j54cckP6HGeQQ X-Received: by 2002:a0c:e948:0:b0:6e4:3455:a554 with SMTP id 6a1803df08f44-6e43455a7e9mr39813576d6.45.1738824209009; Wed, 05 Feb 2025 22:43:29 -0800 (PST) Received: from postal.iol.unh.edu (postal.iol.unh.edu. [132.177.123.84]) by smtp-relay.gmail.com with ESMTPS id 6a1803df08f44-6e43ba33d55sm453676d6.2.2025.02.05.22.43.28 (version=TLS1_2 cipher=ECDHE-ECDSA-AES128-GCM-SHA256 bits=128/128); Wed, 05 Feb 2025 22:43:29 -0800 (PST) X-Relaying-Domain: iol.unh.edu Date: Wed, 05 Feb 2025 22:43:29 -0800 (PST) Message-ID: <67a45a10.d40a0220.32298c.2a95SMTPIN_ADDED_MISSING@mx.google.com> Received: from [172.21.0.5] (unknown [172.18.0.240]) by postal.iol.unh.edu (Postfix) with ESMTP id B0D866052471; Thu, 6 Feb 2025 01:43:28 -0500 (EST) Subject: |SUCCESS| pw151007 [PATCH] [v4] drivers/net: use 64-bit shift and av From: dpdklab@iol.unh.edu To: Test Report Cc: dpdk-test-reports@iol.unh.edu In-Reply-To: <1738783944-10172-1-git-send-email-andremue@linux.microsoft.com> References: <1738783944-10172-1-git-send-email-andremue@linux.microsoft.com> Content-Type: text/plain X-BeenThere: test-report@dpdk.org X-Mailman-Version: 2.1.29 Precedence: list List-Id: automatic DPDK test reports List-Unsubscribe: , List-Archive: List-Post: List-Help: List-Subscribe: , Errors-To: test-report-bounces@dpdk.org Test-Label: iol-unit-arm64-testing Test-Status: SUCCESS http://dpdk.org/patch/151007 _Testing PASS_ Submitter: Andre Muezerie Date: Wednesday, February 05 2025 19:32:24 DPDK git baseline: Repo:dpdk Branch: master CommitID:e595e7b5758fc73d99b810f5a8748f94bd467084 151007 --> testing pass Upstream job id: Generic-Unit-Test-DPDK#311967 Test environment and result as below: +-----------------------------+----------------+--------------+------------------------------+---------------------------+ | Environment | dpdk_unit_test | lpm_autotest | cryptodev_sw_snow3g_autotest | cryptodev_sw_zuc_autotest | +=============================+================+==============+==============================+===========================+ | Fedora 40 (ARM) | PASS | SKIPPED | SKIPPED | SKIPPED | +-----------------------------+----------------+--------------+------------------------------+---------------------------+ | Fedora 40 (ARM Clang) | PASS | SKIPPED | SKIPPED | SKIPPED | +-----------------------------+----------------+--------------+------------------------------+---------------------------+ | CentOS Stream 9 (ARM) | PASS | SKIPPED | SKIPPED | SKIPPED | +-----------------------------+----------------+--------------+------------------------------+---------------------------+ | Fedora 41 (ARM Clang) | PASS | SKIPPED | SKIPPED | SKIPPED | +-----------------------------+----------------+--------------+------------------------------+---------------------------+ | Debian 12 (arm) | PASS | SKIPPED | PASS | PASS | +-----------------------------+----------------+--------------+------------------------------+---------------------------+ | Fedora 41 (ARM) | PASS | SKIPPED | SKIPPED | SKIPPED | +-----------------------------+----------------+--------------+------------------------------+---------------------------+ | Debian 11 (Buster) (ARM) | PASS | SKIPPED | SKIPPED | SKIPPED | +-----------------------------+----------------+--------------+------------------------------+---------------------------+ | RHEL9 (ARM) | PASS | SKIPPED | SKIPPED | SKIPPED | +-----------------------------+----------------+--------------+------------------------------+---------------------------+ | Ubuntu 22.04 (ARM) | PASS | SKIPPED | SKIPPED | SKIPPED | +-----------------------------+----------------+--------------+------------------------------+---------------------------+ | Ubuntu 24.04 (ARM) | PASS | SKIPPED | SKIPPED | SKIPPED | +-----------------------------+----------------+--------------+------------------------------+---------------------------+ | Ubuntu 20.04 (ARM) | PASS | SKIPPED | SKIPPED | SKIPPED | +-----------------------------+----------------+--------------+------------------------------+---------------------------+ | 32-bit Ubuntu 22.04.4 (ARM) | PASS | SKIPPED | SKIPPED | SKIPPED | +-----------------------------+----------------+--------------+------------------------------+---------------------------+ | Ubuntu 20.04 ARM SVE | SKIPPED | PASS | SKIPPED | SKIPPED | +-----------------------------+----------------+--------------+------------------------------+---------------------------+ Fedora 40 (ARM) Kernel: Depends on container host Compiler: gcc 14.2.1 20240912 (Red Hat 14.2.1-3) Fedora 40 (ARM Clang) Kernel: Depends on container host Compiler: clang 18.1.8 (Fedora 18.1.8-1.fc40) CentOS Stream 9 (ARM) Kernel: Depends on container host Compiler: gcc 11.5.0 20240719 (Red Hat 11.5.0-2) Fedora 41 (ARM Clang) Kernel: Depends on container host Compiler: clang 19.1.5 (Fedora 19.1.5-1.fc41) Debian 12 (arm) Kernel: Depends on container host Compiler: gcc (Debian 12.2.0-14) 12.2.0 Fedora 41 (ARM) Kernel: Depends on container host Compiler: gcc 14.2.1 20240912 (Red Hat 14.2.1-3) Debian 11 (Buster) (ARM) Kernel: Depends on container host Compiler: gcc (Debian 10.2.1-6) 10.2.1 20210110 RHEL9 (ARM) Kernel: Depends on container host Compiler: gcc 11.5.0 20240719 (Red Hat 11.5.0-2) Ubuntu 22.04 (ARM) Kernel: Depends on container host Compiler: gcc (Ubuntu 11.4.0-1ubuntu1~22.04) 11.4.0 Ubuntu 24.04 (ARM) Kernel: Depends on container host Compiler: gcc (Ubuntu 13.3.0-6ubuntu2~24.04) 13.3.0 Ubuntu 20.04 (ARM) Kernel: Depends on container host Compiler: gcc (Ubuntu 9.4.0-1ubuntu1~20.04.2) 9.4.0 32-bit Ubuntu 22.04.4 (ARM) Kernel: 5.15.83+ aarch64 Compiler: gcc (Ubuntu 11.4.0-1ubuntu1~22.04) 11.4.0 Ubuntu 20.04 ARM SVE Kernel: Depends on container host Compiler: gcc (Ubuntu 10.5.0-1ubuntu1~20.04) 10.5.0 To view detailed results, visit: https://lab.dpdk.org/results/dashboard/patchsets/32505/ UNH-IOL DPDK Community Lab To manage your email subscriptions, visit: https://lab.dpdk.org/results/dashboard/preferences/subscriptions/