From mboxrd@z Thu Jan 1 00:00:00 1970 Return-Path: Received: from mails.dpdk.org (mails.dpdk.org [217.70.189.124]) by inbox.dpdk.org (Postfix) with ESMTP id 68858461A6 for ; Thu, 6 Feb 2025 07:51:42 +0100 (CET) Received: from mails.dpdk.org (localhost [127.0.0.1]) by mails.dpdk.org (Postfix) with ESMTP id 627A94066D; Thu, 6 Feb 2025 07:51:42 +0100 (CET) Received: from mail-qv1-f97.google.com (mail-qv1-f97.google.com [209.85.219.97]) by mails.dpdk.org (Postfix) with ESMTP id A08E34026C for ; Thu, 6 Feb 2025 07:51:40 +0100 (CET) Received: by mail-qv1-f97.google.com with SMTP id 6a1803df08f44-6dfbc45355bso7130626d6.2 for ; Wed, 05 Feb 2025 22:51:40 -0800 (PST) DKIM-Signature: v=1; a=rsa-sha256; c=relaxed/relaxed; d=iol.unh.edu; s=unh-iol; t=1738824700; x=1739429500; darn=dpdk.org; h=cc:to:from:subject:message-id:date:from:to:cc:subject:date :message-id:reply-to; bh=cAAZCF1hbh0ywA9qNGo3/tsWg6ab5kidnwPtH54GOaQ=; b=SJs67EEr0eCkBFEdNaVfzxtyxNCClYnqkqLDf5ORq5o2RxTeD18oXh+kDzKm0spZ3L QMbm2dG/nMqmozvY49MAZMrWPjrHYx7/TMN6UkKhA39cH+/4jiCkqMkxUqcE4UWWAjqA TuxqoRr7mlYGwww3baxs9bICgTZOc4QIlBH/0= X-Google-DKIM-Signature: v=1; a=rsa-sha256; c=relaxed/relaxed; d=1e100.net; s=20230601; t=1738824700; x=1739429500; h=cc:to:from:subject:message-id:date:x-gm-message-state:from:to:cc :subject:date:message-id:reply-to; bh=cAAZCF1hbh0ywA9qNGo3/tsWg6ab5kidnwPtH54GOaQ=; b=XY47N8pW2UjSK+WP/CELmySH/maFzYt5yRGOHaeGftOWb51lcjy6AQu94aZ6aQeawM y0ZLekRDEmSNLbktS3GBfGfUxaSTsKG6vvGFz+XOlaph17684hTz2AX9nL4AcdSplyTn /jVUwc+pACKfxkpMrXNec9Ld0tPV4V4/x0Or3F0jaIgBp9MI4JtZ3He6vLejHBEwaMhq PyMRnuuybuTksvRSN2z/WU5uPYZ/zsvM2MWaykriEVJTlHd/vLWzfk3R0AtIoABtmxyy A/Gw3BfWV48SbE2oIWch+invJDN1lZMAka54z8rPWL/O93k5EYNW8TfA2/gH64cLso5Y sYJQ== X-Gm-Message-State: AOJu0YyBngzt4FczfmlMBYqYPhgOqPvPb7Ln3LbxrOSHrYXdm28vPvNA 6ZlGsCcRyuh83tCUMlU4T6RFDENrSXdPzIQtGZbDyors0DlUsb+d999rZVOkyUlguF/MjtojFG+ OcRYr6JVZ80/fA/CI2OHoAp98BMxQHCqG X-Gm-Gg: ASbGncsWfQ4mdziJrj9CmIvq5rFuCsjqYuLgwxguInOVvwDpen/Qz4h02Cq6OLoPYMK fDQalqcPefvLhoW1yftGx1rePrP2JbIYHlniMkzhSOzWuuPkX32JgFnESKwFgsawugm2nxRtQp6 GyBRmCqRipYSohb/2WoRmTsq+KptccCb51umAKVDM/rzLrLQUVLPEvkkBTgVFM0RgOAeR1ItdwK s1DDhMFywWh1/2gErbJu6BT04S/uNcK/F0MqMHHGFL2PgHZr9/hamNK97O9WmKWgxclQwSItFvl IKnEwuHn3OgAHSSaNkuLzEBLJrK8sQ== X-Google-Smtp-Source: AGHT+IFaRurkDlp+VdeQVPcvBBplpmQlQyeHM41NRKWCNAkum/uqsbvpe0i6BYawEheMI9sdwCjIz1KRV9XV X-Received: by 2002:ad4:574f:0:b0:6e4:3fb2:538a with SMTP id 6a1803df08f44-6e43fb255f5mr310466d6.42.1738824699981; Wed, 05 Feb 2025 22:51:39 -0800 (PST) Received: from postal.iol.unh.edu (postal.iol.unh.edu. [132.177.123.84]) by smtp-relay.gmail.com with ESMTPS id 6a1803df08f44-6e43bb0cc08sm455906d6.63.2025.02.05.22.51.39 (version=TLS1_2 cipher=ECDHE-ECDSA-AES128-GCM-SHA256 bits=128/128); Wed, 05 Feb 2025 22:51:40 -0800 (PST) X-Relaying-Domain: iol.unh.edu Date: Wed, 05 Feb 2025 22:51:40 -0800 (PST) Message-ID: <67a45bfc.050a0220.3867de.2a6fSMTPIN_ADDED_MISSING@mx.google.com> Received: from [172.21.0.5] (unknown [172.18.0.240]) by postal.iol.unh.edu (Postfix) with ESMTP id BCC826052471; Thu, 6 Feb 2025 01:51:39 -0500 (EST) Subject: |SUCCESS| [GIT MASTER] f2eea2f37a82bb73fb01d56350708f7d70e21379 From: dpdklab@iol.unh.edu To: Test Report Cc: dpdk-test-reports@iol.unh.edu, Xueming Li , Christian Ehrhardt , Kevin Traynor , Luca Boccassi Content-Type: text/plain X-BeenThere: test-report@dpdk.org X-Mailman-Version: 2.1.29 Precedence: list List-Id: automatic DPDK test reports List-Unsubscribe: , List-Archive: List-Post: List-Help: List-Subscribe: , Errors-To: test-report-bounces@dpdk.org _Testing PASS_ Branch: tags/v24.11 f2eea2f37a82bb73fb01d56350708f7d70e21379 --> testing pass Upstream job id: Generic-VM-DPDK-Compile-Meson#33083 Test environment and result as below: +---------------------+-------------------+--------------------+ | Environment | dpdk_msvc_compile | dpdk_meson_compile | +=====================+===================+====================+ | Windows Server 2022 | PASS | SKIPPED | +---------------------+-------------------+--------------------+ | FreeBSD 13.4 | SKIPPED | PASS | +---------------------+-------------------+--------------------+ | FreeBSD 14.2 | SKIPPED | PASS | +---------------------+-------------------+--------------------+ Windows Server 2022 Kernel: 10.0.20348.2031 Compiler: clang 15.0.7, gcc 14.1.0 (MinGW), and MSVC VS 19.39.33521 FreeBSD 13.4 Kernel: 13.4-RELEASE-p1 Compiler: clang 18.1.6 FreeBSD 14.2 Kernel: 14.2-RELEASE Compiler: clang 18.1.6 To view detailed results, visit: https://lab.dpdk.org/results/dashboard/tarballs/32466/ UNH-IOL DPDK Community Lab To manage your email subscriptions, visit: https://lab.dpdk.org/results/dashboard/preferences/subscriptions/