From mboxrd@z Thu Jan 1 00:00:00 1970 Return-Path: Received: from mails.dpdk.org (mails.dpdk.org [217.70.189.124]) by inbox.dpdk.org (Postfix) with ESMTP id B1D96461A6 for ; Thu, 6 Feb 2025 07:52:59 +0100 (CET) Received: from mails.dpdk.org (localhost [127.0.0.1]) by mails.dpdk.org (Postfix) with ESMTP id AC5344066D; Thu, 6 Feb 2025 07:52:59 +0100 (CET) Received: from mail-pl1-f226.google.com (mail-pl1-f226.google.com [209.85.214.226]) by mails.dpdk.org (Postfix) with ESMTP id 26B2E4026C for ; Thu, 6 Feb 2025 07:52:58 +0100 (CET) Received: by mail-pl1-f226.google.com with SMTP id d9443c01a7336-21670dce0a7so14046805ad.1 for ; Wed, 05 Feb 2025 22:52:58 -0800 (PST) DKIM-Signature: v=1; a=rsa-sha256; c=relaxed/relaxed; d=iol.unh.edu; s=unh-iol; t=1738824777; x=1739429577; darn=dpdk.org; h=cc:to:from:subject:message-id:date:from:to:cc:subject:date :message-id:reply-to; bh=+tT4O2HadBnhKa4K6zu8B6WnwZObHimnwHNysrzNaYo=; b=iPJp9ZtXSZkPyj1PMXcvA8bnSdclXxFKhvPeeTdtWWdl0YrNDtVLd4N3CkK8kQHCda c/Zfq2QJcSm81Lj28QW3Nrxn+KOjqO0YLh9DiwMv0tinJ3EpYenMzmRz9Sd2sfE8lwaA JMXBP4wwPxSwxnuyEIE2AakKaVfaI3zGhG4Fk= X-Google-DKIM-Signature: v=1; a=rsa-sha256; c=relaxed/relaxed; d=1e100.net; s=20230601; t=1738824777; x=1739429577; h=cc:to:from:subject:message-id:date:x-gm-message-state:from:to:cc :subject:date:message-id:reply-to; bh=+tT4O2HadBnhKa4K6zu8B6WnwZObHimnwHNysrzNaYo=; b=GAB6lYVrPacZLS7wNgxCzrzUwXrTe20m53pYsT/88+btnsVZ22w6ceibA/yQd47Fzp 7KM7GVxm+K9mVwtj+bPs6ysdEcM0EbFMU4XRPapcJzi2RMXZmH/0ItU+T632qycjg0o4 cnasfpZBFFn0iydsev8WoAPlRivRs8o9QcqkVi6wsy+AbiWPURd1cf8hG/CnFuyu1onA cMNaJeVW/35V0E0hObo88R1v1b5dxY/6x4YXBWE5Ocdsq8ZAEmbCiti8jF+u2hjpEkOD dkoGobxCwhiec/xJkmQHdkrmQ7GGtAzfFstgA/Ho31zVzS/Ej9gnAsxStxtLOyMJuaK6 ovRg== X-Gm-Message-State: AOJu0YxqjY6gQZjMuP/QJyy4cSZojb+JmXWTo+qk8hnHnsFAGwq4fHwJ 0kVweS8uTLcI6drzitBWD9c2s1X81mLvDy0nd8oljmbELLu0fDyrsFqhTAsNrCoZBuwMYTX6Xwq VGjE8tDu+/RUjWrBAlPtvHAPPgBlLliwy X-Gm-Gg: ASbGncsWbTTkvLERbie8r4sSZ6wtzR46R3FzrrsF6QaSmzEDk3QrnDnjUxcrazRiOwi wIeFy/FHOFTGa0p4khgf51sYQWwIX7Ad6pRSUbNNd0UEUHXAAussltYNlRMASjklr4r+8uyPfPz erp9GJSVX/bKByGjs7afp+SqYQ8US9iCZsfN70+NilBq5tPfwnzYNKlZRX3qPefSwKyfOR9gIh1 GI9eNd1M2+pCCOZY+BpcABdiEKGIYLISKlSyxbb8G+SWE7M5UckUvsnmBAf8u0xfGSLkJ/txvp4 hhgZkHpVjaQAlYHPWwN+8iWnGhEn5g== X-Google-Smtp-Source: AGHT+IHLcBuyR0s6SUc6F+np0WwH1lbIdNKVHmuOggb/IPN6f6QlgkGZD4Ug/gqNOlAsoCvtaEc/pbUg32G2 X-Received: by 2002:a17:903:1a2f:b0:216:2477:e4d3 with SMTP id d9443c01a7336-21f17eed9f9mr109032645ad.51.1738824777367; Wed, 05 Feb 2025 22:52:57 -0800 (PST) Received: from postal.iol.unh.edu (postal.iol.unh.edu. [132.177.123.84]) by smtp-relay.gmail.com with ESMTPS id d9443c01a7336-21f36877ed4sm84165ad.113.2025.02.05.22.52.57 (version=TLS1_2 cipher=ECDHE-ECDSA-AES128-GCM-SHA256 bits=128/128); Wed, 05 Feb 2025 22:52:57 -0800 (PST) X-Relaying-Domain: iol.unh.edu Date: Wed, 05 Feb 2025 22:52:57 -0800 (PST) Message-ID: <67a45c49.170a0220.16c257.077cSMTPIN_ADDED_MISSING@mx.google.com> Received: from [172.21.0.6] (unknown [172.18.0.240]) by postal.iol.unh.edu (Postfix) with ESMTP id CD8FC6052471; Thu, 6 Feb 2025 01:52:56 -0500 (EST) Subject: |SUCCESS| [GIT MASTER] f2eea2f37a82bb73fb01d56350708f7d70e21379 From: dpdklab@iol.unh.edu To: Test Report Cc: dpdk-test-reports@iol.unh.edu, Xueming Li , Christian Ehrhardt , Kevin Traynor , Luca Boccassi Content-Type: text/plain X-BeenThere: test-report@dpdk.org X-Mailman-Version: 2.1.29 Precedence: list List-Id: automatic DPDK test reports List-Unsubscribe: , List-Archive: List-Post: List-Help: List-Subscribe: , Errors-To: test-report-bounces@dpdk.org _Testing PASS_ Branch: tags/v24.11 f2eea2f37a82bb73fb01d56350708f7d70e21379 --> testing pass Upstream job id: Generic-VM-DPDK-Compile-Meson#33084 Test environment and result as below: +---------------------+-------------------+--------------------+ | Environment | dpdk_msvc_compile | dpdk_meson_compile | +=====================+===================+====================+ | Windows Server 2022 | PASS | SKIPPED | +---------------------+-------------------+--------------------+ | FreeBSD 13.4 | SKIPPED | PASS | +---------------------+-------------------+--------------------+ | FreeBSD 14.2 | SKIPPED | PASS | +---------------------+-------------------+--------------------+ Windows Server 2022 Kernel: 10.0.20348.2031 Compiler: clang 15.0.7, gcc 14.1.0 (MinGW), and MSVC VS 19.39.33521 FreeBSD 13.4 Kernel: 13.4-RELEASE-p1 Compiler: clang 18.1.6 FreeBSD 14.2 Kernel: 14.2-RELEASE Compiler: clang 18.1.6 To view detailed results, visit: https://lab.dpdk.org/results/dashboard/tarballs/32466/ UNH-IOL DPDK Community Lab To manage your email subscriptions, visit: https://lab.dpdk.org/results/dashboard/preferences/subscriptions/