From mboxrd@z Thu Jan 1 00:00:00 1970 Return-Path: Received: from mails.dpdk.org (mails.dpdk.org [217.70.189.124]) by inbox.dpdk.org (Postfix) with ESMTP id 362C3461A6 for ; Thu, 6 Feb 2025 07:55:44 +0100 (CET) Received: from mails.dpdk.org (localhost [127.0.0.1]) by mails.dpdk.org (Postfix) with ESMTP id 2EC004066D; Thu, 6 Feb 2025 07:55:44 +0100 (CET) Received: from mail-qk1-f227.google.com (mail-qk1-f227.google.com [209.85.222.227]) by mails.dpdk.org (Postfix) with ESMTP id 1EA374026C for ; Thu, 6 Feb 2025 07:55:42 +0100 (CET) Received: by mail-qk1-f227.google.com with SMTP id af79cd13be357-7be3f230436so42828685a.3 for ; Wed, 05 Feb 2025 22:55:42 -0800 (PST) DKIM-Signature: v=1; a=rsa-sha256; c=relaxed/relaxed; d=iol.unh.edu; s=unh-iol; t=1738824941; x=1739429741; darn=dpdk.org; h=cc:to:from:subject:message-id:date:from:to:cc:subject:date :message-id:reply-to; bh=d+Fzwix6iKReLsexiSqUCzKpGbNaZX0qG5Gq+ByY9NQ=; b=Mm8xmpu6XN0k0a90PgtBzpyOFQyS1rBgT2TL7j3n10ST+NMKTj5rKWqccdtJekMmJ9 0PuOugQdvQWhZlBoDSvIWmwNrI0V/FaYpHorKM20c+AN1FpdPZ+IfVuWQGPQwfMAW1OE bTf4+fUuF3e8Ydn3gFTbimUPo7gEIt6+d/6ws= X-Google-DKIM-Signature: v=1; a=rsa-sha256; c=relaxed/relaxed; d=1e100.net; s=20230601; t=1738824941; x=1739429741; h=cc:to:from:subject:message-id:date:x-gm-message-state:from:to:cc :subject:date:message-id:reply-to; bh=d+Fzwix6iKReLsexiSqUCzKpGbNaZX0qG5Gq+ByY9NQ=; b=WDsyaf3UlVhmRDGnjhb1nqFA+olL86yTnDWd1f5KewvOIJQIiOglvBtxUC51yMS3XT KeCS0Gyf+sgIAoaPQiBUfiX6Gx35X/K8cfVbSZ3v9oBEUdNizABoVeNFBVWP5DCtO+kZ k/oAOPXru8UoD5drC5WS/G1e3H18RAImFI+OuP5nO1zPAuwIwYFPiefY7mfvA0x/T+M9 ke7o+UW/IWd76euEbBRguiD0scvAVbRD9zbE94Vb804jUDaqfLDuUQb2OJGb6CaPGNFO djCVs7ANRDklH90EyBc99Py+l2cyYGFMsCxElhmrbE98lbCwxqoUwvkCORIsXiDJrCei iYPg== X-Gm-Message-State: AOJu0Yw6+3Mm8TGAvj1s2SuPAjgbckI26NPwb0mml7iY2uCtFeZD0Fe+ iA9hP7vrKtuxUd83AHVKexNlTQj86/eoxBcqGLSQKH3Z9BHgZH4+sEiTjHlHBqB4hnSvfI31B0V DYQVsn+2IuxdVzaXcEzdU3K+NVaqJH8KGOvF8Gk94 X-Gm-Gg: ASbGncuWQGU+NU91bvw+CdLxsmf65uDFaPUuQz7V3Y2wR35LMh+wp/0RcIsh06wdDO8 mWV5GHjHDWYBoQAktLTu8m1tccQnzHqL4Zl9pA321XzzBSlQ3RDr1bF9VL+M0DUEpxiOgT05tsb mVSg5lw/GR4fA4o1RlOSAUr3SypcfVPEnd0+KL7QGUi1h+3EfBmkZRUnMJer0s27hCiwKefNrvP R1xp0KTYhTjYspxE8WsccwQ76frckOeDcBMs4pS4663GfFGBVvxL8nauQklClfBik6ywr78ScKG K3MCzeBPjxkDxY7QtllBuauB1I/+HQ== X-Google-Smtp-Source: AGHT+IGmXNKLEHbcJocB6Ph8DZM9OtEWKyr49dGgkIaMSuiVCQhcJ6ArsqNylhKqog/jcv7kpVyqDKOe2MZU X-Received: by 2002:a05:620a:4456:b0:7b6:edd0:d752 with SMTP id af79cd13be357-7c039f9814amr735105485a.5.1738824941527; Wed, 05 Feb 2025 22:55:41 -0800 (PST) Received: from postal.iol.unh.edu (postal.iol.unh.edu. [132.177.123.84]) by smtp-relay.gmail.com with ESMTPS id af79cd13be357-7c041d5ec70sm2575785a.0.2025.02.05.22.55.41 (version=TLS1_2 cipher=ECDHE-ECDSA-AES128-GCM-SHA256 bits=128/128); Wed, 05 Feb 2025 22:55:41 -0800 (PST) X-Relaying-Domain: iol.unh.edu Date: Wed, 05 Feb 2025 22:55:41 -0800 (PST) Message-ID: <67a45ced.050a0220.b4721.1796SMTPIN_ADDED_MISSING@mx.google.com> Received: from [172.21.0.5] (unknown [172.18.0.240]) by postal.iol.unh.edu (Postfix) with ESMTP id 3B4CC6052471; Thu, 6 Feb 2025 01:55:41 -0500 (EST) Subject: |SUCCESS| [GIT MASTER] 6d7e741be18ab1e6ecce46edb2516318305c3c73 From: dpdklab@iol.unh.edu To: Test Report Cc: dpdk-test-reports@iol.unh.edu Content-Type: text/plain X-BeenThere: test-report@dpdk.org X-Mailman-Version: 2.1.29 Precedence: list List-Id: automatic DPDK test reports List-Unsubscribe: , List-Archive: List-Post: List-Help: List-Subscribe: , Errors-To: test-report-bounces@dpdk.org _Testing PASS_ Branch: dpdk 6d7e741be18ab1e6ecce46edb2516318305c3c73 --> testing pass Upstream job id: Generic-DPDK-Compile-ABI#115018 Test environment and result as below: +-------------------+----------+ | Environment | abi_test | +===================+==========+ | CentOS Stream 9 | PASS | +-------------------+----------+ | Debian Bullseye | PASS | +-------------------+----------+ | Debian 12 | PASS | +-------------------+----------+ | Fedora 40 (Clang) | PASS | +-------------------+----------+ | openSUSE Leap 15 | PASS | +-------------------+----------+ | Fedora 40 | PASS | +-------------------+----------+ | Fedora 41 (Clang) | PASS | +-------------------+----------+ | Fedora 41 | PASS | +-------------------+----------+ | RHEL9 | PASS | +-------------------+----------+ | RHEL8 | PASS | +-------------------+----------+ | Ubuntu 22.04 | PASS | +-------------------+----------+ | Ubuntu 24.04 | PASS | +-------------------+----------+ | Arch Linux | PASS | +-------------------+----------+ CentOS Stream 9 Kernel: Depends on container host Compiler: gcc 11.5.0 20240719 (Red Hat 11.5.0-2) Debian Bullseye Kernel: Depends on container host Compiler: gcc (Debian 10.2.1-6) 10.2.1 20210110 Debian 12 Kernel: Depends on container host Compiler: gcc (Debian 12.2.0-14) 12.2.0 Fedora 40 (Clang) Kernel: Depends on container host Compiler: clang 18.1.8 (Fedora 18.1.8-1.fc40) openSUSE Leap 15 Kernel: Depends on container host Compiler: gcc (SUSE Linux) 7.5.0 Fedora 40 Kernel: Depends on container host Compiler: gcc 14.2.1 20240912 (Red Hat 14.2.1-3) Fedora 41 (Clang) Kernel: Depends on container host Compiler: clang 19.1.5 (Fedora 19.1.5-1.fc41) Fedora 41 Kernel: Depends on container host Compiler: gcc 14.2.1 20240912 (Red Hat 14.2.1-3) RHEL9 Kernel: Depends on container host Compiler: gcc 11.5.0 20240719 (Red Hat 11.5.0-2) RHEL8 Kernel: Depends on container host Compiler: gcc 8.5.0 20210514 (Red Hat 8.5.0-22) Ubuntu 22.04 Kernel: Depends on container host Compiler: gcc (Ubuntu 11.4.0-1ubuntu1~22.04) 11.4.0 Ubuntu 24.04 Kernel: Depends on container host Compiler: gcc (Ubuntu 13.3.0-6ubuntu2~24.04) 13.3.0 Arch Linux Kernel: Depends on container host Compiler: gcc 14.2.1 20240910 To view detailed results, visit: https://lab.dpdk.org/results/dashboard/tarballs/32463/ UNH-IOL DPDK Community Lab To manage your email subscriptions, visit: https://lab.dpdk.org/results/dashboard/preferences/subscriptions/