From mboxrd@z Thu Jan 1 00:00:00 1970 Return-Path: Received: from mails.dpdk.org (mails.dpdk.org [217.70.189.124]) by inbox.dpdk.org (Postfix) with ESMTP id 309CB461A7 for ; Thu, 6 Feb 2025 08:04:47 +0100 (CET) Received: from mails.dpdk.org (localhost [127.0.0.1]) by mails.dpdk.org (Postfix) with ESMTP id 28D054066D; Thu, 6 Feb 2025 08:04:47 +0100 (CET) Received: from mail-qv1-f98.google.com (mail-qv1-f98.google.com [209.85.219.98]) by mails.dpdk.org (Postfix) with ESMTP id 99FE04026C for ; Thu, 6 Feb 2025 08:04:46 +0100 (CET) Received: by mail-qv1-f98.google.com with SMTP id 6a1803df08f44-6dd43b08674so5356496d6.3 for ; Wed, 05 Feb 2025 23:04:46 -0800 (PST) DKIM-Signature: v=1; a=rsa-sha256; c=relaxed/relaxed; d=iol.unh.edu; s=unh-iol; t=1738825486; x=1739430286; darn=dpdk.org; h=cc:to:from:subject:message-id:date:from:to:cc:subject:date :message-id:reply-to; bh=D/El3uzkAKkI8T1rgQTnoA3/hEAaLyPCpHhHTzcruuI=; b=hF9JqmpKb2NY+CDEq+Bbdhn6DTvD4pN+x20vSoR1gkfgJ4NfKvjJ/7MCEKzeG+bYoW 5AGtKHc4LYFKDP7eqSKkzFs5YdJkrSMq6cIfJpKnNAENRvrtqsmCMNwChftR3wiMrftH DuHCg4wJG+JglfdLsCEohqP8l6boQX67KkOdM= X-Google-DKIM-Signature: v=1; a=rsa-sha256; c=relaxed/relaxed; d=1e100.net; s=20230601; t=1738825486; x=1739430286; h=cc:to:from:subject:message-id:date:x-gm-message-state:from:to:cc :subject:date:message-id:reply-to; bh=D/El3uzkAKkI8T1rgQTnoA3/hEAaLyPCpHhHTzcruuI=; b=C+v2wOVkbE3lF2n3yKxzw7tK/Edncj+zMNIMKf7TQ+xPF64TMPSAs1bXdkRoAOOvsB fvs3unPrDNg5AtfoyL3X+NNkVfa9zSuI2dnvj1INBLKviDwHEpuFRDa1D34J0WMPiDx+ 3F97216EWj7yXQ3Qax8VEB0kGvRyR3fNTcEbBs5uXk24v4Mg8Pgeq3YNIxOf0PopfYm9 jxjEE84/auY9wmrTDMNX3sleTgPRVspXyczvzBRAj3hrEQtvUSMDH8zAuQGm7h7qtnFw xPeD2TS4ewDI7yykPZPkp/jJCahTDmvMn/AGrhd7FluBog5MM2YWHZJaIC/OerX70QNy Z78Q== X-Gm-Message-State: AOJu0YzN3UAhTzoEGmweKbugIFJhW9T0h+yr7gN+XFT91ldYfrzVJYCl y+a81saAqJpvCwyiCINDnPHkwexctHaI7Elql3wNq0MN441JWSvSnEEYCsv1X9TJFRBM/r9Jy9O L7maDZieXX2y32ybbISUdbGICfzInZMWrLuC8UuNPpN88o7Dk X-Gm-Gg: ASbGnctUB/cGszjyUjuen5/+JP6Z9GppT6s3ckKZR+9It86KxVPpuCjnZEcSH12AspS pPl5pSU2gAXe1/mb0W119NQ4GjisKtAJ0ZM672xvxP/Egm7f3gk/oqFxMZCAaS+VUeE0W9jWKAq em33YCIZ4w5Y0zre32Ksivhd3CIzPlukGQ2dyToPisu4ohlgXrSYVtvjBNS0Aywj3RQWfUZVTv0 XGOiUHCsP7BTR6zqzwz/a75yCoNZbhBDWFYIZl3oOuOWyGHBINFqcLSJpUVa9H9oGLWNbX+rZAY MCg4oYdla2VjFxYzIW84JzVI2RLyn9IdsHmuUN1Tsw== X-Google-Smtp-Source: AGHT+IGlGSymvjM9oOPOfZt3n9JaWA1LcYUAWg2D0syrMRGANDsgRd3lGJYFk/Dy4p1k2axI5AuYLCG66s17 X-Received: by 2002:ad4:5f45:0:b0:6d8:8fdd:9797 with SMTP id 6a1803df08f44-6e42fc59b24mr104373446d6.36.1738825485993; Wed, 05 Feb 2025 23:04:45 -0800 (PST) Received: from postal.iol.unh.edu (postal.iol.unh.edu. [2606:4100:3880:1234::84]) by smtp-relay.gmail.com with ESMTPS id 6a1803df08f44-6e43ba43dd7sm468216d6.26.2025.02.05.23.04.45 (version=TLS1_2 cipher=ECDHE-ECDSA-AES128-GCM-SHA256 bits=128/128); Wed, 05 Feb 2025 23:04:45 -0800 (PST) X-Relaying-Domain: iol.unh.edu Date: Wed, 05 Feb 2025 23:04:45 -0800 (PST) Message-ID: <67a45f0d.050a0220.966f7.2bd5SMTPIN_ADDED_MISSING@mx.google.com> Received: from [172.21.0.6] (unknown [172.18.0.240]) by postal.iol.unh.edu (Postfix) with ESMTP id A7E126052471; Thu, 6 Feb 2025 02:04:45 -0500 (EST) Subject: |SUCCESS| [GIT MASTER] c66daa12e76d7b4912cfb7109a761856a7a873ab From: dpdklab@iol.unh.edu To: Test Report Cc: dpdk-test-reports@iol.unh.edu, Xueming Li , Christian Ehrhardt , Kevin Traynor , Luca Boccassi Content-Type: text/plain X-BeenThere: test-report@dpdk.org X-Mailman-Version: 2.1.29 Precedence: list List-Id: automatic DPDK test reports List-Unsubscribe: , List-Archive: List-Post: List-Help: List-Subscribe: , Errors-To: test-report-bounces@dpdk.org _Testing PASS_ Branch: tags/v23.11 c66daa12e76d7b4912cfb7109a761856a7a873ab --> testing pass Upstream job id: Windows-Compile-DPDK-VS#4834 Test environment and result as below: +---------------------+--------------------+-------------------+ | Environment | dpdk_meson_compile | dpdk_msvc_compile | +=====================+====================+===================+ | FreeBSD 13.4 | PASS | SKIPPED | +---------------------+--------------------+-------------------+ | FreeBSD 14.2 | PASS | SKIPPED | +---------------------+--------------------+-------------------+ | Windows Server 2022 | SKIPPED | PASS | +---------------------+--------------------+-------------------+ FreeBSD 13.4 Kernel: 13.4-RELEASE-p1 Compiler: clang 18.1.6 FreeBSD 14.2 Kernel: 14.2-RELEASE Compiler: clang 18.1.6 Windows Server 2022 Kernel: 10.0.20348.2031 Compiler: clang 15.0.7, gcc 14.1.0 (MinGW), and MSVC VS 19.39.33521 To view detailed results, visit: https://lab.dpdk.org/results/dashboard/tarballs/32467/ UNH-IOL DPDK Community Lab To manage your email subscriptions, visit: https://lab.dpdk.org/results/dashboard/preferences/subscriptions/