From mboxrd@z Thu Jan  1 00:00:00 1970
Return-Path: <test-report-bounces@dpdk.org>
Received: from mails.dpdk.org (mails.dpdk.org [217.70.189.124])
	by inbox.dpdk.org (Postfix) with ESMTP id 5B37B461A8
	for <public@inbox.dpdk.org>; Thu,  6 Feb 2025 08:06:00 +0100 (CET)
Received: from mails.dpdk.org (localhost [127.0.0.1])
	by mails.dpdk.org (Postfix) with ESMTP id 564F14066D;
	Thu,  6 Feb 2025 08:06:00 +0100 (CET)
Received: from mail-il1-f226.google.com (mail-il1-f226.google.com
 [209.85.166.226])
 by mails.dpdk.org (Postfix) with ESMTP id 7002D4026C
 for <test-report@dpdk.org>; Thu,  6 Feb 2025 08:05:59 +0100 (CET)
Received: by mail-il1-f226.google.com with SMTP id
 e9e14a558f8ab-3d03d2bd7d2so5610515ab.0
 for <test-report@dpdk.org>; Wed, 05 Feb 2025 23:05:59 -0800 (PST)
DKIM-Signature: v=1; a=rsa-sha256; c=relaxed/relaxed;
 d=iol.unh.edu; s=unh-iol; t=1738825558; x=1739430358; darn=dpdk.org;
 h=references:in-reply-to:cc:to:from:subject:message-id:date:from:to
 :cc:subject:date:message-id:reply-to;
 bh=N4zMgBp7fqDngLWPjv7Id/PZFoBSqDzvB0hmPluCb5E=;
 b=ZNAbcR5CTmmKTm6Mf+PY9RdTyarSNbUJTPDKGheelq82QC4AzV1OUU78qnfns9upmZ
 72njkUZZYHiZeNJ5t74hB1OiOjLpvs6qmAX9ivBV6WYKWAnEJKXo/O75nSzlQF6O/2c/
 r/pW/f3NutJjh4vrQkKmSAATz/0lRH1WY7CQ4=
X-Google-DKIM-Signature: v=1; a=rsa-sha256; c=relaxed/relaxed;
 d=1e100.net; s=20230601; t=1738825558; x=1739430358;
 h=references:in-reply-to:cc:to:from:subject:message-id:date
 :x-gm-message-state:from:to:cc:subject:date:message-id:reply-to;
 bh=N4zMgBp7fqDngLWPjv7Id/PZFoBSqDzvB0hmPluCb5E=;
 b=ZUVeGMbqYNqUE2gN66sGkWSFcwKVeRXnBNog8uq44fLmkEIAiBasOqUnU18jIyhoLl
 3eQp4viWYgX1A+V3UcACLKt9oiYiPGWT2gtfz7d2Pteo5g+LhM0PxC09pZHX5wjJ5M1N
 x3CNyEgo1WgH29mBEusY7SidCX+0U6Wbij8luJqiePZqtdAbUFARWYTUDX9zlIDOv30T
 PWgxkoYw64zgYbJB8bDgfOMrs/pgabqz6VuYbbHu03KyA8VIFd3F2jFTQQfZeyd3gCRs
 vGJ+hbWWxmlcMEnCPF8Sr2QOUCPA+DM88gck2iGT7UIQFkiTunNe1u/RLbYYim+7T2Td
 hcSw==
X-Gm-Message-State: AOJu0YyJMQP2AAEOtUnTj0z+SEQxeRedxKT6juuPkuw2ppSElpGn0aFl
 AGY7KuXH+a29NhMimZQgMI+6JfPTbBV5TL9WxxXSDg0X5SUVVe5jGO7aAHcNvYkZHLmKocH4pz+
 ePLErG76Ytp9pNKyeDPNWppaLPb8vejHsDEl99k7b1H4SEAvEk16ClNXx
X-Gm-Gg: ASbGncvmG5RL/Wx+EnvrDq4Wbjth3V6E8PcizkCUmJLxLXG3YLC8lTp77OGQ88nHiMI
 Ve6sOnVTB5G6ysLceSXtinrKQuezWmm8iTI8T5Gnke4j2TZcxUL4W3pG7CJhlL6Wt/XhQdfmYVW
 xtwHe4Fl1Ww/oufrgghVb+Oavxm4HFvgdmrGJYCUhprYCJqMOLOmiVvaahmO3awr4LVoJlcf8p/
 t6bqziMkEookBmZ53zxEbtueguvzH7+dZ5BegZqgVnt2SsAEtxxnFaqBEaO1ksD8hEh4zxuMfwJ
 yuZ6bdtvg7hY3p6daJiFUyhQfyuXkedQmZbT9p9LTw==
X-Google-Smtp-Source: AGHT+IGl5tK40oQCLBbLwyH0tORJyYw0EAj1vm7gKLtkuDjDqDfx74W30ov5xr2uUGdjMGL3Rj24jPZi0lSQ
X-Received: by 2002:a05:6e02:2188:b0:3cf:c9ad:46a1 with SMTP id
 e9e14a558f8ab-3d04f7fa411mr45280755ab.13.1738825558714; 
 Wed, 05 Feb 2025 23:05:58 -0800 (PST)
Received: from postal.iol.unh.edu (postal.iol.unh.edu.
 [2606:4100:3880:1234::84]) by smtp-relay.gmail.com with ESMTPS id
 e9e14a558f8ab-3d05e9f06easm376135ab.47.2025.02.05.23.05.58
 (version=TLS1_2 cipher=ECDHE-ECDSA-AES128-GCM-SHA256 bits=128/128);
 Wed, 05 Feb 2025 23:05:58 -0800 (PST)
X-Relaying-Domain: iol.unh.edu
Date: Wed, 05 Feb 2025 23:05:58 -0800 (PST)
Message-ID: <67a45f56.050a0220.7991b.236dSMTPIN_ADDED_MISSING@mx.google.com>
Received: from [172.21.0.8] (unknown [172.18.0.240])
 by postal.iol.unh.edu (Postfix) with ESMTP id 3A4AA6052471;
 Thu,  6 Feb 2025 02:05:58 -0500 (EST)
Subject: |SUCCESS| pw151007 [PATCH] [v4] drivers/net: use 64-bit shift and av
From: dpdklab@iol.unh.edu
To: Test Report <test-report@dpdk.org>
Cc: dpdk-test-reports@iol.unh.edu
In-Reply-To: <1738783944-10172-1-git-send-email-andremue@linux.microsoft.com>
References: <1738783944-10172-1-git-send-email-andremue@linux.microsoft.com>
Content-Type: text/plain
X-BeenThere: test-report@dpdk.org
X-Mailman-Version: 2.1.29
Precedence: list
List-Id: automatic DPDK test reports <test-report.dpdk.org>
List-Unsubscribe: <https://mails.dpdk.org/options/test-report>,
 <mailto:test-report-request@dpdk.org?subject=unsubscribe>
List-Archive: <http://mails.dpdk.org/archives/test-report/>
List-Post: <mailto:test-report@dpdk.org>
List-Help: <mailto:test-report-request@dpdk.org?subject=help>
List-Subscribe: <https://mails.dpdk.org/listinfo/test-report>,
 <mailto:test-report-request@dpdk.org?subject=subscribe>
Errors-To: test-report-bounces@dpdk.org

Test-Label: iol-compile-arm64-testing
Test-Status: SUCCESS
http://dpdk.org/patch/151007

_Testing PASS_

Submitter: Andre Muezerie <andremue@linux.microsoft.com>
Date: Wednesday, February 05 2025 19:32:24 
DPDK git baseline: Repo:dpdk
  Branch: master
  CommitID:e595e7b5758fc73d99b810f5a8748f94bd467084

151007 --> testing pass

Upstream job id: Generic-DPDK-Compile-Meson#358208

Test environment and result as below:

+----------------------------------------+--------------------+
|              Environment               | dpdk_meson_compile |
+========================================+====================+
| RHEL9 (ARM)                            | PASS               |
+----------------------------------------+--------------------+
| Ubuntu 20.04 ARM GCC Cross Compile     | PASS               |
+----------------------------------------+--------------------+
| Ubuntu 20.04 ARM SVE                   | PASS               |
+----------------------------------------+--------------------+
| Fedora 40 (ARM)                        | PASS               |
+----------------------------------------+--------------------+
| Fedora 40 (ARM Clang)                  | PASS               |
+----------------------------------------+--------------------+
| Fedora 41 (ARM)                        | PASS               |
+----------------------------------------+--------------------+
| Fedora 41 (ARM Clang)                  | PASS               |
+----------------------------------------+--------------------+
| Ubuntu 20.04 (ARM)                     | PASS               |
+----------------------------------------+--------------------+
| Ubuntu 22.04 (ARM)                     | PASS               |
+----------------------------------------+--------------------+
| Ubuntu 24.04 (ARM)                     | PASS               |
+----------------------------------------+--------------------+
| CentOS Stream 9 (ARM)                  | PASS               |
+----------------------------------------+--------------------+
| Debian 11 (Buster) (ARM)               | PASS               |
+----------------------------------------+--------------------+
| Debian 12 (arm)                        | PASS               |
+----------------------------------------+--------------------+
| Ubuntu 20.04 ARM Clang Cross Compile   | PASS               |
+----------------------------------------+--------------------+
| Ubuntu 20.04 aarch32 GCC Cross Compile | PASS               |
+----------------------------------------+--------------------+
| Debian 12 with MUSDK                   | PASS               |
+----------------------------------------+--------------------+


RHEL9 (ARM)
	Kernel: Depends on container host
	Compiler: gcc 11.5.0 20240719 (Red Hat 11.5.0-2)

Ubuntu 20.04 ARM GCC Cross Compile
	Kernel: Depends on container host
	Compiler: aarch64-linux-gnu-gcc (Ubuntu 9.4.0-1ubuntu1~20.04.2) 9.4.0

Ubuntu 20.04 ARM SVE
	Kernel: Depends on container host
	Compiler: gcc (Ubuntu 10.5.0-1ubuntu1~20.04) 10.5.0

Fedora 40 (ARM)
	Kernel: Depends on container host
	Compiler: gcc 14.2.1 20240912 (Red Hat 14.2.1-3)

Fedora 40 (ARM Clang)
	Kernel: Depends on container host
	Compiler: clang 18.1.8 (Fedora 18.1.8-1.fc40)

Fedora 41 (ARM)
	Kernel: Depends on container host
	Compiler: gcc 14.2.1 20240912 (Red Hat 14.2.1-3)

Fedora 41 (ARM Clang)
	Kernel: Depends on container host
	Compiler: clang 19.1.5 (Fedora 19.1.5-1.fc41)

Ubuntu 20.04 (ARM)
	Kernel: Depends on container host
	Compiler: gcc (Ubuntu 9.4.0-1ubuntu1~20.04.2) 9.4.0

Ubuntu 22.04 (ARM)
	Kernel: Depends on container host
	Compiler: gcc (Ubuntu 11.4.0-1ubuntu1~22.04) 11.4.0

Ubuntu 24.04 (ARM)
	Kernel: Depends on container host
	Compiler: gcc (Ubuntu 13.3.0-6ubuntu2~24.04) 13.3.0

CentOS Stream 9 (ARM)
	Kernel: Depends on container host
	Compiler: gcc 11.5.0 20240719 (Red Hat 11.5.0-2)

Debian 11 (Buster) (ARM)
	Kernel: Depends on container host
	Compiler: gcc (Debian 10.2.1-6) 10.2.1 20210110

Debian 12 (arm)
	Kernel: Depends on container host
	Compiler: gcc (Debian 12.2.0-14) 12.2.0

Ubuntu 20.04 ARM Clang Cross Compile
	Kernel: Depends on container host
	Compiler: clang 10.0.0-4ubuntu1

Ubuntu 20.04 aarch32 GCC Cross Compile
	Kernel: Depends on container host
	Compiler: gcc 9.4.0

Debian 12 with MUSDK
	Kernel: Depends on container host
	Compiler: gcc (Debian 12.2.0-14) 12.2.0

To view detailed results, visit:
https://lab.dpdk.org/results/dashboard/patchsets/32505/

UNH-IOL DPDK Community Lab

To manage your email subscriptions, visit: 
https://lab.dpdk.org/results/dashboard/preferences/subscriptions/