From mboxrd@z Thu Jan 1 00:00:00 1970 Return-Path: Received: from mails.dpdk.org (mails.dpdk.org [217.70.189.124]) by inbox.dpdk.org (Postfix) with ESMTP id 2DA3F461A8 for ; Thu, 6 Feb 2025 08:22:24 +0100 (CET) Received: from mails.dpdk.org (localhost [127.0.0.1]) by mails.dpdk.org (Postfix) with ESMTP id 29F8B4066D; Thu, 6 Feb 2025 08:22:24 +0100 (CET) Received: from mail-il1-f226.google.com (mail-il1-f226.google.com [209.85.166.226]) by mails.dpdk.org (Postfix) with ESMTP id 4CAE34026C for ; Thu, 6 Feb 2025 08:22:23 +0100 (CET) Received: by mail-il1-f226.google.com with SMTP id e9e14a558f8ab-3cf880d90bdso1651485ab.3 for ; Wed, 05 Feb 2025 23:22:23 -0800 (PST) DKIM-Signature: v=1; a=rsa-sha256; c=relaxed/relaxed; d=iol.unh.edu; s=unh-iol; t=1738826542; x=1739431342; darn=dpdk.org; h=references:in-reply-to:cc:to:from:subject:message-id:date:from:to :cc:subject:date:message-id:reply-to; bh=ILXqG7lkRPWm8XG6+nZVtrbXD9+r03oK1Md0/8ibluk=; b=jyMRcACyEnQM6KUI6uWFFJ85aH1fN+kSrWxJsFQ2UZNgbhBl/pGxu2rffEggFt+wIk IQl2zQ7Bj2dfFJgb14q3ljmZI396Etjhyk8Knz1ESwALVP0jabkyKPwI24KPjpioOBuX 60jnQH6t/+4zJu9ZNKG/X/sUh9R21sSZF29kk= X-Google-DKIM-Signature: v=1; a=rsa-sha256; c=relaxed/relaxed; d=1e100.net; s=20230601; t=1738826542; x=1739431342; h=references:in-reply-to:cc:to:from:subject:message-id:date :x-gm-message-state:from:to:cc:subject:date:message-id:reply-to; bh=ILXqG7lkRPWm8XG6+nZVtrbXD9+r03oK1Md0/8ibluk=; b=cTz9xZ6aaqVyCfAv6ABADU6jmhvx+cfrHO1WHIXOCok2wK9cntTtrNZjwovMH3SR0u cjYyHDcRpPYJ17giMg/n4kFR4j23M1YG84oR6TWhYpp5aJP/43/dJubrwkgVu6Hg2+JQ tSBDrwfmih8vGCyFAkMCAVTyc1LnHFG0Yd79x0Z7NZDB3ZLiv9z94L954odHsPPUQdK7 041ShyDcUXh5srcHWLeCh+VtfJ2FwGOSQ4M+Vo7JwDZ7dYnoQWASvUbU/52XvpbITvBm foUhh70+vesjnawAU81fzx3ueRxPkpLO7prjE/VSO9Dghs70DzjP+gH9Z+oFD0qfzL/j 4u6A== X-Gm-Message-State: AOJu0Yyn4ua4ZYlaJ8WTwYwa3m5oIMYxcgA0NSP3EN+3zXP5LL6Fj5c0 jTErNKUlHbJUVJbHVFK7oQ8NPZzFww4cuc+f3D98xECMO8IPEQqekIRp5lZHwiPuisTnLbitWQA ggMyyNDxoq9MSLO03/ln9QxmrgrnFORhBdDTrCuIiUc7NI8s+FdUQv/Wk X-Gm-Gg: ASbGncsZkITh8WfBXWfc5Jledn6+EEahe62LxCd4Bb8nGUYafhAE7tnus+2cV5zlAOI yTo6vFV2mEqUTdkLcIwLwCZoxA/o4Lyx9ehEAcQGWaIIzuAvLmOSyNZltdEtALQUIjqMqyacl/b PbaQGsqtKY+cbstnDGsQWLWtJOf8JXqaO6NqypYgzCv8IfA+BeW3PjSBhozE9WaDNQT3jB+d4Oo QtloMbGOn2K63mg+krSnX2iuSydSpORIxtYu+Hynd3xhihzZ0TCSV15oMCuUoN6Zb9eETARzb6X NE8GqyZPBpaFcedIO+tij3NdCwBOS/ryRtDu1tY5MQ== X-Google-Smtp-Source: AGHT+IEOXNtHnM6ccoWWMbhFbEZpWxosMFjJqsAWMVbMvTuRWyZ9lweh3EpMNisJFYFj5Xo4cY40nGkvklM7 X-Received: by 2002:a05:6e02:1705:b0:3a7:87f2:b010 with SMTP id e9e14a558f8ab-3d04f4052damr60373955ab.5.1738826542607; Wed, 05 Feb 2025 23:22:22 -0800 (PST) Received: from postal.iol.unh.edu (postal.iol.unh.edu. [2606:4100:3880:1234::84]) by smtp-relay.gmail.com with ESMTPS id e9e14a558f8ab-3d05e8d9d62sm395505ab.13.2025.02.05.23.22.22 (version=TLS1_2 cipher=ECDHE-ECDSA-AES128-GCM-SHA256 bits=128/128); Wed, 05 Feb 2025 23:22:22 -0800 (PST) X-Relaying-Domain: iol.unh.edu Date: Wed, 05 Feb 2025 23:22:22 -0800 (PST) Message-ID: <67a4632e.050a0220.130150.2453SMTPIN_ADDED_MISSING@mx.google.com> Received: from [172.21.0.7] (unknown [172.18.0.240]) by postal.iol.unh.edu (Postfix) with ESMTP id E3D3C6052471; Thu, 6 Feb 2025 02:22:21 -0500 (EST) Subject: |SUCCESS| pw151013-151029 [PATCH] [v22,27/27] config: add -Wvla proj From: dpdklab@iol.unh.edu To: Test Report Cc: dpdk-test-reports@iol.unh.edu In-Reply-To: <1738805610-17507-28-git-send-email-andremue@linux.microsoft.com> References: <1738805610-17507-28-git-send-email-andremue@linux.microsoft.com> Content-Type: text/plain X-BeenThere: test-report@dpdk.org X-Mailman-Version: 2.1.29 Precedence: list List-Id: automatic DPDK test reports List-Unsubscribe: , List-Archive: List-Post: List-Help: List-Subscribe: , Errors-To: test-report-bounces@dpdk.org Test-Label: iol-abi-testing Test-Status: SUCCESS http://dpdk.org/patch/151029 _Testing PASS_ Submitter: Andre Muezerie Date: Thursday, February 06 2025 01:33:30 DPDK git baseline: Repo:dpdk Branch: master CommitID:32c18e7364e30a8e43cc7cc6709a7ce606fa285e 151013-151029 --> testing pass Upstream job id: Generic-DPDK-Compile-ABI#115030 Test environment and result as below: +-------------------+----------+ | Environment | abi_test | +===================+==========+ | CentOS Stream 9 | PASS | +-------------------+----------+ | Debian Bullseye | PASS | +-------------------+----------+ | Debian 12 | PASS | +-------------------+----------+ | Fedora 40 | PASS | +-------------------+----------+ | Fedora 41 (Clang) | PASS | +-------------------+----------+ | RHEL8 | PASS | +-------------------+----------+ | openSUSE Leap 15 | PASS | +-------------------+----------+ | Fedora 41 | PASS | +-------------------+----------+ | RHEL9 | PASS | +-------------------+----------+ | Ubuntu 22.04 | PASS | +-------------------+----------+ | Ubuntu 24.04 | PASS | +-------------------+----------+ | Fedora 40 (Clang) | PASS | +-------------------+----------+ CentOS Stream 9 Kernel: Depends on container host Compiler: gcc 11.5.0 20240719 (Red Hat 11.5.0-2) Debian Bullseye Kernel: Depends on container host Compiler: gcc (Debian 10.2.1-6) 10.2.1 20210110 Debian 12 Kernel: Depends on container host Compiler: gcc (Debian 12.2.0-14) 12.2.0 Fedora 40 Kernel: Depends on container host Compiler: gcc 14.2.1 20240912 (Red Hat 14.2.1-3) Fedora 41 (Clang) Kernel: Depends on container host Compiler: clang 19.1.5 (Fedora 19.1.5-1.fc41) RHEL8 Kernel: Depends on container host Compiler: gcc 8.5.0 20210514 (Red Hat 8.5.0-22) openSUSE Leap 15 Kernel: Depends on container host Compiler: gcc (SUSE Linux) 7.5.0 Fedora 41 Kernel: Depends on container host Compiler: gcc 14.2.1 20240912 (Red Hat 14.2.1-3) RHEL9 Kernel: Depends on container host Compiler: gcc 11.5.0 20240719 (Red Hat 11.5.0-2) Ubuntu 22.04 Kernel: Depends on container host Compiler: gcc (Ubuntu 11.4.0-1ubuntu1~22.04) 11.4.0 Ubuntu 24.04 Kernel: Depends on container host Compiler: gcc (Ubuntu 13.3.0-6ubuntu2~24.04) 13.3.0 Fedora 40 (Clang) Kernel: Depends on container host Compiler: clang 18.1.8 (Fedora 18.1.8-1.fc40) To view detailed results, visit: https://lab.dpdk.org/results/dashboard/patchsets/32507/ UNH-IOL DPDK Community Lab To manage your email subscriptions, visit: https://lab.dpdk.org/results/dashboard/preferences/subscriptions/