From mboxrd@z Thu Jan 1 00:00:00 1970 Return-Path: Received: from mails.dpdk.org (mails.dpdk.org [217.70.189.124]) by inbox.dpdk.org (Postfix) with ESMTP id AB42F461A8 for ; Thu, 6 Feb 2025 08:55:09 +0100 (CET) Received: from mails.dpdk.org (localhost [127.0.0.1]) by mails.dpdk.org (Postfix) with ESMTP id 970BA40697; Thu, 6 Feb 2025 08:55:09 +0100 (CET) Received: from mail-il1-f225.google.com (mail-il1-f225.google.com [209.85.166.225]) by mails.dpdk.org (Postfix) with ESMTP id A2C4E4066D for ; Thu, 6 Feb 2025 08:55:08 +0100 (CET) Received: by mail-il1-f225.google.com with SMTP id e9e14a558f8ab-3d04e7f284aso2153795ab.0 for ; Wed, 05 Feb 2025 23:55:08 -0800 (PST) DKIM-Signature: v=1; a=rsa-sha256; c=relaxed/relaxed; d=iol.unh.edu; s=unh-iol; t=1738828508; x=1739433308; darn=dpdk.org; h=cc:to:from:subject:message-id:date:from:to:cc:subject:date :message-id:reply-to; bh=61w/MjE3kwHFjeeKPPA8WDudT/BQOwhGqIW6PmZKLRk=; b=eoNSrowJbGHWaSfxGGefoLbPge1Hc1GRTfPHJGd0n66fSlCW8BBwgS7ltHJ8EG9T42 EI7iUH8peA2MxtUlI9vvWLdj7AXrcJ7Iq7fP7mndDS7/5L32EgxmmXaWTQ1+n99gQLPX 2ESZ5dc8BD8lIrPKEillHynLMDgb80l5CeMBA= X-Google-DKIM-Signature: v=1; a=rsa-sha256; c=relaxed/relaxed; d=1e100.net; s=20230601; t=1738828508; x=1739433308; h=cc:to:from:subject:message-id:date:x-gm-message-state:from:to:cc :subject:date:message-id:reply-to; bh=61w/MjE3kwHFjeeKPPA8WDudT/BQOwhGqIW6PmZKLRk=; b=P+JYxohIwNLljFKJfhgzJ6Ti5NfmCHL0tH25HiiMzIZDAnLJtCFFDcH44yKQxCBwC9 G4njONJ4N1JaCdtAZPhqLeGJ/wXCqY5oFwcsVAAlwUp+th+FGrKYE/B0nuP3WO255Q3I QDWkFgjOG3EtiJsuXk5FFqALgYE49si9rpsqT7xZm3glEPcebW/ApEqoYycZdPfdtwUi CNUNo3gsz/4RppBUhlKaeEdFJTOM3Bxffk/qbazBF3N1gH9KZu9NEkAYSqXhajdiMKcS TAGNePPjBtyr8AqfGwbTiO4kRgdyiq5K/ERP8levQcxf4tZFIcRzCpot53nwXFfvnHJy mgLw== X-Gm-Message-State: AOJu0YynJirEO4jd84DwUQ+tv65kPgBW1QGxizwOv/BPI/5kblqlTbya TN5j/xg0qjQazJuVveMRFZCZM9pYC5NSb1EQAsP8B6zoEXirMwT7mxpGBzUYOtKRrE/giEG6RDh etgs6CtiIt2oOvVGX9+WNTUffCeWCc7fce5fWTRa5 X-Gm-Gg: ASbGncuVslfVLXl/Nocd70qIZ2k3py6WtN8eVAodKT8CwiAdQBdCdeJh3nuWMX8sd7k GmSVT3vr72Vz4Uf94WchPPR3XrwyNK/CCkQaT5guuxlQ2zcEIrJ2BIIx4yx4vkLjBkcbQnesnsb vjmDMCKlNJIsTmnLtxqjFTVYNRiROSaHPHKPhrw74TUGMEIyxmmvnEctxxzPlY9aAtkDZZUiXnO j9T5EIukNx7r8ECsvvIzaau4nHZI09+Ya7EB4gCSXWSMHK7ADmFx7GDM07aUcegU4Ob5ZW5qZZe lKVPQVR2b1Qh5jcuL+ndnUkEodBYvw== X-Google-Smtp-Source: AGHT+IHNw0pRFn6ZrNunXnMp3/BsD8VYnQEyfFf7TVocdxgydD8gIBiFnpCXgdkiTV1XfCWUgmN5r1z7KgV5 X-Received: by 2002:a05:6e02:1d9e:b0:3cf:bb11:a3a7 with SMTP id e9e14a558f8ab-3d04f91c9dfmr45501455ab.17.1738828507872; Wed, 05 Feb 2025 23:55:07 -0800 (PST) Received: from postal.iol.unh.edu (postal.iol.unh.edu. [132.177.123.84]) by smtp-relay.gmail.com with ESMTPS id e9e14a558f8ab-3d05e8fe5b1sm431485ab.23.2025.02.05.23.55.07 (version=TLS1_2 cipher=ECDHE-ECDSA-AES128-GCM-SHA256 bits=128/128); Wed, 05 Feb 2025 23:55:07 -0800 (PST) X-Relaying-Domain: iol.unh.edu Date: Wed, 05 Feb 2025 23:55:07 -0800 (PST) Message-ID: <67a46adb.050a0220.175d8c.3119SMTPIN_ADDED_MISSING@mx.google.com> Received: from [172.21.0.5] (unknown [172.18.0.240]) by postal.iol.unh.edu (Postfix) with ESMTP id 5C5C46052471; Thu, 6 Feb 2025 02:55:07 -0500 (EST) Subject: |SUCCESS| [GIT MASTER] 6d7e741be18ab1e6ecce46edb2516318305c3c73 From: dpdklab@iol.unh.edu To: Test Report Cc: dpdk-test-reports@iol.unh.edu Content-Type: text/plain X-BeenThere: test-report@dpdk.org X-Mailman-Version: 2.1.29 Precedence: list List-Id: automatic DPDK test reports List-Unsubscribe: , List-Archive: List-Post: List-Help: List-Subscribe: , Errors-To: test-report-bounces@dpdk.org _Testing PASS_ Branch: dpdk 6d7e741be18ab1e6ecce46edb2516318305c3c73 --> testing pass Upstream job id: Generic-Unit-Test-DPDK#312122 Test environment and result as below: +---------------------+----------------+ | Environment | dpdk_unit_test | +=====================+================+ | Arch Linux | PASS | +---------------------+----------------+ | Fedora 40 (Clang) | PASS | +---------------------+----------------+ | CentOS Stream 9 | PASS | +---------------------+----------------+ | Debian Bullseye | PASS | +---------------------+----------------+ | Fedora 41 (Clang) | PASS | +---------------------+----------------+ | Fedora 41 | PASS | +---------------------+----------------+ | Debian 12 | PASS | +---------------------+----------------+ | Fedora 40 | PASS | +---------------------+----------------+ | RHEL8 | PASS | +---------------------+----------------+ | RHEL9 | PASS | +---------------------+----------------+ | Ubuntu 20.04 | PASS | +---------------------+----------------+ | Ubuntu 24.04 | PASS | +---------------------+----------------+ | Ubuntu 22.04 | PASS | +---------------------+----------------+ | Windows Server 2022 | PASS | +---------------------+----------------+ Arch Linux Kernel: Depends on container host Compiler: gcc 14.2.1 20240910 Fedora 40 (Clang) Kernel: Depends on container host Compiler: clang 18.1.8 (Fedora 18.1.8-1.fc40) CentOS Stream 9 Kernel: Depends on container host Compiler: gcc 11.5.0 20240719 (Red Hat 11.5.0-2) Debian Bullseye Kernel: Depends on container host Compiler: gcc (Debian 10.2.1-6) 10.2.1 20210110 Fedora 41 (Clang) Kernel: Depends on container host Compiler: clang 19.1.5 (Fedora 19.1.5-1.fc41) Fedora 41 Kernel: Depends on container host Compiler: gcc 14.2.1 20240912 (Red Hat 14.2.1-3) Debian 12 Kernel: Depends on container host Compiler: gcc (Debian 12.2.0-14) 12.2.0 Fedora 40 Kernel: Depends on container host Compiler: gcc 14.2.1 20240912 (Red Hat 14.2.1-3) RHEL8 Kernel: Depends on container host Compiler: gcc 8.5.0 20210514 (Red Hat 8.5.0-22) RHEL9 Kernel: Depends on container host Compiler: gcc 11.5.0 20240719 (Red Hat 11.5.0-2) Ubuntu 20.04 Kernel: Depends on container host Compiler: gcc (Ubuntu 9.4.0-1ubuntu1~20.04.2) 9.4.0 Ubuntu 24.04 Kernel: Depends on container host Compiler: gcc (Ubuntu 13.3.0-6ubuntu2~24.04) 13.3.0 Ubuntu 22.04 Kernel: Depends on container host Compiler: gcc (Ubuntu 11.4.0-1ubuntu1~22.04) 11.4.0 Windows Server 2022 Kernel: 10.0.20348.2031 Compiler: clang 15.0.7, gcc 14.1.0 (MinGW), and MSVC VS 19.39.33521 To view detailed results, visit: https://lab.dpdk.org/results/dashboard/tarballs/32463/ UNH-IOL DPDK Community Lab To manage your email subscriptions, visit: https://lab.dpdk.org/results/dashboard/preferences/subscriptions/