From mboxrd@z Thu Jan 1 00:00:00 1970 Return-Path: Received: from mails.dpdk.org (mails.dpdk.org [217.70.189.124]) by inbox.dpdk.org (Postfix) with ESMTP id 4A5B8461A8 for ; Thu, 6 Feb 2025 08:59:51 +0100 (CET) Received: from mails.dpdk.org (localhost [127.0.0.1]) by mails.dpdk.org (Postfix) with ESMTP id 28F5040697; Thu, 6 Feb 2025 08:59:51 +0100 (CET) Received: from mail-yb1-f227.google.com (mail-yb1-f227.google.com [209.85.219.227]) by mails.dpdk.org (Postfix) with ESMTP id 5A1184026C for ; Thu, 6 Feb 2025 08:59:50 +0100 (CET) Received: by mail-yb1-f227.google.com with SMTP id 3f1490d57ef6-e5b271efc64so527847276.0 for ; Wed, 05 Feb 2025 23:59:50 -0800 (PST) DKIM-Signature: v=1; a=rsa-sha256; c=relaxed/relaxed; d=iol.unh.edu; s=unh-iol; t=1738828789; x=1739433589; darn=dpdk.org; h=references:in-reply-to:cc:to:from:subject:message-id:date:from:to :cc:subject:date:message-id:reply-to; bh=b4Wf2Z1iP6l0oHaYEDYncOQT/iCog+hj/cVpMhiTNiE=; b=OTkNsRP0OTVFaj4ThPEqGVh4uGUaAB19rxR5oZ/8gkh8FjwnFLmHrBr4YXF/h768QV dMIrVXrItOvz73Jn4tQz3D5xgyOHmN9nFquPTMIz5dd7Rmwc9F9+BTX3ZuzEr+8bDKVy BfgThCNvc6grOU5NR3z659NVC1I1RMIwMbwuE= X-Google-DKIM-Signature: v=1; a=rsa-sha256; c=relaxed/relaxed; d=1e100.net; s=20230601; t=1738828789; x=1739433589; h=references:in-reply-to:cc:to:from:subject:message-id:date :x-gm-message-state:from:to:cc:subject:date:message-id:reply-to; bh=b4Wf2Z1iP6l0oHaYEDYncOQT/iCog+hj/cVpMhiTNiE=; b=CoPMEJJZisghStHQDDrmyaTBFll+A4WM7jUifCRyysm3gA2HAQfKLRjCTqYcPG0VT6 i4A9+7vu5++mYcWk3lFtxs/R0eK/LknNHyhbeNgu5ey9nNJH3RHxqB9PY4FnO39dGC9a fb02jv03AZ3wx2cUuc3jt8sSfa7LemJE07TIv45lSC3TAopiq40MT3aGy2bmu9PRq9tw aabGaOw/rUMLP+Ag/J+JFVdjXbrAACty4LkWnm5evx26OBqpJfE7zAHo0A2rALSk6t53 ooY6tpTO6CtchbvPxl7XwQndP+Q7I1VReWQx+EG300TEPu6KTYdKBGH2hjsPsShzvx4Y H6bA== X-Gm-Message-State: AOJu0YwL2OQKQ6Sqh5OSVc7yAzabvP0K5bTLAafxvD9dae+iskRxF6Sp rTc6st7oEmpnxg6IerCsHG+DPvOT1fKhssD7bzF+cFN3zZv+/zttbMBBkh6KfLzpU/lXb6qY6If mR85eXxmOUC4bf2aqy8chFr6xIIU3K8miGj+n390W34COQ9iha8P+45ej X-Gm-Gg: ASbGnctD3HM12TVuaLPy2QC+KbctOHbz2B8MG4EfFDVSQGnBx/qW1ZQO/Kv1lo7sQTy 7vQTmwZSO4MleYQq5qF9MUCS4e6U8ueEU6OZ+hF2jsc4nU53MKoEvbHUdjz/OJz1Y5LPJSZCH6M YoLWShMggXHRnQjrxmgAYVmUZpUo3InzTeVLnNmN8t+0n/H4Y/1euGUGSAA7CRDYTzsIPzAX+4s 1YLx2GQdbJFfTCawF6vrS7tH19FF0yK21/MN2xX6+WpCno+U+Ef9oUWv1hkIzckkPvQZu0ru/Rm uljIdFW6NGrbTieW/X2XsuBRJX2HEAVuUfTu9rQBOQ== X-Google-Smtp-Source: AGHT+IHbFieOJwR7EZjv89L1BrsKKCufVTd4C4L8LoQbHUfw0zispGrLrS95Q1Nlfz01nTFvZ8lYPNv83dGN X-Received: by 2002:a25:8510:0:b0:e5b:32f5:e38b with SMTP id 3f1490d57ef6-e5b32f5e4d2mr2450072276.23.1738828788192; Wed, 05 Feb 2025 23:59:48 -0800 (PST) Received: from postal.iol.unh.edu (postal.iol.unh.edu. [2606:4100:3880:1234::84]) by smtp-relay.gmail.com with ESMTPS id 3f1490d57ef6-e5b3a450015sm38392276.26.2025.02.05.23.59.48 (version=TLS1_2 cipher=ECDHE-ECDSA-AES128-GCM-SHA256 bits=128/128); Wed, 05 Feb 2025 23:59:48 -0800 (PST) X-Relaying-Domain: iol.unh.edu Date: Wed, 05 Feb 2025 23:59:48 -0800 (PST) Message-ID: <67a46bf4.250a0220.24d87e.231cSMTPIN_ADDED_MISSING@mx.google.com> Received: from [172.21.0.6] (unknown [172.18.0.240]) by postal.iol.unh.edu (Postfix) with ESMTP id 8753A6052471; Thu, 6 Feb 2025 02:59:47 -0500 (EST) Subject: |SUCCESS| pw151039 [PATCH] [v7,1/1] graph: mcore: optimize graph sea From: dpdklab@iol.unh.edu To: Test Report Cc: dpdk-test-reports@iol.unh.edu In-Reply-To: <20250206025322.2182-1-chcchc88@163.com> References: <20250206025322.2182-1-chcchc88@163.com> Content-Type: text/plain X-BeenThere: test-report@dpdk.org X-Mailman-Version: 2.1.29 Precedence: list List-Id: automatic DPDK test reports List-Unsubscribe: , List-Archive: List-Post: List-Help: List-Subscribe: , Errors-To: test-report-bounces@dpdk.org Test-Label: iol-compile-amd64-testing Test-Status: SUCCESS http://dpdk.org/patch/151039 _Testing PASS_ Submitter: Huichao Cai Date: Thursday, February 06 2025 02:53:22 DPDK git baseline: Repo:dpdk Branch: master CommitID:32c18e7364e30a8e43cc7cc6709a7ce606fa285e 151039 --> testing pass Upstream job id: Windows-Compile-DPDK-Native#26471 Test environment and result as below: +---------------------+-------------------+--------------------+-------------------------+----------------------+ | Environment | dpdk_msvc_compile | dpdk_meson_compile | dpdk_llvm_clang_compile | dpdk_mingw64_compile | +=====================+===================+====================+=========================+======================+ | Windows Server 2022 | PASS | SKIPPED | PASS | PASS | +---------------------+-------------------+--------------------+-------------------------+----------------------+ | FreeBSD 13.4 | SKIPPED | PASS | SKIPPED | SKIPPED | +---------------------+-------------------+--------------------+-------------------------+----------------------+ | FreeBSD 14.2 | SKIPPED | PASS | SKIPPED | SKIPPED | +---------------------+-------------------+--------------------+-------------------------+----------------------+ Windows Server 2022 Kernel: 10.0.20348.2031 Compiler: clang 15.0.7, gcc 14.1.0 (MinGW), and MSVC VS 19.39.33521 FreeBSD 13.4 Kernel: 13.4-RELEASE-p1 Compiler: clang 18.1.6 FreeBSD 14.2 Kernel: 14.2-RELEASE Compiler: clang 18.1.6 To view detailed results, visit: https://lab.dpdk.org/results/dashboard/patchsets/32508/ UNH-IOL DPDK Community Lab To manage your email subscriptions, visit: https://lab.dpdk.org/results/dashboard/preferences/subscriptions/