From mboxrd@z Thu Jan 1 00:00:00 1970 Return-Path: Received: from mails.dpdk.org (mails.dpdk.org [217.70.189.124]) by inbox.dpdk.org (Postfix) with ESMTP id B75C7461A8 for ; Thu, 6 Feb 2025 09:09:28 +0100 (CET) Received: from mails.dpdk.org (localhost [127.0.0.1]) by mails.dpdk.org (Postfix) with ESMTP id AD7D84066D; Thu, 6 Feb 2025 09:09:28 +0100 (CET) Received: from mail-pl1-f228.google.com (mail-pl1-f228.google.com [209.85.214.228]) by mails.dpdk.org (Postfix) with ESMTP id 7B2324026C for ; Thu, 6 Feb 2025 09:09:27 +0100 (CET) Received: by mail-pl1-f228.google.com with SMTP id d9443c01a7336-21f0b5d6c6eso9277025ad.0 for ; Thu, 06 Feb 2025 00:09:27 -0800 (PST) DKIM-Signature: v=1; a=rsa-sha256; c=relaxed/relaxed; d=iol.unh.edu; s=unh-iol; t=1738829366; x=1739434166; darn=dpdk.org; h=cc:to:from:subject:message-id:date:from:to:cc:subject:date :message-id:reply-to; bh=L6eX71LZluMbaYuX3AMKsh2OgP9QZpL9pS74hOoe8Go=; b=c4s/gKyliwC04B3FMwYunWHJcmJkc7m5P6GsSVX7UI6S7Q3nyoXd1HDt185+iRwOR6 zQRTwmpdJYfzv5XYwRSpgsiuaj5JzwSFfaRnSgFWLv6keCPujTIADif+XRHkcaxuzrtY JQPduzJ+REb8xie5uSGmeDxGbw+r+gQf2i884= X-Google-DKIM-Signature: v=1; a=rsa-sha256; c=relaxed/relaxed; d=1e100.net; s=20230601; t=1738829366; x=1739434166; h=cc:to:from:subject:message-id:date:x-gm-message-state:from:to:cc :subject:date:message-id:reply-to; bh=L6eX71LZluMbaYuX3AMKsh2OgP9QZpL9pS74hOoe8Go=; b=TZDsqzmkoTD+mn598/uJQaBMW/cvodqQZWuMuvk4+tvdX8dQnNXu0A0zGNZer1ZU3Y hiP8qoPZUgkzMGTYJp6CxVu/ImeSPuJ/slXP+qglN0Ss3rYsZAbLKsh0NTopFQ4/ATGe eJzBGx2p2Jifs1TeWRJNjlwmoWCyI/0yFA5+p/jQLA4tC/UGbygNFDf9KHMEkvlKiwkB QJSvOIBP0iJVLdMJODUEsHcABzoFxCSGi9uaQl8UPKgI7kAWlKki3/BxhDtE87hNaAdA 1RJb4H9Ojy+O5o7v1pgiy8+XSQgnk0BQmCVthTkQKCuAmluwldVxlwG0bw7kODFTIpRt gITQ== X-Gm-Message-State: AOJu0YypYqQs44AXADzLsE8OoXpI/zzh01F6q2u/5aw/qFZ73U32edyp Q4lq2nuw73Gi4Zk2tyvt783GD7/KUW4/i1Ng7MjjAZMLKfmXNsjNC+opn32T4XSTxgDi8Hegsil BCAY/dyFpGYhmtFX1oiLGZX6PFwviRKbIcnb9jYerPpii4Y/R X-Gm-Gg: ASbGncvg5XkApuuhQxLHDoAsqTOD6WhS7mdNwGnw6zcjw9VlUEYOi5OjHL4B4s0Jz9M 2NL5psvDXSN2dL5BvLk/83KcKqPoUrNFxwN6cfCLl+eevrQ1IcxTZzepeltZcI8CEAJK4Tp92ej EXxMHbOaUgxNQmpOLIqpbFLaJbUQLdq4wCi1Jasm70cdibyirj0rBf7lQg4OII1CvN9+bbHq75x G8klFNd9rrza5wTA2TDUw1gXwPM4cqKsddKRpEgVyaNpp99v8TlZd3EAJMz6PWFW1KTGQ/Dfirw piBs1PRqYelg7Tp4GuIh2UvrdJQCftf24tr0cHdLLA== X-Google-Smtp-Source: AGHT+IGANxjaRdto81lxDh49zd5oqywXvQJKxK3b6YqrILcS0se9RLTyF2y/fSJ8oWZ88gLlEpcx2GHU6p92 X-Received: by 2002:a17:902:f78f:b0:215:2d2c:dd0c with SMTP id d9443c01a7336-21f2f1a4271mr41968195ad.14.1738829366586; Thu, 06 Feb 2025 00:09:26 -0800 (PST) Received: from postal.iol.unh.edu (postal.iol.unh.edu. [2606:4100:3880:1234::84]) by smtp-relay.gmail.com with ESMTPS id d9443c01a7336-21f3650cf47sm148775ad.24.2025.02.06.00.09.26 (version=TLS1_2 cipher=ECDHE-ECDSA-AES128-GCM-SHA256 bits=128/128); Thu, 06 Feb 2025 00:09:26 -0800 (PST) X-Relaying-Domain: iol.unh.edu Date: Thu, 06 Feb 2025 00:09:26 -0800 (PST) Message-ID: <67a46e36.170a0220.1d2f1b.112eSMTPIN_ADDED_MISSING@mx.google.com> Received: from [172.21.0.5] (unknown [172.18.0.240]) by postal.iol.unh.edu (Postfix) with ESMTP id AC6F66052471; Thu, 6 Feb 2025 03:09:25 -0500 (EST) Subject: |SUCCESS| [GIT MASTER] f2eea2f37a82bb73fb01d56350708f7d70e21379 From: dpdklab@iol.unh.edu To: Test Report Cc: dpdk-test-reports@iol.unh.edu, Xueming Li , Christian Ehrhardt , Kevin Traynor , Luca Boccassi Content-Type: text/plain X-BeenThere: test-report@dpdk.org X-Mailman-Version: 2.1.29 Precedence: list List-Id: automatic DPDK test reports List-Unsubscribe: , List-Archive: List-Post: List-Help: List-Subscribe: , Errors-To: test-report-bounces@dpdk.org _Testing PASS_ Branch: tags/v24.11 f2eea2f37a82bb73fb01d56350708f7d70e21379 --> testing pass Upstream job id: Windows-Compile-DPDK-Native#26472 Test environment and result as below: +---------------------+-------------------+--------------------+-------------------------+ | Environment | dpdk_msvc_compile | dpdk_meson_compile | dpdk_llvm_clang_compile | +=====================+===================+====================+=========================+ | Windows Server 2022 | PASS | SKIPPED | PASS | +---------------------+-------------------+--------------------+-------------------------+ | FreeBSD 13.4 | SKIPPED | PASS | SKIPPED | +---------------------+-------------------+--------------------+-------------------------+ | FreeBSD 14.2 | SKIPPED | PASS | SKIPPED | +---------------------+-------------------+--------------------+-------------------------+ Windows Server 2022 Kernel: 10.0.20348.2031 Compiler: clang 15.0.7, gcc 14.1.0 (MinGW), and MSVC VS 19.39.33521 FreeBSD 13.4 Kernel: 13.4-RELEASE-p1 Compiler: clang 18.1.6 FreeBSD 14.2 Kernel: 14.2-RELEASE Compiler: clang 18.1.6 To view detailed results, visit: https://lab.dpdk.org/results/dashboard/tarballs/32466/ UNH-IOL DPDK Community Lab To manage your email subscriptions, visit: https://lab.dpdk.org/results/dashboard/preferences/subscriptions/