From mboxrd@z Thu Jan 1 00:00:00 1970 Return-Path: Received: from mails.dpdk.org (mails.dpdk.org [217.70.189.124]) by inbox.dpdk.org (Postfix) with ESMTP id 94F9D461A8 for ; Thu, 6 Feb 2025 09:18:52 +0100 (CET) Received: from mails.dpdk.org (localhost [127.0.0.1]) by mails.dpdk.org (Postfix) with ESMTP id C1E744066D; Thu, 6 Feb 2025 09:18:51 +0100 (CET) Received: from mail-qk1-f228.google.com (mail-qk1-f228.google.com [209.85.222.228]) by mails.dpdk.org (Postfix) with ESMTP id A19494026C for ; Thu, 6 Feb 2025 09:18:50 +0100 (CET) Received: by mail-qk1-f228.google.com with SMTP id af79cd13be357-7b6f75f61f9so94315185a.0 for ; Thu, 06 Feb 2025 00:18:50 -0800 (PST) DKIM-Signature: v=1; a=rsa-sha256; c=relaxed/relaxed; d=iol.unh.edu; s=unh-iol; t=1738829930; x=1739434730; darn=dpdk.org; h=cc:to:from:subject:message-id:date:from:to:cc:subject:date :message-id:reply-to; bh=xQxKuZUbjuQIFh6ndr/kWud3Hnb9xxlRcdRr0xkbuFE=; b=V9k8+cHp5r+F52Tyq0j+H4QHbIsnbLkBhtkW1+a85jNsaeFy5MPtcfSvB1LkeNcjb2 2FzF5xQd4IOOcahHSkacVYPCekAP91W+csMrsq50U4Lf9Ofp7Is0/TJiZ2sjAVqE2qDx dEhyKnPcL0qZfNugC7Zt5W5BZf9XlOW7ckrec= X-Google-DKIM-Signature: v=1; a=rsa-sha256; c=relaxed/relaxed; d=1e100.net; s=20230601; t=1738829930; x=1739434730; h=cc:to:from:subject:message-id:date:x-gm-message-state:from:to:cc :subject:date:message-id:reply-to; bh=xQxKuZUbjuQIFh6ndr/kWud3Hnb9xxlRcdRr0xkbuFE=; b=AQJNCuLZmMi6NtDJIKJfw4JpvvtNpEsDiKzUL0/0EAT3BN/qiCuOiYzI/AVct9O47i 58dvoqlCBCNItq3EuacQShP9ZXVwb/bGJwofgxV5sM5/ABGdGb+298l0mapS4DPnJSgK UMe3SWNIinWjGIx4gHIZBAb81Ck8Bh1cyY4Uum4pRgQCGaHIyW6hEiImqkbLjCBv+xBD 5gHjg55coL+lE12H1q8f/jG5La4M20eCbuPWj+AUwFc4a3+mg3Pc+Umv4VeUCW5VAVLb Vi13zgp2FxbDfslOsRQz329FphMRGSOCTpeB2C9q7HT6qqKxADlqZk1yJzTsz7xujJac NJ7g== X-Gm-Message-State: AOJu0YyqBxZSo/jWEem0wVIkV8ZPtIz4a8Nw14TJUD1c2VT+G2FUdAWT rfPEQogcplWRaES2D8fxR/av5+ekwxHWtj5cDx2Yo0WtMB28ibXswdxuLerJjTkqGjbB9zBcelU RPryYFheJVyEW0lIFnr3Gk3N2biTpf5Kk X-Gm-Gg: ASbGncsOB9tWCD2EVjMVdpW3awxTDwb5Mq8AFDaZb+GpD3Lf23GiknMx2x70ObpW0Wp xjV+MHbtrY9q2jmswQZ4gayRR+QdB8liTEBl9/4iQXeWSpvkIm6TWUgitAT0lyRudiWvfbf5LdK Dm9t4AcX4iALT1f/oXvHRbJBF27cjrGpy29cvVVFKRLvYohOMsa+OO4b/7bp9blz8jMEpk5a1lf mDFFUrfW1gHujaJEoAeViKBR2hTuaUQnsIxC5CRqJ8L5spuJ/u39Y9icgqLMWa2jKNp5fmfQkXj A9k30hoWbeugHJ3QyP3HvlDN2m5eHA== X-Google-Smtp-Source: AGHT+IEZuOkKQ3yakYhO+z17E5atur0dI4ke9upWv/jqC7n8S+MpDRpf+3S541W7PhB2zM7hA8XJEzSJk7pZ X-Received: by 2002:a05:620a:271f:b0:7b6:c6f8:1d29 with SMTP id af79cd13be357-7c03a027f37mr999901285a.47.1738829930043; Thu, 06 Feb 2025 00:18:50 -0800 (PST) Received: from postal.iol.unh.edu (postal.iol.unh.edu. [132.177.123.84]) by smtp-relay.gmail.com with ESMTPS id 6a1803df08f44-6e43ba459e3sm540306d6.28.2025.02.06.00.18.49 (version=TLS1_2 cipher=ECDHE-ECDSA-AES128-GCM-SHA256 bits=128/128); Thu, 06 Feb 2025 00:18:50 -0800 (PST) X-Relaying-Domain: iol.unh.edu Date: Thu, 06 Feb 2025 00:18:50 -0800 (PST) Message-ID: <67a4706a.d40a0220.3659dc.3393SMTPIN_ADDED_MISSING@mx.google.com> Received: from [172.21.0.6] (unknown [172.18.0.240]) by postal.iol.unh.edu (Postfix) with ESMTP id B1A4B6052471; Thu, 6 Feb 2025 03:18:49 -0500 (EST) Subject: |SUCCESS| [GIT MASTER] c66daa12e76d7b4912cfb7109a761856a7a873ab From: dpdklab@iol.unh.edu To: Test Report Cc: dpdk-test-reports@iol.unh.edu, Xueming Li , Christian Ehrhardt , Kevin Traynor , Luca Boccassi Content-Type: text/plain X-BeenThere: test-report@dpdk.org X-Mailman-Version: 2.1.29 Precedence: list List-Id: automatic DPDK test reports List-Unsubscribe: , List-Archive: List-Post: List-Help: List-Subscribe: , Errors-To: test-report-bounces@dpdk.org _Testing PASS_ Branch: tags/v23.11 c66daa12e76d7b4912cfb7109a761856a7a873ab --> testing pass Upstream job id: Windows-Compile-DPDK-Native#26474 Test environment and result as below: +---------------------+--------------------+-------------------+-------------------------+ | Environment | dpdk_meson_compile | dpdk_msvc_compile | dpdk_llvm_clang_compile | +=====================+====================+===================+=========================+ | FreeBSD 13.4 | PASS | SKIPPED | SKIPPED | +---------------------+--------------------+-------------------+-------------------------+ | FreeBSD 14.2 | PASS | SKIPPED | SKIPPED | +---------------------+--------------------+-------------------+-------------------------+ | Windows Server 2022 | SKIPPED | PASS | PASS | +---------------------+--------------------+-------------------+-------------------------+ FreeBSD 13.4 Kernel: 13.4-RELEASE-p1 Compiler: clang 18.1.6 FreeBSD 14.2 Kernel: 14.2-RELEASE Compiler: clang 18.1.6 Windows Server 2022 Kernel: 10.0.20348.2031 Compiler: clang 15.0.7, gcc 14.1.0 (MinGW), and MSVC VS 19.39.33521 To view detailed results, visit: https://lab.dpdk.org/results/dashboard/tarballs/32467/ UNH-IOL DPDK Community Lab To manage your email subscriptions, visit: https://lab.dpdk.org/results/dashboard/preferences/subscriptions/