automatic DPDK test reports
 help / color / mirror / Atom feed
* |SUCCESS| [GIT MASTER] e595e7b5758fc73d99b810f5a8748f94bd467084
@ 2025-02-06  8:19 dpdklab
  0 siblings, 0 replies; 5+ messages in thread
From: dpdklab @ 2025-02-06  8:19 UTC (permalink / raw)
  To: Test Report; +Cc: dpdk-test-reports, Stephen Hemminger

_Functional Testing PASS_

Branch: dpdk-next-net

e595e7b5758fc73d99b810f5a8748f94bd467084 --> functional testing pass

Upstream job id: Template-DTS-Pipeline#211090

Test environment and result as below:

Ubuntu 20.04.6
Kernel: 5.4.105
Compiler: gcc 9.4
NIC: Marvell CN106XX 50000 Mbps
Target: arm64-native-linuxapp-gcc

Aggregate Results by Test Suite
+-----------------+--------+
|   Test Suite    | Result |
+=================+========+
| cmdline         |  PASS  |
+-----------------+--------+
| dynamic_queue   |  PASS  |
+-----------------+--------+
| ipv4_reassembly |  PASS  |
+-----------------+--------+
| rxtx_callbacks  |  PASS  |
+-----------------+--------+
| tso             |  PASS  |
+-----------------+--------+


To view detailed results, visit:
https://lab.dpdk.org/results/dashboard/tarballs/32469/

UNH-IOL DPDK Community Lab

To manage your email subscriptions, visit: 
https://lab.dpdk.org/results/dashboard/preferences/subscriptions/

^ permalink raw reply	[flat|nested] 5+ messages in thread
* |SUCCESS| [GIT MASTER] e595e7b5758fc73d99b810f5a8748f94bd467084
@ 2025-02-06  9:10 dpdklab
  0 siblings, 0 replies; 5+ messages in thread
From: dpdklab @ 2025-02-06  9:10 UTC (permalink / raw)
  To: Test Report; +Cc: dpdk-test-reports, Stephen Hemminger

_Testing PASS_

Branch: dpdk-next-net

e595e7b5758fc73d99b810f5a8748f94bd467084 --> testing pass

Upstream job id: Template-DTS-Pipeline#211091

Test environment and result as below:

+--------------------+----------------------+
|    Environment     | compressdev_zlib_pmd |
+====================+======================+
| Ubuntu 22.04 (ARM) | PASS                 |
+--------------------+----------------------+
| Ubuntu 22.04       | PASS                 |
+--------------------+----------------------+


Ubuntu 22.04 (ARM)
	Kernel: 5.15.0-97-generic
	Compiler: gcc gcc (Ubuntu 11.4.0-1ubuntu1~22.04) 11.4.0

Ubuntu 22.04
	Kernel: 5.15.0-100-generic
	Compiler: gcc gcc (Ubuntu 11.4.0-1ubuntu1~22.04) 11.4.0

To view detailed results, visit:
https://lab.dpdk.org/results/dashboard/tarballs/32469/

UNH-IOL DPDK Community Lab

To manage your email subscriptions, visit: 
https://lab.dpdk.org/results/dashboard/preferences/subscriptions/

^ permalink raw reply	[flat|nested] 5+ messages in thread
* |SUCCESS| [GIT MASTER] e595e7b5758fc73d99b810f5a8748f94bd467084
@ 2025-02-06  8:18 dpdklab
  0 siblings, 0 replies; 5+ messages in thread
From: dpdklab @ 2025-02-06  8:18 UTC (permalink / raw)
  To: Test Report; +Cc: dpdk-test-reports, Stephen Hemminger

_Functional Testing PASS_

Branch: dpdk-next-net

e595e7b5758fc73d99b810f5a8748f94bd467084 --> functional testing pass

Upstream job id: Template-DTS-Pipeline#211087

Test environment and result as below:

Ubuntu 22.04
Kernel: 5.15.0-131-generic
Compiler: gcc (Ubuntu 11.4.0-1ubuntu1~22.04) 11.4.0
NIC: Intel Corporation Ethernet Converged Network Adapter 82599ES 10000 Mbps

Aggregate Results by Test Suite
+-----------------------------+--------+
|         Test Suite          | Result |
+=============================+========+
| unit_tests_mbuf             |  PASS  |
+-----------------------------+--------+
| vhost_virtio_user_interrupt |  PASS  |
+-----------------------------+--------+
| virtio_smoke                |  PASS  |
+-----------------------------+--------+


To view detailed results, visit:
https://lab.dpdk.org/results/dashboard/tarballs/32469/

UNH-IOL DPDK Community Lab

To manage your email subscriptions, visit: 
https://lab.dpdk.org/results/dashboard/preferences/subscriptions/

^ permalink raw reply	[flat|nested] 5+ messages in thread
* |SUCCESS| [GIT MASTER] e595e7b5758fc73d99b810f5a8748f94bd467084
@ 2025-02-06  8:05 dpdklab
  0 siblings, 0 replies; 5+ messages in thread
From: dpdklab @ 2025-02-06  8:05 UTC (permalink / raw)
  To: Ali Alnubani, Test Report; +Cc: dpdk-test-reports, Stephen Hemminger

_Performance Testing PASS_

Branch: dpdk-next-net

e595e7b5758fc73d99b810f5a8748f94bd467084 --> performance testing pass

Upstream job id: Template-DTS-Pipeline#211080

Test environment and result as below:

Ubuntu 24.04
Kernel: 6.8.0-45-generic
Compiler: gcc 13.2.0
NIC: NVIDIA Mellanox ConnectX-7 100000 Mbps
Fail/Total: 0/6

Detail performance results: 
+------------+---------+----------+-------------+------------------------------+
| frame_size | txd/rxd | num_cpus | num_threads |  throughput difference from  |
|            |         |          |             |           expected           |
+============+=========+==========+=============+==============================+
| 64         | 1024    | 1        | 1           | -1.6%                        |
+------------+---------+----------+-------------+------------------------------+
| 128        | 1024    | 1        | 1           | -0.3%                        |
+------------+---------+----------+-------------+------------------------------+
| 256        | 1024    | 1        | 1           | 0.9%                         |
+------------+---------+----------+-------------+------------------------------+
| 512        | 1024    | 1        | 1           | -0.0%                        |
+------------+---------+----------+-------------+------------------------------+
| 1024       | 1024    | 1        | 1           | 0.0%                         |
+------------+---------+----------+-------------+------------------------------+
| 1518       | 1024    | 1        | 1           | 0.0%                         |
+------------+---------+----------+-------------+------------------------------+

Ubuntu 24.04
Kernel: 6.8.0-45-generic
Compiler: gcc 13.2.0
NIC: Mellanox ConnectX-6 Lx 25000 Mbps
Fail/Total: 0/6

Detail performance results: 
+------------+---------+----------+-------------+------------------------------+
| frame_size | txd/rxd | num_cpus | num_threads |  throughput difference from  |
|            |         |          |             |           expected           |
+============+=========+==========+=============+==============================+
| 64         | 1024    | 1        | 1           | 0.0%                         |
+------------+---------+----------+-------------+------------------------------+
| 128        | 1024    | 1        | 1           | -0.0%                        |
+------------+---------+----------+-------------+------------------------------+
| 256        | 1024    | 1        | 1           | -0.2%                        |
+------------+---------+----------+-------------+------------------------------+
| 512        | 1024    | 1        | 1           | 0.1%                         |
+------------+---------+----------+-------------+------------------------------+
| 1024       | 1024    | 1        | 1           | 0.0%                         |
+------------+---------+----------+-------------+------------------------------+
| 1518       | 1024    | 1        | 1           | 0.1%                         |
+------------+---------+----------+-------------+------------------------------+

To view detailed results, visit:
https://lab.dpdk.org/results/dashboard/tarballs/32469/

UNH-IOL DPDK Community Lab

To manage your email subscriptions, visit: 
https://lab.dpdk.org/results/dashboard/preferences/subscriptions/

^ permalink raw reply	[flat|nested] 5+ messages in thread
* |SUCCESS| [GIT MASTER] e595e7b5758fc73d99b810f5a8748f94bd467084
@ 2025-02-06  8:00 dpdklab
  0 siblings, 0 replies; 5+ messages in thread
From: dpdklab @ 2025-02-06  8:00 UTC (permalink / raw)
  To: Test Report; +Cc: dpdk-test-reports, Stephen Hemminger

_Testing PASS_

Branch: dpdk-next-net

e595e7b5758fc73d99b810f5a8748f94bd467084 --> testing pass

Upstream job id: Template-DTS-Pipeline#211092

Test environment and result as below:

+--------------------+----------------------+
|    Environment     | compressdev_zlib_pmd |
+====================+======================+
| Ubuntu 22.04 (ARM) | PASS                 |
+--------------------+----------------------+


Ubuntu 22.04 (ARM)
	Kernel: 5.15.0-97-generic
	Compiler: gcc gcc (Ubuntu 11.4.0-1ubuntu1~22.04) 11.4.0

To view detailed results, visit:
https://lab.dpdk.org/results/dashboard/tarballs/32469/

UNH-IOL DPDK Community Lab

To manage your email subscriptions, visit: 
https://lab.dpdk.org/results/dashboard/preferences/subscriptions/

^ permalink raw reply	[flat|nested] 5+ messages in thread

end of thread, other threads:[~2025-02-06  9:10 UTC | newest]

Thread overview: 5+ messages (download: mbox.gz / follow: Atom feed)
-- links below jump to the message on this page --
2025-02-06  8:19 |SUCCESS| [GIT MASTER] e595e7b5758fc73d99b810f5a8748f94bd467084 dpdklab
  -- strict thread matches above, loose matches on Subject: below --
2025-02-06  9:10 dpdklab
2025-02-06  8:18 dpdklab
2025-02-06  8:05 dpdklab
2025-02-06  8:00 dpdklab

This is a public inbox, see mirroring instructions
for how to clone and mirror all data and code used for this inbox;
as well as URLs for NNTP newsgroup(s).