From mboxrd@z Thu Jan 1 00:00:00 1970 Return-Path: Received: from mails.dpdk.org (mails.dpdk.org [217.70.189.124]) by inbox.dpdk.org (Postfix) with ESMTP id 5D7624611F for ; Thu, 6 Feb 2025 09:22:33 +0100 (CET) Received: from mails.dpdk.org (localhost [127.0.0.1]) by mails.dpdk.org (Postfix) with ESMTP id 580B24066D; Thu, 6 Feb 2025 09:22:33 +0100 (CET) Received: from mail-il1-f226.google.com (mail-il1-f226.google.com [209.85.166.226]) by mails.dpdk.org (Postfix) with ESMTP id 2F8864026C for ; Thu, 6 Feb 2025 09:22:32 +0100 (CET) Received: by mail-il1-f226.google.com with SMTP id e9e14a558f8ab-3d03d2bd7d2so6090235ab.0 for ; Thu, 06 Feb 2025 00:22:32 -0800 (PST) DKIM-Signature: v=1; a=rsa-sha256; c=relaxed/relaxed; d=iol.unh.edu; s=unh-iol; t=1738830151; x=1739434951; darn=dpdk.org; h=cc:to:from:subject:message-id:date:from:to:cc:subject:date :message-id:reply-to; bh=R9aeTnZJznE8e8lvyr5jbWbWWIVnl1mJ5gPlOGT79V4=; b=U3i5vzynoIqiGqlEgpqKZb3gdUhaJQORi3wIU1IemkCMXLkuccMdpX2WAIIiuP3CqY 1ak1QvX83BuIYjuwzYRDYHsyi6AKYm1rxJSo0fptHJ5fGA5JFmgNkQLPOKoxrmQRqrNQ 9ymhqBEkYsq4C9W5spDtzA344a3LJ1SLIwn08= X-Google-DKIM-Signature: v=1; a=rsa-sha256; c=relaxed/relaxed; d=1e100.net; s=20230601; t=1738830151; x=1739434951; h=cc:to:from:subject:message-id:date:x-gm-message-state:from:to:cc :subject:date:message-id:reply-to; bh=R9aeTnZJznE8e8lvyr5jbWbWWIVnl1mJ5gPlOGT79V4=; b=AgqOkb5I8ltZLH+bgb2o6PcwS719HAZJreVLk/QMkdDvaJqCNXi27HOcn4I4ysdbYX JF0x48VQgFiJ8ocfMzG2UN5ep1zIyhVwcU4QwJPaN6ocp+n2OzHJon1aFpA8QZJWr6GY dHJpXIJhu2MZbdymLCn9dTukBI5pErJIscmLfSFUJFwr/OlSp2XyE7LMyN0hPjN/oyTP ILH7OfmyUawjYFUlIoVqtao8bIoinqJC1GzLNqARFzpAMfZ7m11qsPBcV4pn/h5QZD7A tG5FyoBUygI6fS0h4qAcw2VEm/nbnKct5UnQq4Gb7prQlQiBWezmYcNfogeBzlatWHH7 Vw0g== X-Gm-Message-State: AOJu0YxeawRnFmaiNRDUHIunLJy4z7LbprhyviV4kWZOyiEDaqSym15N bECL5EkD4sp8iegrT67Ki1Q5v/qwtXBYJclwVNNqSCS02gpbslan8Y4Y+x3PS1PdIcfE7cduCUn KnyphxDrhpwbQq4VH+ZzWEuwM2MCNFPOF X-Gm-Gg: ASbGncvMe7Vhtynzw9vknLUY5sJmcGT661g+7vNJt7S4C8lZh2cRxlE0V9j5R+850hG mZ2RViSd8k2iyxBfKAchPn3Be+a204GGmqXN2L9n7+HEJeWwPX+KOna1ki68yurqL/CUSKKJeYV EDrANAZVyM8H+SBCSygw9j9yxDp0XDgVOHU6G7yT5MEyHukkCZT12ooXwBgDqhBZxH3E47tzzLl eLNKZEgg6hEwhrZduZH7kqLY/xQOy122KoYpLDgFgobTGlZl0wUVS7XCo8Y8mbUCLl/uBBO4gIe xPxy7YmlJblXBXJ03aPeQNiR/UrDWw== X-Google-Smtp-Source: AGHT+IHqh+qIvcgnVM+mzDteQnI5vba/SnufwvqnCokJJV3Y7rlaj/o7HAePyf2Vd6mnK3pezijYgYZvF6S/ X-Received: by 2002:a05:6e02:b2c:b0:3cf:c803:1295 with SMTP id e9e14a558f8ab-3d04f479891mr51552315ab.3.1738830151548; Thu, 06 Feb 2025 00:22:31 -0800 (PST) Received: from postal.iol.unh.edu (postal.iol.unh.edu. [132.177.123.84]) by smtp-relay.gmail.com with ESMTPS id e9e14a558f8ab-3d05ea209cesm431635ab.64.2025.02.06.00.22.31 (version=TLS1_2 cipher=ECDHE-ECDSA-AES128-GCM-SHA256 bits=128/128); Thu, 06 Feb 2025 00:22:31 -0800 (PST) X-Relaying-Domain: iol.unh.edu Date: Thu, 06 Feb 2025 00:22:31 -0800 (PST) Message-ID: <67a47147.050a0220.5daf0.2b61SMTPIN_ADDED_MISSING@mx.google.com> Received: from [172.21.0.6] (unknown [172.18.0.240]) by postal.iol.unh.edu (Postfix) with ESMTP id 105AE6052471; Thu, 6 Feb 2025 03:22:31 -0500 (EST) Subject: |SUCCESS| [GIT MASTER] c66daa12e76d7b4912cfb7109a761856a7a873ab From: dpdklab@iol.unh.edu To: Test Report Cc: dpdk-test-reports@iol.unh.edu, Xueming Li , Christian Ehrhardt , Kevin Traynor , Luca Boccassi Content-Type: text/plain X-BeenThere: test-report@dpdk.org X-Mailman-Version: 2.1.29 Precedence: list List-Id: automatic DPDK test reports List-Unsubscribe: , List-Archive: List-Post: List-Help: List-Subscribe: , Errors-To: test-report-bounces@dpdk.org _Testing PASS_ Branch: tags/v23.11 c66daa12e76d7b4912cfb7109a761856a7a873ab --> testing pass Upstream job id: Windows-Compile-DPDK-Native#26475 Test environment and result as below: +---------------------+--------------------+-------------------+-------------------------+----------------------+ | Environment | dpdk_meson_compile | dpdk_msvc_compile | dpdk_llvm_clang_compile | dpdk_mingw64_compile | +=====================+====================+===================+=========================+======================+ | FreeBSD 13.4 | PASS | SKIPPED | SKIPPED | SKIPPED | +---------------------+--------------------+-------------------+-------------------------+----------------------+ | FreeBSD 14.2 | PASS | SKIPPED | SKIPPED | SKIPPED | +---------------------+--------------------+-------------------+-------------------------+----------------------+ | Windows Server 2022 | SKIPPED | PASS | PASS | PASS | +---------------------+--------------------+-------------------+-------------------------+----------------------+ FreeBSD 13.4 Kernel: 13.4-RELEASE-p1 Compiler: clang 18.1.6 FreeBSD 14.2 Kernel: 14.2-RELEASE Compiler: clang 18.1.6 Windows Server 2022 Kernel: 10.0.20348.2031 Compiler: clang 15.0.7, gcc 14.1.0 (MinGW), and MSVC VS 19.39.33521 To view detailed results, visit: https://lab.dpdk.org/results/dashboard/tarballs/32467/ UNH-IOL DPDK Community Lab To manage your email subscriptions, visit: https://lab.dpdk.org/results/dashboard/preferences/subscriptions/