automatic DPDK test reports
 help / color / mirror / Atom feed
From: dpdklab@iol.unh.edu
To: Test Report <test-report@dpdk.org>
Cc: dpdk-test-reports@iol.unh.edu
Subject: |SUCCESS| pw151006-151005 [PATCH] [v3,2/2] drivers/net: add MSVC com
Date: Thu, 06 Feb 2025 00:28:24 -0800 (PST)	[thread overview]
Message-ID: <67a472a8.050a0220.89f92.2803SMTPIN_ADDED_MISSING@mx.google.com> (raw)
In-Reply-To: <1738781590-2408-3-git-send-email-andremue@linux.microsoft.com>

Test-Label: iol-compile-amd64-testing
Test-Status: SUCCESS
http://dpdk.org/patch/151005

_Testing PASS_

Submitter: Andre Muezerie <andremue@linux.microsoft.com>
Date: Wednesday, February 05 2025 18:53:10 
DPDK git baseline: Repo:dpdk
  Branch: master
  CommitID:e595e7b5758fc73d99b810f5a8748f94bd467084

151006-151005 --> testing pass

Upstream job id: Generic-DPDK-Compile-Meson#358244

Test environment and result as below:

+---------------------+-------------------+--------------------+-------------------------+----------------------+------------------+-------------------+
|     Environment     | dpdk_msvc_compile | dpdk_meson_compile | dpdk_llvm_clang_compile | dpdk_mingw64_compile | dpdk_compile_ovs | dpdk_compile_spdk |
+=====================+===================+====================+=========================+======================+==================+===================+
| Windows Server 2022 | PASS              | SKIPPED            | PASS                    | PASS                 | SKIPPED          | SKIPPED           |
+---------------------+-------------------+--------------------+-------------------------+----------------------+------------------+-------------------+
| FreeBSD 13.4        | SKIPPED           | PASS               | SKIPPED                 | SKIPPED              | SKIPPED          | SKIPPED           |
+---------------------+-------------------+--------------------+-------------------------+----------------------+------------------+-------------------+
| FreeBSD 14.2        | SKIPPED           | PASS               | SKIPPED                 | SKIPPED              | SKIPPED          | SKIPPED           |
+---------------------+-------------------+--------------------+-------------------------+----------------------+------------------+-------------------+
| CentOS Stream 9     | SKIPPED           | PASS               | SKIPPED                 | SKIPPED              | PASS             | PASS              |
+---------------------+-------------------+--------------------+-------------------------+----------------------+------------------+-------------------+
| Debian Bullseye     | SKIPPED           | PASS               | SKIPPED                 | SKIPPED              | PASS             | PASS              |
+---------------------+-------------------+--------------------+-------------------------+----------------------+------------------+-------------------+
| Debian 12           | SKIPPED           | PASS               | SKIPPED                 | SKIPPED              | PASS             | PASS              |
+---------------------+-------------------+--------------------+-------------------------+----------------------+------------------+-------------------+
| Fedora 40 (Clang)   | SKIPPED           | PASS               | SKIPPED                 | SKIPPED              | PASS             | PASS              |
+---------------------+-------------------+--------------------+-------------------------+----------------------+------------------+-------------------+
| Fedora 40           | SKIPPED           | PASS               | SKIPPED                 | SKIPPED              | PASS             | PASS              |
+---------------------+-------------------+--------------------+-------------------------+----------------------+------------------+-------------------+
| Fedora 41 (Clang)   | SKIPPED           | PASS               | SKIPPED                 | SKIPPED              | PASS             | PASS              |
+---------------------+-------------------+--------------------+-------------------------+----------------------+------------------+-------------------+
| Fedora 41           | SKIPPED           | PASS               | SKIPPED                 | SKIPPED              | PASS             | PASS              |
+---------------------+-------------------+--------------------+-------------------------+----------------------+------------------+-------------------+
| openSUSE Leap 15    | SKIPPED           | PASS               | SKIPPED                 | SKIPPED              | SKIPPED          | SKIPPED           |
+---------------------+-------------------+--------------------+-------------------------+----------------------+------------------+-------------------+
| RHEL8               | SKIPPED           | PASS               | SKIPPED                 | SKIPPED              | PASS             | SKIPPED           |
+---------------------+-------------------+--------------------+-------------------------+----------------------+------------------+-------------------+
| RHEL9               | SKIPPED           | PASS               | SKIPPED                 | SKIPPED              | PASS             | SKIPPED           |
+---------------------+-------------------+--------------------+-------------------------+----------------------+------------------+-------------------+
| Ubuntu 20.04        | SKIPPED           | PASS               | SKIPPED                 | SKIPPED              | SKIPPED          | SKIPPED           |
+---------------------+-------------------+--------------------+-------------------------+----------------------+------------------+-------------------+
| Ubuntu 22.04        | SKIPPED           | PASS               | SKIPPED                 | SKIPPED              | PASS             | PASS              |
+---------------------+-------------------+--------------------+-------------------------+----------------------+------------------+-------------------+
| Ubuntu 24.04        | SKIPPED           | PASS               | SKIPPED                 | SKIPPED              | PASS             | PASS              |
+---------------------+-------------------+--------------------+-------------------------+----------------------+------------------+-------------------+
| Alpine              | SKIPPED           | PASS               | SKIPPED                 | SKIPPED              | PASS             | SKIPPED           |
+---------------------+-------------------+--------------------+-------------------------+----------------------+------------------+-------------------+


Windows Server 2022
	Kernel: 10.0.20348.2031
	Compiler: clang 15.0.7, gcc 14.1.0 (MinGW), and MSVC VS 19.39.33521

FreeBSD 13.4
	Kernel: 13.4-RELEASE-p1
	Compiler: clang 18.1.6

FreeBSD 14.2
	Kernel: 14.2-RELEASE
	Compiler: clang 18.1.6

CentOS Stream 9
	Kernel: Depends on container host
	Compiler: gcc 11.5.0 20240719 (Red Hat 11.5.0-2)

Debian Bullseye
	Kernel: Depends on container host
	Compiler: gcc (Debian 10.2.1-6) 10.2.1 20210110

Debian 12
	Kernel: Depends on container host
	Compiler: gcc (Debian 12.2.0-14) 12.2.0

Fedora 40 (Clang)
	Kernel: Depends on container host
	Compiler: clang 18.1.8 (Fedora 18.1.8-1.fc40)

Fedora 40
	Kernel: Depends on container host
	Compiler: gcc 14.2.1 20240912 (Red Hat 14.2.1-3)

Fedora 41 (Clang)
	Kernel: Depends on container host
	Compiler: clang 19.1.5 (Fedora 19.1.5-1.fc41)

Fedora 41
	Kernel: Depends on container host
	Compiler: gcc 14.2.1 20240912 (Red Hat 14.2.1-3)

openSUSE Leap 15
	Kernel: Depends on container host
	Compiler: gcc (SUSE Linux) 7.5.0

RHEL8
	Kernel: Depends on container host
	Compiler: gcc 8.5.0 20210514 (Red Hat 8.5.0-22)

RHEL9
	Kernel: Depends on container host
	Compiler: gcc 11.5.0 20240719 (Red Hat 11.5.0-2)

Ubuntu 20.04
	Kernel: Depends on container host
	Compiler: gcc (Ubuntu 9.4.0-1ubuntu1~20.04.2) 9.4.0

Ubuntu 22.04
	Kernel: Depends on container host
	Compiler: gcc (Ubuntu 11.4.0-1ubuntu1~22.04) 11.4.0

Ubuntu 24.04
	Kernel: Depends on container host
	Compiler: gcc (Ubuntu 13.3.0-6ubuntu2~24.04) 13.3.0

Alpine
	Kernel: Depends on container host
	Compiler: gcc (Alpine 14.2.0) 14.2.0

To view detailed results, visit:
https://lab.dpdk.org/results/dashboard/patchsets/32504/

UNH-IOL DPDK Community Lab

To manage your email subscriptions, visit: 
https://lab.dpdk.org/results/dashboard/preferences/subscriptions/

  parent reply	other threads:[~2025-02-06  8:28 UTC|newest]

Thread overview: 34+ messages / expand[flat|nested]  mbox.gz  Atom feed  top
     [not found] <1738781590-2408-3-git-send-email-andremue@linux.microsoft.com>
2025-02-05 18:19 ` |SUCCESS| pw151006-151005 [PATCH v3 2/2] drivers/net: add MSVC compiler flag for unused variables qemudev
2025-02-05 18:24 ` qemudev
2025-02-05 18:53 ` |SUCCESS| pw151005 " checkpatch
2025-02-05 19:45 ` 0-day Robot
2025-02-05 23:00 ` |SUCCESS| pw151006-151005 [PATCH] [v3,2/2] drivers/net: add MSVC com dpdklab
2025-02-05 23:03 ` dpdklab
2025-02-05 23:09 ` dpdklab
2025-02-05 23:19 ` dpdklab
2025-02-05 23:32 ` dpdklab
2025-02-05 23:33 ` dpdklab
2025-02-05 23:42 ` |PENDING| " dpdklab
2025-02-05 23:49 ` dpdklab
2025-02-05 23:49 ` |SUCCESS| " dpdklab
2025-02-05 23:50 ` dpdklab
2025-02-05 23:53 ` dpdklab
2025-02-05 23:59 ` dpdklab
2025-02-06  0:11 ` dpdklab
2025-02-06  0:14 ` |PENDING| " dpdklab
2025-02-06  0:18 ` |SUCCESS| " dpdklab
2025-02-06  0:45 ` |PENDING| " dpdklab
2025-02-06  0:55 ` dpdklab
2025-02-06  1:11 ` |SUCCESS| " dpdklab
2025-02-06  1:34 ` dpdklab
2025-02-06  1:34 ` dpdklab
2025-02-06  1:36 ` |PENDING| " dpdklab
2025-02-06  2:01 ` |SUCCESS| " dpdklab
2025-02-06  2:09 ` dpdklab
2025-02-06  2:55 ` dpdklab
2025-02-06  3:12 ` dpdklab
2025-02-06  3:40 ` dpdklab
2025-02-06  4:19 ` dpdklab
2025-02-06  7:30 ` dpdklab
2025-02-06  8:28 ` dpdklab [this message]
2025-02-06  8:29 ` dpdklab

Reply instructions:

You may reply publicly to this message via plain-text email
using any one of the following methods:

* Save the following mbox file, import it into your mail client,
  and reply-to-all from there: mbox

  Avoid top-posting and favor interleaved quoting:
  https://en.wikipedia.org/wiki/Posting_style#Interleaved_style

* Reply using the --to, --cc, and --in-reply-to
  switches of git-send-email(1):

  git send-email \
    --in-reply-to=67a472a8.050a0220.89f92.2803SMTPIN_ADDED_MISSING@mx.google.com \
    --to=dpdklab@iol.unh.edu \
    --cc=dpdk-test-reports@iol.unh.edu \
    --cc=test-report@dpdk.org \
    /path/to/YOUR_REPLY

  https://kernel.org/pub/software/scm/git/docs/git-send-email.html

* If your mail client supports setting the In-Reply-To header
  via mailto: links, try the mailto: link
Be sure your reply has a Subject: header at the top and a blank line before the message body.
This is a public inbox, see mirroring instructions
for how to clone and mirror all data and code used for this inbox;
as well as URLs for NNTP newsgroup(s).