From mboxrd@z Thu Jan 1 00:00:00 1970 Return-Path: Received: from mails.dpdk.org (mails.dpdk.org [217.70.189.124]) by inbox.dpdk.org (Postfix) with ESMTP id 2EBC1461A8 for ; Thu, 6 Feb 2025 09:28:27 +0100 (CET) Received: from mails.dpdk.org (localhost [127.0.0.1]) by mails.dpdk.org (Postfix) with ESMTP id E7E964066D; Thu, 6 Feb 2025 09:28:26 +0100 (CET) Received: from mail-il1-f225.google.com (mail-il1-f225.google.com [209.85.166.225]) by mails.dpdk.org (Postfix) with ESMTP id A7E234026C for ; Thu, 6 Feb 2025 09:28:25 +0100 (CET) Received: by mail-il1-f225.google.com with SMTP id e9e14a558f8ab-3d05b672ee6so1745115ab.1 for ; Thu, 06 Feb 2025 00:28:25 -0800 (PST) DKIM-Signature: v=1; a=rsa-sha256; c=relaxed/relaxed; d=iol.unh.edu; s=unh-iol; t=1738830505; x=1739435305; darn=dpdk.org; h=references:in-reply-to:cc:to:from:subject:message-id:date:from:to :cc:subject:date:message-id:reply-to; bh=8YRLGUXYTWPcLxBalV+SGBSh13bRs627Kofb5djyEaw=; b=M3hFaGFvhOnhExdS3a71HFNyQOwkYmi0oO5JAGVCNUW25HkkVhkr2u6Yq2N5B1dvEl pDYH19b8bUm35awQ7JsetwQQVTqXxyP+RukNxnnbfxw1gQtN69JneYRRo0Xo8TE+jeMq Cl4+4lczZvqLkllemCP4huiv/U1Du/TreoIOU= X-Google-DKIM-Signature: v=1; a=rsa-sha256; c=relaxed/relaxed; d=1e100.net; s=20230601; t=1738830505; x=1739435305; h=references:in-reply-to:cc:to:from:subject:message-id:date :x-gm-message-state:from:to:cc:subject:date:message-id:reply-to; bh=8YRLGUXYTWPcLxBalV+SGBSh13bRs627Kofb5djyEaw=; b=AEroV2QZiSElTw3wpHYEpmhkjKJGfFn/Nye8L0to3ct7WYR0qN/sUXnczzEwLpb5Yf sHRoNj/7zXX0KpKAv3whzwSRqKymv0RhZzKPRrzYqYcuvvOQ+0+2BxNSDD6i5fMVKzzf cOpxmFFzEU+erd4wxWYYsAmAX3xMiub7sxkCUtkU8CtQ8Z6mexd4yzFEVeQ0X9+W5gZI IaN83639QsxP4SqFmefgVlmHP3/v4fYbizfW3ZMlpXeKTn/lFa2Hp3ZAyUn0EsEP64Jy vZgzQFNOC9HY5ByFxwufuUNTJvFuUAL5g1mLIql3o10wiatwPg9o2gO0iFyUrqnz/VxT iqTw== X-Gm-Message-State: AOJu0YzieX4n6xLjkVWeQ2H7YXrG677LMll+j0p0iFjabFDXh284HPws +8yre94XV03prU+/6Q0+rkJX7Kj+aWlNung1Gf0rD3KaHCBvJ9uPx7ojT+13FhY3Tu4/UI+m2Gf gld6aF86WgKPFZ0HY9HsOgolccCyIxzTwkWTiyqps X-Gm-Gg: ASbGncsekait4Fd9EZNlysfprt85GQ8Vz1EVq1z1L20wGve1qIvfsR08e2XlJ+DZx3+ aQaxpf5GKKay5aEw0bGtEpQtSSoyISgu4DNcVIPdEPJl0slJrmyW7321JPr9mR/K1q/VA+qCV/q PRWU3sGWbGybCglaxuG1AEHYASPN1nvz/R+f47LnZLcbCLfK1dsDuBagx//gXyu5BeSFyVOidwq y49NqtlCUXTyGFkhfWlZWcekVndgwMEzzYkQCBJyIaLXJdyksl8wPUfdBHC2ApWNm4/Uo/267LU +Tczs4Fy4Mxo3S/+FeaIAQ/mLbSB+Q== X-Google-Smtp-Source: AGHT+IGSPVvTBojl3wCcDHmqp3sU/4Unid8l+SnihNPfFuz+i1B2MMO+qEuk6u86ubXePNzSIP22qBjgY6yh X-Received: by 2002:a05:6e02:170e:b0:3cf:c8f0:70f8 with SMTP id e9e14a558f8ab-3d05a585b36mr16304935ab.4.1738830504909; Thu, 06 Feb 2025 00:28:24 -0800 (PST) Received: from postal.iol.unh.edu (postal.iol.unh.edu. [132.177.123.84]) by smtp-relay.gmail.com with ESMTPS id e9e14a558f8ab-3d05e905ec6sm442835ab.27.2025.02.06.00.28.24 (version=TLS1_2 cipher=ECDHE-ECDSA-AES128-GCM-SHA256 bits=128/128); Thu, 06 Feb 2025 00:28:24 -0800 (PST) X-Relaying-Domain: iol.unh.edu Date: Thu, 06 Feb 2025 00:28:24 -0800 (PST) Message-ID: <67a472a8.050a0220.89f92.2803SMTPIN_ADDED_MISSING@mx.google.com> Received: from [172.21.0.5] (unknown [172.18.0.240]) by postal.iol.unh.edu (Postfix) with ESMTP id 5A2E76052471; Thu, 6 Feb 2025 03:28:24 -0500 (EST) Subject: |SUCCESS| pw151006-151005 [PATCH] [v3,2/2] drivers/net: add MSVC com From: dpdklab@iol.unh.edu To: Test Report Cc: dpdk-test-reports@iol.unh.edu In-Reply-To: <1738781590-2408-3-git-send-email-andremue@linux.microsoft.com> References: <1738781590-2408-3-git-send-email-andremue@linux.microsoft.com> Content-Type: text/plain X-BeenThere: test-report@dpdk.org X-Mailman-Version: 2.1.29 Precedence: list List-Id: automatic DPDK test reports List-Unsubscribe: , List-Archive: List-Post: List-Help: List-Subscribe: , Errors-To: test-report-bounces@dpdk.org Test-Label: iol-compile-amd64-testing Test-Status: SUCCESS http://dpdk.org/patch/151005 _Testing PASS_ Submitter: Andre Muezerie Date: Wednesday, February 05 2025 18:53:10 DPDK git baseline: Repo:dpdk Branch: master CommitID:e595e7b5758fc73d99b810f5a8748f94bd467084 151006-151005 --> testing pass Upstream job id: Generic-DPDK-Compile-Meson#358244 Test environment and result as below: +---------------------+-------------------+--------------------+-------------------------+----------------------+------------------+-------------------+ | Environment | dpdk_msvc_compile | dpdk_meson_compile | dpdk_llvm_clang_compile | dpdk_mingw64_compile | dpdk_compile_ovs | dpdk_compile_spdk | +=====================+===================+====================+=========================+======================+==================+===================+ | Windows Server 2022 | PASS | SKIPPED | PASS | PASS | SKIPPED | SKIPPED | +---------------------+-------------------+--------------------+-------------------------+----------------------+------------------+-------------------+ | FreeBSD 13.4 | SKIPPED | PASS | SKIPPED | SKIPPED | SKIPPED | SKIPPED | +---------------------+-------------------+--------------------+-------------------------+----------------------+------------------+-------------------+ | FreeBSD 14.2 | SKIPPED | PASS | SKIPPED | SKIPPED | SKIPPED | SKIPPED | +---------------------+-------------------+--------------------+-------------------------+----------------------+------------------+-------------------+ | CentOS Stream 9 | SKIPPED | PASS | SKIPPED | SKIPPED | PASS | PASS | +---------------------+-------------------+--------------------+-------------------------+----------------------+------------------+-------------------+ | Debian Bullseye | SKIPPED | PASS | SKIPPED | SKIPPED | PASS | PASS | +---------------------+-------------------+--------------------+-------------------------+----------------------+------------------+-------------------+ | Debian 12 | SKIPPED | PASS | SKIPPED | SKIPPED | PASS | PASS | +---------------------+-------------------+--------------------+-------------------------+----------------------+------------------+-------------------+ | Fedora 40 (Clang) | SKIPPED | PASS | SKIPPED | SKIPPED | PASS | PASS | +---------------------+-------------------+--------------------+-------------------------+----------------------+------------------+-------------------+ | Fedora 40 | SKIPPED | PASS | SKIPPED | SKIPPED | PASS | PASS | +---------------------+-------------------+--------------------+-------------------------+----------------------+------------------+-------------------+ | Fedora 41 (Clang) | SKIPPED | PASS | SKIPPED | SKIPPED | PASS | PASS | +---------------------+-------------------+--------------------+-------------------------+----------------------+------------------+-------------------+ | Fedora 41 | SKIPPED | PASS | SKIPPED | SKIPPED | PASS | PASS | +---------------------+-------------------+--------------------+-------------------------+----------------------+------------------+-------------------+ | openSUSE Leap 15 | SKIPPED | PASS | SKIPPED | SKIPPED | SKIPPED | SKIPPED | +---------------------+-------------------+--------------------+-------------------------+----------------------+------------------+-------------------+ | RHEL8 | SKIPPED | PASS | SKIPPED | SKIPPED | PASS | SKIPPED | +---------------------+-------------------+--------------------+-------------------------+----------------------+------------------+-------------------+ | RHEL9 | SKIPPED | PASS | SKIPPED | SKIPPED | PASS | SKIPPED | +---------------------+-------------------+--------------------+-------------------------+----------------------+------------------+-------------------+ | Ubuntu 20.04 | SKIPPED | PASS | SKIPPED | SKIPPED | SKIPPED | SKIPPED | +---------------------+-------------------+--------------------+-------------------------+----------------------+------------------+-------------------+ | Ubuntu 22.04 | SKIPPED | PASS | SKIPPED | SKIPPED | PASS | PASS | +---------------------+-------------------+--------------------+-------------------------+----------------------+------------------+-------------------+ | Ubuntu 24.04 | SKIPPED | PASS | SKIPPED | SKIPPED | PASS | PASS | +---------------------+-------------------+--------------------+-------------------------+----------------------+------------------+-------------------+ | Alpine | SKIPPED | PASS | SKIPPED | SKIPPED | PASS | SKIPPED | +---------------------+-------------------+--------------------+-------------------------+----------------------+------------------+-------------------+ Windows Server 2022 Kernel: 10.0.20348.2031 Compiler: clang 15.0.7, gcc 14.1.0 (MinGW), and MSVC VS 19.39.33521 FreeBSD 13.4 Kernel: 13.4-RELEASE-p1 Compiler: clang 18.1.6 FreeBSD 14.2 Kernel: 14.2-RELEASE Compiler: clang 18.1.6 CentOS Stream 9 Kernel: Depends on container host Compiler: gcc 11.5.0 20240719 (Red Hat 11.5.0-2) Debian Bullseye Kernel: Depends on container host Compiler: gcc (Debian 10.2.1-6) 10.2.1 20210110 Debian 12 Kernel: Depends on container host Compiler: gcc (Debian 12.2.0-14) 12.2.0 Fedora 40 (Clang) Kernel: Depends on container host Compiler: clang 18.1.8 (Fedora 18.1.8-1.fc40) Fedora 40 Kernel: Depends on container host Compiler: gcc 14.2.1 20240912 (Red Hat 14.2.1-3) Fedora 41 (Clang) Kernel: Depends on container host Compiler: clang 19.1.5 (Fedora 19.1.5-1.fc41) Fedora 41 Kernel: Depends on container host Compiler: gcc 14.2.1 20240912 (Red Hat 14.2.1-3) openSUSE Leap 15 Kernel: Depends on container host Compiler: gcc (SUSE Linux) 7.5.0 RHEL8 Kernel: Depends on container host Compiler: gcc 8.5.0 20210514 (Red Hat 8.5.0-22) RHEL9 Kernel: Depends on container host Compiler: gcc 11.5.0 20240719 (Red Hat 11.5.0-2) Ubuntu 20.04 Kernel: Depends on container host Compiler: gcc (Ubuntu 9.4.0-1ubuntu1~20.04.2) 9.4.0 Ubuntu 22.04 Kernel: Depends on container host Compiler: gcc (Ubuntu 11.4.0-1ubuntu1~22.04) 11.4.0 Ubuntu 24.04 Kernel: Depends on container host Compiler: gcc (Ubuntu 13.3.0-6ubuntu2~24.04) 13.3.0 Alpine Kernel: Depends on container host Compiler: gcc (Alpine 14.2.0) 14.2.0 To view detailed results, visit: https://lab.dpdk.org/results/dashboard/patchsets/32504/ UNH-IOL DPDK Community Lab To manage your email subscriptions, visit: https://lab.dpdk.org/results/dashboard/preferences/subscriptions/