From mboxrd@z Thu Jan 1 00:00:00 1970 Return-Path: Received: from mails.dpdk.org (mails.dpdk.org [217.70.189.124]) by inbox.dpdk.org (Postfix) with ESMTP id 1BE43461A8 for ; Thu, 6 Feb 2025 09:29:15 +0100 (CET) Received: from mails.dpdk.org (localhost [127.0.0.1]) by mails.dpdk.org (Postfix) with ESMTP id 16CCD4066D; Thu, 6 Feb 2025 09:29:15 +0100 (CET) Received: from mail-io1-f97.google.com (mail-io1-f97.google.com [209.85.166.97]) by mails.dpdk.org (Postfix) with ESMTP id D810E4026C for ; Thu, 6 Feb 2025 09:29:13 +0100 (CET) Received: by mail-io1-f97.google.com with SMTP id ca18e2360f4ac-844e06e5d11so20589639f.0 for ; Thu, 06 Feb 2025 00:29:13 -0800 (PST) DKIM-Signature: v=1; a=rsa-sha256; c=relaxed/relaxed; d=iol.unh.edu; s=unh-iol; t=1738830553; x=1739435353; darn=dpdk.org; h=references:in-reply-to:cc:to:from:subject:message-id:date:from:to :cc:subject:date:message-id:reply-to; bh=sbMsu4Sl43BgVBqE1dLNdHWuEzIx8f6qOJTC6aJ5UZY=; b=iJdlUzn3wHDeIHuM3ZQOn6MfsOOUq1fr/w3JwEHbfPvhxbzhBV5J8l22eogXqPRHwd hbxQkoYFaXiw9ufXYAgjN3Uh51Ozj/+Q2vdzr4T3bYUJM1BB/PhMo6Itt2/8Au3n+1As IeBwOZxgK6D8NDMfsliW7NX/8D6ZC5LSjgIY4= X-Google-DKIM-Signature: v=1; a=rsa-sha256; c=relaxed/relaxed; d=1e100.net; s=20230601; t=1738830553; x=1739435353; h=references:in-reply-to:cc:to:from:subject:message-id:date :x-gm-message-state:from:to:cc:subject:date:message-id:reply-to; bh=sbMsu4Sl43BgVBqE1dLNdHWuEzIx8f6qOJTC6aJ5UZY=; b=Aj24J0tXTZGUQ5EsJTqp3BoNvf0P9IEgfYYMR4kFUbbyEOGTvE/Gw1LT3RobpmgADa A1BGORF5YnJcdMYrEZxWWQRf2jQ5AH1k//aPSAy+X3VbLzpt7rF6niCrrpRPVEfa4DXO HLdwJOqZOTaIztbllGlkD57dah+gsscfulFxzb/Gb45oZi90NZ49QJzFWBiUjjBlV0H8 BvOQPrXtfCPrBo3KxIvmiEv1X5Jp3mNmsBDWsbopkOj2t9/hZ1U3KN2L/yehWfSX4OqT Z0MzcypnyKtoAg92PdIbkKBmgg5F1TOWhZRCHatwkIzMuI5fJ3WdpnL2YHbHH0BhC0ii 6T0w== X-Gm-Message-State: AOJu0YyHOGvGHkyhltW/qddgoMWeyKhvvKxcpp1fNB2vQyPxJtSR4Yxf wGViqukRJYi+O0EZB+MD4UhtYGsPAdpJB4yIp9oirlg9hH60AoBFDbqA6ngCfNTQaq9LcYmT+qa Z5W8z2r52v7+Hfg1EM3odusadyJRwRo6TXDf1SYPjBdsBW9TqrVoK/Z6v X-Gm-Gg: ASbGncse9UfLYWL+xVvGU9rAF+FUmLJxQg9bJUHJNEVQjU45E92iQlNOxnLjOkD1pm3 8p29uVIA58bkx8iFjGrKXLk3vr3tZ6fwHwWRd9L9j7qbPQC8YvwP2N80lexVP4oU1WWq+kgxt2T 6pdUDXcg0/CbAtCXEhkd2AK6eDaWUkSZxUeOMbwxSY35byeWpQNLGPT3NnLnAo7YHbjeva6MnFs ha7yworvTKUVTKkMxhzbZ9DINf7HgMxOIdirykltNi+pKdOrLT0FpLCXuHfw0cyE/Dqq01DOWcY XgjMiep5xmvq1/cHS5M7exIcYcn9RwK4YhQazctdEQ== X-Google-Smtp-Source: AGHT+IEpjC8tzFiO2rtbq/vL2UmFQ8vPsgEQwJ+Oc5QSr4nVZSWaQkY0UJUI1uXc7qjU8O4pBqWTamsn4yK2 X-Received: by 2002:a05:6e02:2163:b0:3cf:c85c:4f60 with SMTP id e9e14a558f8ab-3d04f478fd0mr45569525ab.11.1738830553145; Thu, 06 Feb 2025 00:29:13 -0800 (PST) Received: from postal.iol.unh.edu (postal.iol.unh.edu. [2606:4100:3880:1234::84]) by smtp-relay.gmail.com with ESMTPS id e9e14a558f8ab-3d05e8fe293sm468765ab.20.2025.02.06.00.29.13 (version=TLS1_2 cipher=ECDHE-ECDSA-AES128-GCM-SHA256 bits=128/128); Thu, 06 Feb 2025 00:29:13 -0800 (PST) X-Relaying-Domain: iol.unh.edu Date: Thu, 06 Feb 2025 00:29:13 -0800 (PST) Message-ID: <67a472d9.050a0220.2a1c22.307cSMTPIN_ADDED_MISSING@mx.google.com> Received: from [172.21.0.6] (unknown [172.18.0.240]) by postal.iol.unh.edu (Postfix) with ESMTP id C4C296052471; Thu, 6 Feb 2025 03:29:12 -0500 (EST) Subject: |SUCCESS| pw151006-151005 [PATCH] [v3,2/2] drivers/net: add MSVC com From: dpdklab@iol.unh.edu To: Test Report Cc: dpdk-test-reports@iol.unh.edu In-Reply-To: <1738781590-2408-3-git-send-email-andremue@linux.microsoft.com> References: <1738781590-2408-3-git-send-email-andremue@linux.microsoft.com> Content-Type: text/plain X-BeenThere: test-report@dpdk.org X-Mailman-Version: 2.1.29 Precedence: list List-Id: automatic DPDK test reports List-Unsubscribe: , List-Archive: List-Post: List-Help: List-Subscribe: , Errors-To: test-report-bounces@dpdk.org Test-Label: iol-unit-arm64-testing Test-Status: SUCCESS http://dpdk.org/patch/151005 _Testing PASS_ Submitter: Andre Muezerie Date: Wednesday, February 05 2025 18:53:10 DPDK git baseline: Repo:dpdk Branch: master CommitID:e595e7b5758fc73d99b810f5a8748f94bd467084 151006-151005 --> testing pass Upstream job id: Generic-Unit-Test-DPDK#312020 Test environment and result as below: +-----------------------------+----------------+--------------+---------------------------+------------------------------+ | Environment | dpdk_unit_test | lpm_autotest | cryptodev_sw_zuc_autotest | cryptodev_sw_snow3g_autotest | +=============================+================+==============+===========================+==============================+ | CentOS Stream 9 (ARM) | PASS | SKIPPED | SKIPPED | SKIPPED | +-----------------------------+----------------+--------------+---------------------------+------------------------------+ | Fedora 40 (ARM) | PASS | SKIPPED | SKIPPED | SKIPPED | +-----------------------------+----------------+--------------+---------------------------+------------------------------+ | Fedora 40 (ARM Clang) | PASS | SKIPPED | SKIPPED | SKIPPED | +-----------------------------+----------------+--------------+---------------------------+------------------------------+ | Debian 12 (arm) | PASS | SKIPPED | PASS | PASS | +-----------------------------+----------------+--------------+---------------------------+------------------------------+ | Debian 11 (Buster) (ARM) | PASS | SKIPPED | SKIPPED | SKIPPED | +-----------------------------+----------------+--------------+---------------------------+------------------------------+ | Fedora 41 (ARM Clang) | PASS | SKIPPED | SKIPPED | SKIPPED | +-----------------------------+----------------+--------------+---------------------------+------------------------------+ | Fedora 41 (ARM) | PASS | SKIPPED | SKIPPED | SKIPPED | +-----------------------------+----------------+--------------+---------------------------+------------------------------+ | RHEL9 (ARM) | PASS | SKIPPED | SKIPPED | SKIPPED | +-----------------------------+----------------+--------------+---------------------------+------------------------------+ | Ubuntu 22.04 (ARM) | PASS | SKIPPED | SKIPPED | SKIPPED | +-----------------------------+----------------+--------------+---------------------------+------------------------------+ | Ubuntu 20.04 (ARM) | PASS | SKIPPED | SKIPPED | SKIPPED | +-----------------------------+----------------+--------------+---------------------------+------------------------------+ | Ubuntu 24.04 (ARM) | PASS | SKIPPED | SKIPPED | SKIPPED | +-----------------------------+----------------+--------------+---------------------------+------------------------------+ | 32-bit Ubuntu 22.04.4 (ARM) | PASS | SKIPPED | SKIPPED | SKIPPED | +-----------------------------+----------------+--------------+---------------------------+------------------------------+ | Ubuntu 20.04 ARM SVE | SKIPPED | PASS | SKIPPED | SKIPPED | +-----------------------------+----------------+--------------+---------------------------+------------------------------+ CentOS Stream 9 (ARM) Kernel: Depends on container host Compiler: gcc 11.5.0 20240719 (Red Hat 11.5.0-2) Fedora 40 (ARM) Kernel: Depends on container host Compiler: gcc 14.2.1 20240912 (Red Hat 14.2.1-3) Fedora 40 (ARM Clang) Kernel: Depends on container host Compiler: clang 18.1.8 (Fedora 18.1.8-1.fc40) Debian 12 (arm) Kernel: Depends on container host Compiler: gcc (Debian 12.2.0-14) 12.2.0 Debian 11 (Buster) (ARM) Kernel: Depends on container host Compiler: gcc (Debian 10.2.1-6) 10.2.1 20210110 Fedora 41 (ARM Clang) Kernel: Depends on container host Compiler: clang 19.1.5 (Fedora 19.1.5-1.fc41) Fedora 41 (ARM) Kernel: Depends on container host Compiler: gcc 14.2.1 20240912 (Red Hat 14.2.1-3) RHEL9 (ARM) Kernel: Depends on container host Compiler: gcc 11.5.0 20240719 (Red Hat 11.5.0-2) Ubuntu 22.04 (ARM) Kernel: Depends on container host Compiler: gcc (Ubuntu 11.4.0-1ubuntu1~22.04) 11.4.0 Ubuntu 20.04 (ARM) Kernel: Depends on container host Compiler: gcc (Ubuntu 9.4.0-1ubuntu1~20.04.2) 9.4.0 Ubuntu 24.04 (ARM) Kernel: Depends on container host Compiler: gcc (Ubuntu 13.3.0-6ubuntu2~24.04) 13.3.0 32-bit Ubuntu 22.04.4 (ARM) Kernel: 5.15.83+ aarch64 Compiler: gcc (Ubuntu 11.4.0-1ubuntu1~22.04) 11.4.0 Ubuntu 20.04 ARM SVE Kernel: Depends on container host Compiler: gcc (Ubuntu 10.5.0-1ubuntu1~20.04) 10.5.0 To view detailed results, visit: https://lab.dpdk.org/results/dashboard/patchsets/32504/ UNH-IOL DPDK Community Lab To manage your email subscriptions, visit: https://lab.dpdk.org/results/dashboard/preferences/subscriptions/