From mboxrd@z Thu Jan 1 00:00:00 1970 Return-Path: Received: from mails.dpdk.org (mails.dpdk.org [217.70.189.124]) by inbox.dpdk.org (Postfix) with ESMTP id 093D0461A8 for ; Thu, 6 Feb 2025 09:38:45 +0100 (CET) Received: from mails.dpdk.org (localhost [127.0.0.1]) by mails.dpdk.org (Postfix) with ESMTP id 059154066D; Thu, 6 Feb 2025 09:38:45 +0100 (CET) Received: from mail-qt1-f226.google.com (mail-qt1-f226.google.com [209.85.160.226]) by mails.dpdk.org (Postfix) with ESMTP id 386964026C for ; Thu, 6 Feb 2025 09:38:44 +0100 (CET) Received: by mail-qt1-f226.google.com with SMTP id d75a77b69052e-467918c35easo12566511cf.2 for ; Thu, 06 Feb 2025 00:38:44 -0800 (PST) DKIM-Signature: v=1; a=rsa-sha256; c=relaxed/relaxed; d=iol.unh.edu; s=unh-iol; t=1738831123; x=1739435923; darn=dpdk.org; h=references:in-reply-to:cc:to:from:subject:message-id:date:from:to :cc:subject:date:message-id:reply-to; bh=FxMimeC727MO80qgFyUBdD7aUemTVPGDyFNkhj7TH8I=; b=SlenHVa5xaMmpkVoVbwrJAkTEG4ELZu2RN/T+jhgDNowlPxuGTlVIUJdWxqCwFEJTw k7OWYazA2mRoCuuPXMkreDhjX4OlDNa4W5xsCK8guwHi6hD+JXke/uEtwOQjtlQpuRpd 2qspR5UrIAYamDm5wz1PhQpCpeRKPOHmQFsxM= X-Google-DKIM-Signature: v=1; a=rsa-sha256; c=relaxed/relaxed; d=1e100.net; s=20230601; t=1738831123; x=1739435923; h=references:in-reply-to:cc:to:from:subject:message-id:date :x-gm-message-state:from:to:cc:subject:date:message-id:reply-to; bh=FxMimeC727MO80qgFyUBdD7aUemTVPGDyFNkhj7TH8I=; b=T/nvERqPhSEd1OFg1Kc6mKZfp+ceNTY4tILbaMWna7ZNa3HD8zKVDYhIpM9a1ZQcjm HcLADoqqRIAffm+IDHx1rZcsfrlQxsNSLerx4dulgW8CGZYiQBiCfOYDGxDBssUK6QLI N7SC8i3HepckehIyiUrWygysj4S+DkAfyzOZfgWogBgRNlFAc0eOAcRPViwWMHmZCuZi qqtsYu5VDvK5jtRhl/jWQv0+mCLlfW+yhEx+3LolB1nHCEtVKc5g/TASFppyjpXvZV68 rtavYB3eRgOQRseuxRGbgkYd+Eniqs/DSMCvtFWmAd5x+xKl8Y6mVhPIqrUi3HioA/A1 OWog== X-Gm-Message-State: AOJu0Yyk625/KnBl3BE3aIp9+/QjMuVOE0tHoLm+/bI6FLfGivvnHt7R tp8fQRJUKrEqfRJiwPwkIf7JxM/k+XTga/BKi4Gt8d7I+y9YOzDAs43pRDi3tl/keXRjAF6ERba yg7+DxFpn+zBZ2t/QfJzvZiI0R2U8n7KhOL4ZEMn0 X-Gm-Gg: ASbGncvOjB+UsltslcG6dfICUTLylr8jBsCz7tebL7fMeeARxlAYc/ARkWqSUEOPkyg 32ZbzM/qjKvFeosYMR+lZEdX/nvPBUXna5Q75T9ajs+q+g0n4ojBf5dJJzVqWSrvZDhR9qU05JC LeZ4shmQrzmRiWfDLyI/WVOlCfdRI3yrS6x4Ci6LxzixUJgQ2xqXlRAKRPwDPzAp5Uz4s4IIerP fQDIxVTModgyzzzHU/T+KxojLKn2NsMTEp2uxdfyJJMxqRARWXjPqIeOgCvS92hpBNEt5G3kaXN RbPQTy0GREhzDUrDqIH7IeA+VaJCUg== X-Google-Smtp-Source: AGHT+IEXvLKD1tRLTj6CMyoMM2eGYHiysQh52m7Mr0xJM92y7zVKD5ISQeA6quyDrcLreCHRJs4hRN9X3tnC X-Received: by 2002:ac8:7d82:0:b0:466:b29a:9b10 with SMTP id d75a77b69052e-4702828d23dmr64541611cf.42.1738831123611; Thu, 06 Feb 2025 00:38:43 -0800 (PST) Received: from postal.iol.unh.edu (postal.iol.unh.edu. [132.177.123.84]) by smtp-relay.gmail.com with ESMTPS id d75a77b69052e-471492a9667sm271081cf.12.2025.02.06.00.38.43 (version=TLS1_2 cipher=ECDHE-ECDSA-AES128-GCM-SHA256 bits=128/128); Thu, 06 Feb 2025 00:38:43 -0800 (PST) X-Relaying-Domain: iol.unh.edu Date: Thu, 06 Feb 2025 00:38:43 -0800 (PST) Message-ID: <67a47513.c80a0220.386889.1be2SMTPIN_ADDED_MISSING@mx.google.com> Received: from [172.21.0.5] (unknown [172.18.0.240]) by postal.iol.unh.edu (Postfix) with ESMTP id 47B9A6052471; Thu, 6 Feb 2025 03:38:43 -0500 (EST) Subject: |SUCCESS| pw151013-151029 [PATCH] [v22,27/27] config: add -Wvla proj From: dpdklab@iol.unh.edu To: Test Report Cc: dpdk-test-reports@iol.unh.edu In-Reply-To: <1738805610-17507-28-git-send-email-andremue@linux.microsoft.com> References: <1738805610-17507-28-git-send-email-andremue@linux.microsoft.com> Content-Type: text/plain X-BeenThere: test-report@dpdk.org X-Mailman-Version: 2.1.29 Precedence: list List-Id: automatic DPDK test reports List-Unsubscribe: , List-Archive: List-Post: List-Help: List-Subscribe: , Errors-To: test-report-bounces@dpdk.org Test-Label: iol-unit-amd64-testing Test-Status: SUCCESS http://dpdk.org/patch/151029 _Testing PASS_ Submitter: Andre Muezerie Date: Thursday, February 06 2025 01:33:30 DPDK git baseline: Repo:dpdk Branch: master CommitID:32c18e7364e30a8e43cc7cc6709a7ce606fa285e 151013-151029 --> testing pass Upstream job id: Generic-Unit-Test-DPDK#312148 Test environment and result as below: +---------------------+----------------+ | Environment | dpdk_unit_test | +=====================+================+ | Debian 12 | PASS | +---------------------+----------------+ | CentOS Stream 9 | PASS | +---------------------+----------------+ | Debian Bullseye | PASS | +---------------------+----------------+ | RHEL8 | PASS | +---------------------+----------------+ | Fedora 40 | PASS | +---------------------+----------------+ | Fedora 40 (Clang) | PASS | +---------------------+----------------+ | Fedora 41 | PASS | +---------------------+----------------+ | Fedora 41 (Clang) | PASS | +---------------------+----------------+ | RHEL9 | PASS | +---------------------+----------------+ | Ubuntu 24.04 | PASS | +---------------------+----------------+ | Ubuntu 22.04 | PASS | +---------------------+----------------+ | Ubuntu 20.04 | PASS | +---------------------+----------------+ | Windows Server 2022 | PASS | +---------------------+----------------+ Debian 12 Kernel: Depends on container host Compiler: gcc (Debian 12.2.0-14) 12.2.0 CentOS Stream 9 Kernel: Depends on container host Compiler: gcc 11.5.0 20240719 (Red Hat 11.5.0-2) Debian Bullseye Kernel: Depends on container host Compiler: gcc (Debian 10.2.1-6) 10.2.1 20210110 RHEL8 Kernel: Depends on container host Compiler: gcc 8.5.0 20210514 (Red Hat 8.5.0-22) Fedora 40 Kernel: Depends on container host Compiler: gcc 14.2.1 20240912 (Red Hat 14.2.1-3) Fedora 40 (Clang) Kernel: Depends on container host Compiler: clang 18.1.8 (Fedora 18.1.8-1.fc40) Fedora 41 Kernel: Depends on container host Compiler: gcc 14.2.1 20240912 (Red Hat 14.2.1-3) Fedora 41 (Clang) Kernel: Depends on container host Compiler: clang 19.1.5 (Fedora 19.1.5-1.fc41) RHEL9 Kernel: Depends on container host Compiler: gcc 11.5.0 20240719 (Red Hat 11.5.0-2) Ubuntu 24.04 Kernel: Depends on container host Compiler: gcc (Ubuntu 13.3.0-6ubuntu2~24.04) 13.3.0 Ubuntu 22.04 Kernel: Depends on container host Compiler: gcc (Ubuntu 11.4.0-1ubuntu1~22.04) 11.4.0 Ubuntu 20.04 Kernel: Depends on container host Compiler: gcc (Ubuntu 9.4.0-1ubuntu1~20.04.2) 9.4.0 Windows Server 2022 Kernel: 10.0.20348.2031 Compiler: clang 15.0.7, gcc 14.1.0 (MinGW), and MSVC VS 19.39.33521 To view detailed results, visit: https://lab.dpdk.org/results/dashboard/patchsets/32507/ UNH-IOL DPDK Community Lab To manage your email subscriptions, visit: https://lab.dpdk.org/results/dashboard/preferences/subscriptions/