From mboxrd@z Thu Jan 1 00:00:00 1970 Return-Path: Received: from mails.dpdk.org (mails.dpdk.org [217.70.189.124]) by inbox.dpdk.org (Postfix) with ESMTP id C5D70461AA for ; Thu, 6 Feb 2025 10:47:20 +0100 (CET) Received: from mails.dpdk.org (localhost [127.0.0.1]) by mails.dpdk.org (Postfix) with ESMTP id ABDEF402CE; Thu, 6 Feb 2025 10:47:20 +0100 (CET) Received: from mail-io1-f100.google.com (mail-io1-f100.google.com [209.85.166.100]) by mails.dpdk.org (Postfix) with ESMTP id 1B1DD4026C for ; Thu, 6 Feb 2025 10:47:20 +0100 (CET) Received: by mail-io1-f100.google.com with SMTP id ca18e2360f4ac-844bff5ba1dso50008139f.1 for ; Thu, 06 Feb 2025 01:47:20 -0800 (PST) DKIM-Signature: v=1; a=rsa-sha256; c=relaxed/relaxed; d=iol.unh.edu; s=unh-iol; t=1738835239; x=1739440039; darn=dpdk.org; h=references:in-reply-to:cc:to:from:subject:message-id:date:from:to :cc:subject:date:message-id:reply-to; bh=MYJ6LJj05zP6J/sYpkoWqYWf8xc7IbxfvcK2P2ECfTg=; b=GNqa6bFrKus3dGy1izi1+CyVHa7Kulo4R95zTBsPIFHu8sSWhmHDxgriYHaN2qFova hKGJIZc4+pkVMc8+7Gyf5e/DePhePJhmtU4lo61sO0Sj0rO2fEMIR/W+G0Y/+9Wysz5l 5/cBfnL7UGEN0l7UvCq0y3YOP4c0ulTO50MfA= X-Google-DKIM-Signature: v=1; a=rsa-sha256; c=relaxed/relaxed; d=1e100.net; s=20230601; t=1738835239; x=1739440039; h=references:in-reply-to:cc:to:from:subject:message-id:date :x-gm-message-state:from:to:cc:subject:date:message-id:reply-to; bh=MYJ6LJj05zP6J/sYpkoWqYWf8xc7IbxfvcK2P2ECfTg=; b=nyLAPxNamCTG1NgFW063C6CJsu2TocSZ/R9UEecCAVK3fsbVWRTkb+GRNsC+AYkgJX DOoXQrpbBgr77ecPC8U5NEawSaZuKEXSAuj+FUBWzr3oZe/xJrwc4Y/BOx+FnXbwRZ6p bGOi/ZtnOLMyttCvwVzSuu8UFhWUpfFkLSHs4AbaGnSrumCNMsMOncZMU3/6FaQjJajP uTHng6alFy1UymFA0tvo0CcmfROKfgP57YLHjJYQ7Po7WJK0Oa/LKYQSca+HdFjHYiS8 /J3FPS+rnhoyNF7VSZ1pTFU5yQpuvQoSgPsLmwYSadvhV7tPZL6jHPmZmXGU4RhpinWy WKcQ== X-Gm-Message-State: AOJu0YxxgSbP/yjkh4CdBJpH/7ZlUmRa+vXqi25ZT7kit9Rj4fyhGcf4 0M69YHFMsDnCL1svI1jqw8qaekBjb2wl/V5zUOvHxMvm67VDRsVWIXMcFfEf3rH+JbIye2ZFFrH OmexNcoA6EMnI/dMQHEEJlOhJ1xxjPSoZOxU1+qgr X-Gm-Gg: ASbGnct5aXhk2MHTIxLj3sUCTETXwBeN29UvVvTB/bxzx4gGKTdbpyYDbIqRkIu4RNi LN++GoG7Xz+Q4IfKPn4ZsLhL0n3FjH4BLnO/aXtrdjyU0l8UzBagzgumAhoGPLThRUQKQRyBsvy iSzZG8Mip7mbIFfhnGR9PtJnafLBIHb0Ma9phR0MPqaJY/+geIeKv9vj9Wt0XBgwiQcno7aTy4e xEdaBel4bwjxIGhdXbvDOfdT3O+o2gChyvt7sy5/QvOrrfngqXv/ZBP0cA72y8uhm+AjyP4Ih80 kKMSsw1CKp8ZE27+3/GmX1c8jSE+Kw== X-Google-Smtp-Source: AGHT+IHOpy2xcnlHjhCrO2gKQQ8yEFm7dqc10RNYrERcgBYFQHrUusfF9HQt+XNPD9uM+2CjVlWjKUoQpsjy X-Received: by 2002:a05:6602:6ccb:b0:852:e746:5d3 with SMTP id ca18e2360f4ac-854ea363a78mr684508039f.0.1738835239290; Thu, 06 Feb 2025 01:47:19 -0800 (PST) Received: from postal.iol.unh.edu (postal.iol.unh.edu. [132.177.123.84]) by smtp-relay.gmail.com with ESMTPS id 8926c6da1cb9f-4eccfad4e5bsm57559173.69.2025.02.06.01.47.19 (version=TLS1_2 cipher=ECDHE-ECDSA-AES128-GCM-SHA256 bits=128/128); Thu, 06 Feb 2025 01:47:19 -0800 (PST) X-Relaying-Domain: iol.unh.edu Date: Thu, 06 Feb 2025 01:47:19 -0800 (PST) Message-ID: <67a48527.050a0220.53637.36d2SMTPIN_ADDED_MISSING@mx.google.com> Received: from [172.21.0.5] (unknown [172.18.0.240]) by postal.iol.unh.edu (Postfix) with ESMTP id E00796052471; Thu, 6 Feb 2025 04:47:18 -0500 (EST) Subject: |SUCCESS| pw150970 [PATCH] [v5] eal: define __SIZEOF_LONG__ when usi From: dpdklab@iol.unh.edu To: Test Report Cc: dpdk-test-reports@iol.unh.edu In-Reply-To: <1738771937-18083-1-git-send-email-andremue@linux.microsoft.com> References: <1738771937-18083-1-git-send-email-andremue@linux.microsoft.com> Content-Type: text/plain X-BeenThere: test-report@dpdk.org X-Mailman-Version: 2.1.29 Precedence: list List-Id: automatic DPDK test reports List-Unsubscribe: , List-Archive: List-Post: List-Help: List-Subscribe: , Errors-To: test-report-bounces@dpdk.org Test-Label: iol-compile-amd64-testing Test-Status: SUCCESS http://dpdk.org/patch/150970 _Testing PASS_ Submitter: Andre Muezerie Date: Wednesday, February 05 2025 16:12:17 DPDK git baseline: Repo:dpdk Branch: master CommitID:32c18e7364e30a8e43cc7cc6709a7ce606fa285e 150970 --> testing pass Upstream job id: Generic-DPDK-Compile-Meson#358304 Test environment and result as below: +---------------------+--------------------+-------------------+------------------+-------------------+-------------------------+----------------------+ | Environment | dpdk_meson_compile | dpdk_msvc_compile | dpdk_compile_ovs | dpdk_compile_spdk | dpdk_llvm_clang_compile | dpdk_mingw64_compile | +=====================+====================+===================+==================+===================+=========================+======================+ | FreeBSD 13.4 | PASS | SKIPPED | SKIPPED | SKIPPED | SKIPPED | SKIPPED | +---------------------+--------------------+-------------------+------------------+-------------------+-------------------------+----------------------+ | FreeBSD 14.2 | PASS | SKIPPED | SKIPPED | SKIPPED | SKIPPED | SKIPPED | +---------------------+--------------------+-------------------+------------------+-------------------+-------------------------+----------------------+ | CentOS Stream 9 | PASS | SKIPPED | PASS | PASS | SKIPPED | SKIPPED | +---------------------+--------------------+-------------------+------------------+-------------------+-------------------------+----------------------+ | Debian Bullseye | PASS | SKIPPED | PASS | PASS | SKIPPED | SKIPPED | +---------------------+--------------------+-------------------+------------------+-------------------+-------------------------+----------------------+ | Debian 12 | PASS | SKIPPED | PASS | PASS | SKIPPED | SKIPPED | +---------------------+--------------------+-------------------+------------------+-------------------+-------------------------+----------------------+ | Fedora 40 (Clang) | PASS | SKIPPED | PASS | PASS | SKIPPED | SKIPPED | +---------------------+--------------------+-------------------+------------------+-------------------+-------------------------+----------------------+ | Fedora 40 | PASS | SKIPPED | PASS | PASS | SKIPPED | SKIPPED | +---------------------+--------------------+-------------------+------------------+-------------------+-------------------------+----------------------+ | Fedora 41 (Clang) | PASS | SKIPPED | PASS | PASS | SKIPPED | SKIPPED | +---------------------+--------------------+-------------------+------------------+-------------------+-------------------------+----------------------+ | Fedora 41 | PASS | SKIPPED | PASS | PASS | SKIPPED | SKIPPED | +---------------------+--------------------+-------------------+------------------+-------------------+-------------------------+----------------------+ | openSUSE Leap 15 | PASS | SKIPPED | SKIPPED | SKIPPED | SKIPPED | SKIPPED | +---------------------+--------------------+-------------------+------------------+-------------------+-------------------------+----------------------+ | RHEL8 | PASS | SKIPPED | PASS | SKIPPED | SKIPPED | SKIPPED | +---------------------+--------------------+-------------------+------------------+-------------------+-------------------------+----------------------+ | RHEL9 | PASS | SKIPPED | PASS | SKIPPED | SKIPPED | SKIPPED | +---------------------+--------------------+-------------------+------------------+-------------------+-------------------------+----------------------+ | Ubuntu 20.04 | PASS | SKIPPED | SKIPPED | SKIPPED | SKIPPED | SKIPPED | +---------------------+--------------------+-------------------+------------------+-------------------+-------------------------+----------------------+ | Ubuntu 22.04 | PASS | SKIPPED | PASS | PASS | SKIPPED | SKIPPED | +---------------------+--------------------+-------------------+------------------+-------------------+-------------------------+----------------------+ | Ubuntu 24.04 | PASS | SKIPPED | PASS | PASS | SKIPPED | SKIPPED | +---------------------+--------------------+-------------------+------------------+-------------------+-------------------------+----------------------+ | Alpine | PASS | SKIPPED | PASS | SKIPPED | SKIPPED | SKIPPED | +---------------------+--------------------+-------------------+------------------+-------------------+-------------------------+----------------------+ | Windows Server 2022 | SKIPPED | PASS | SKIPPED | SKIPPED | PASS | PASS | +---------------------+--------------------+-------------------+------------------+-------------------+-------------------------+----------------------+ FreeBSD 13.4 Kernel: 13.4-RELEASE-p1 Compiler: clang 18.1.6 FreeBSD 14.2 Kernel: 14.2-RELEASE Compiler: clang 18.1.6 CentOS Stream 9 Kernel: Depends on container host Compiler: gcc 11.5.0 20240719 (Red Hat 11.5.0-2) Debian Bullseye Kernel: Depends on container host Compiler: gcc (Debian 10.2.1-6) 10.2.1 20210110 Debian 12 Kernel: Depends on container host Compiler: gcc (Debian 12.2.0-14) 12.2.0 Fedora 40 (Clang) Kernel: Depends on container host Compiler: clang 18.1.8 (Fedora 18.1.8-1.fc40) Fedora 40 Kernel: Depends on container host Compiler: gcc 14.2.1 20240912 (Red Hat 14.2.1-3) Fedora 41 (Clang) Kernel: Depends on container host Compiler: clang 19.1.5 (Fedora 19.1.5-1.fc41) Fedora 41 Kernel: Depends on container host Compiler: gcc 14.2.1 20240912 (Red Hat 14.2.1-3) openSUSE Leap 15 Kernel: Depends on container host Compiler: gcc (SUSE Linux) 7.5.0 RHEL8 Kernel: Depends on container host Compiler: gcc 8.5.0 20210514 (Red Hat 8.5.0-22) RHEL9 Kernel: Depends on container host Compiler: gcc 11.5.0 20240719 (Red Hat 11.5.0-2) Ubuntu 20.04 Kernel: Depends on container host Compiler: gcc (Ubuntu 9.4.0-1ubuntu1~20.04.2) 9.4.0 Ubuntu 22.04 Kernel: Depends on container host Compiler: gcc (Ubuntu 11.4.0-1ubuntu1~22.04) 11.4.0 Ubuntu 24.04 Kernel: Depends on container host Compiler: gcc (Ubuntu 13.3.0-6ubuntu2~24.04) 13.3.0 Alpine Kernel: Depends on container host Compiler: gcc (Alpine 14.2.0) 14.2.0 Windows Server 2022 Kernel: 10.0.20348.2031 Compiler: clang 15.0.7, gcc 14.1.0 (MinGW), and MSVC VS 19.39.33521 To view detailed results, visit: https://lab.dpdk.org/results/dashboard/patchsets/32498/ UNH-IOL DPDK Community Lab To manage your email subscriptions, visit: https://lab.dpdk.org/results/dashboard/preferences/subscriptions/