automatic DPDK test reports
 help / color / mirror / Atom feed
From: dpdklab@iol.unh.edu
To: Test Report <test-report@dpdk.org>
Cc: dpdk-test-reports@iol.unh.edu
Subject: |SUCCESS| pw151040 [PATCH] vhost: fix FD entries cleanup
Date: Thu, 06 Feb 2025 02:16:47 -0800 (PST)	[thread overview]
Message-ID: <67a48c0f.050a0220.21f18b.28b3SMTPIN_ADDED_MISSING@mx.google.com> (raw)
In-Reply-To: <20250206084154.2230766-1-maxime.coquelin@redhat.com>

Test-Label: iol-compile-amd64-testing
Test-Status: SUCCESS
http://dpdk.org/patch/151040

_Testing PASS_

Submitter: Maxime Coquelin <maxime.coquelin@redhat.com>
Date: Thursday, February 06 2025 08:41:54 
DPDK git baseline: Repo:dpdk
  Branch: master
  CommitID:d92688baedcfc963b7539899347012a09c45a15b

151040 --> testing pass

Upstream job id: Windows-Compile-DPDK-Native#26479

Test environment and result as below:

+---------------------+-------------------+--------------------+----------------------+
|     Environment     | dpdk_msvc_compile | dpdk_meson_compile | dpdk_mingw64_compile |
+=====================+===================+====================+======================+
| Windows Server 2022 | PASS              | SKIPPED            | PASS                 |
+---------------------+-------------------+--------------------+----------------------+
| FreeBSD 13.4        | SKIPPED           | PASS               | SKIPPED              |
+---------------------+-------------------+--------------------+----------------------+
| FreeBSD 14.2        | SKIPPED           | PASS               | SKIPPED              |
+---------------------+-------------------+--------------------+----------------------+


Windows Server 2022
	Kernel: 10.0.20348.2031
	Compiler: clang 15.0.7, gcc 14.1.0 (MinGW), and MSVC VS 19.39.33521

FreeBSD 13.4
	Kernel: 13.4-RELEASE-p1
	Compiler: clang 18.1.6

FreeBSD 14.2
	Kernel: 14.2-RELEASE
	Compiler: clang 18.1.6

To view detailed results, visit:
https://lab.dpdk.org/results/dashboard/patchsets/32509/

UNH-IOL DPDK Community Lab

To manage your email subscriptions, visit: 
https://lab.dpdk.org/results/dashboard/preferences/subscriptions/

  parent reply	other threads:[~2025-02-06 10:16 UTC|newest]

Thread overview: 13+ messages / expand[flat|nested]  mbox.gz  Atom feed  top
     [not found] <20250206084154.2230766-1-maxime.coquelin@redhat.com>
2025-02-06  8:07 ` qemudev
2025-02-06  8:11 ` qemudev
2025-02-06  8:42 ` |WARNING| " checkpatch
2025-02-06  9:44 ` |SUCCESS| " dpdklab
2025-02-06  9:45 ` 0-day Robot
2025-02-06  9:49 ` dpdklab
2025-02-06  9:58 ` dpdklab
2025-02-06 10:00 ` dpdklab
2025-02-06 10:11 ` dpdklab
2025-02-06 10:13 ` |PENDING| " dpdklab
2025-02-06 10:15 ` dpdklab
2025-02-06 10:16 ` dpdklab [this message]
2025-02-06 13:39 ` dpdklab

Reply instructions:

You may reply publicly to this message via plain-text email
using any one of the following methods:

* Save the following mbox file, import it into your mail client,
  and reply-to-all from there: mbox

  Avoid top-posting and favor interleaved quoting:
  https://en.wikipedia.org/wiki/Posting_style#Interleaved_style

* Reply using the --to, --cc, and --in-reply-to
  switches of git-send-email(1):

  git send-email \
    --in-reply-to=67a48c0f.050a0220.21f18b.28b3SMTPIN_ADDED_MISSING@mx.google.com \
    --to=dpdklab@iol.unh.edu \
    --cc=dpdk-test-reports@iol.unh.edu \
    --cc=test-report@dpdk.org \
    /path/to/YOUR_REPLY

  https://kernel.org/pub/software/scm/git/docs/git-send-email.html

* If your mail client supports setting the In-Reply-To header
  via mailto: links, try the mailto: link
Be sure your reply has a Subject: header at the top and a blank line before the message body.
This is a public inbox, see mirroring instructions
for how to clone and mirror all data and code used for this inbox;
as well as URLs for NNTP newsgroup(s).