From mboxrd@z Thu Jan 1 00:00:00 1970 Return-Path: Received: from mails.dpdk.org (mails.dpdk.org [217.70.189.124]) by inbox.dpdk.org (Postfix) with ESMTP id EB283461AA for ; Thu, 6 Feb 2025 11:16:48 +0100 (CET) Received: from mails.dpdk.org (localhost [127.0.0.1]) by mails.dpdk.org (Postfix) with ESMTP id E5C1C402CE; Thu, 6 Feb 2025 11:16:48 +0100 (CET) Received: from mail-oi1-f228.google.com (mail-oi1-f228.google.com [209.85.167.228]) by mails.dpdk.org (Postfix) with ESMTP id DF39A4026C for ; Thu, 6 Feb 2025 11:16:47 +0100 (CET) Received: by mail-oi1-f228.google.com with SMTP id 5614622812f47-3eb98b3b63dso177910b6e.1 for ; Thu, 06 Feb 2025 02:16:47 -0800 (PST) DKIM-Signature: v=1; a=rsa-sha256; c=relaxed/relaxed; d=iol.unh.edu; s=unh-iol; t=1738837007; x=1739441807; darn=dpdk.org; h=references:in-reply-to:cc:to:from:subject:message-id:date:from:to :cc:subject:date:message-id:reply-to; bh=Dx3yoGiCtE4ecE0Z75Bn1uMjNLUGcSViZpfM/4nvQQs=; b=dqX7tQ85AQ7pqNeWOL9yNRtexN4VVZo7NUVB7+9n+1ygtjhprIW9BIZZ3CJzyIeRQx sdmA2OVIQRqAfzIUS5d/JxxqNI0o1sOOLJUGhEZNh9IsfoJFWjZX8csjtvti6QE6Dnbr Xylc9DVWzyn+OfO0ri5eW74uAXedyNZA/o5qg= X-Google-DKIM-Signature: v=1; a=rsa-sha256; c=relaxed/relaxed; d=1e100.net; s=20230601; t=1738837007; x=1739441807; h=references:in-reply-to:cc:to:from:subject:message-id:date :x-gm-message-state:from:to:cc:subject:date:message-id:reply-to; bh=Dx3yoGiCtE4ecE0Z75Bn1uMjNLUGcSViZpfM/4nvQQs=; b=h3PYNkMrHfsAECzeLdUXcg81vHGkfqQf3Vrc5OTeoDTwai5A//5/cdKuFQgi34AEKf WL1MPJrV4vC5hdHEwci5cH4N2HaHkEgt31HmUKHAQ/ZijqRjRVkydDV+ObeeHwPzY4C9 JkNw1ZWNm6FZ6wkiAPUBgPWbBKIwRwPiARw8Bw+IWbx645WIZlmNXUPEX3/i4dVmta7F lrch8pYwg/5e/CbTHRv11X2b1ijSXQKc+ZrRgWbDN8zUw4WehqN7FhnoVDAlGgSKNfBu 0TlLfXtSyzp0bRw1Fvz4sxwAR1dv/NaELxVvKAxodTKu0hI4fg+iGojacIqYxSmW9k8w Xzng== X-Gm-Message-State: AOJu0Yx/eSr2t2rNn+xBvGmQVucu7pnfd5/ZUQsWV4ZBH4RQKJjLbnce owX68U1R5kZSFXWRvXHfdVr6YuHJs5KgktEn5JCSx+Oc/9IZ+3ColCjv1VSRJoMxsgN38SAiS6i RA9KEDCn3yqf4q/WX5ONIu603bOzcP9l18rxD4jpr X-Gm-Gg: ASbGncszqmaX7GmCTfciTbLgxgDGrdjKnSHnTYic5E6oKMV/ZkMI3UEG+xABN2gnXBO 7dSEdzkUTjD1Ius/js9g9Xqt28dDRj9pKvpWHYjGPS34g1WYZES7AxtJJe8gM1Il6sysvX6iTi7 +vn+CD5FXVkS73/uPm/WT2XJj0Y8z5KSuVkqlFVqWNxmdzoyupePFF4/uARrUrT46GRq/9tprES hc9x0z1dINEoX7rIUZavceB13SFkiQReOF67CgD6OcVnjQQoD9mtQqnPPdeo87o/CCmO/SjlTkB 5aqg9nmoedbPT7RvYwoxfcH0OaY1rQ== X-Google-Smtp-Source: AGHT+IFUdsnaqfKv49SuTanbxhJPxn5IgvOcE4D8lCanosOG6CtdgmJs0xwpvkQy77bILVWzp/g1QXwAZd3t X-Received: by 2002:a05:6808:1593:b0:3ea:4ec7:79cc with SMTP id 5614622812f47-3f37c0e6971mr4028520b6e.3.1738837007144; Thu, 06 Feb 2025 02:16:47 -0800 (PST) Received: from postal.iol.unh.edu (postal.iol.unh.edu. [132.177.123.84]) by smtp-relay.gmail.com with ESMTPS id 46e09a7af769-726af935a91sm44992a34.6.2025.02.06.02.16.47 (version=TLS1_2 cipher=ECDHE-ECDSA-AES128-GCM-SHA256 bits=128/128); Thu, 06 Feb 2025 02:16:47 -0800 (PST) X-Relaying-Domain: iol.unh.edu Date: Thu, 06 Feb 2025 02:16:47 -0800 (PST) Message-ID: <67a48c0f.050a0220.21f18b.28b3SMTPIN_ADDED_MISSING@mx.google.com> Received: from [172.21.0.6] (unknown [172.18.0.240]) by postal.iol.unh.edu (Postfix) with ESMTP id 521146052471; Thu, 6 Feb 2025 05:16:46 -0500 (EST) Subject: |SUCCESS| pw151040 [PATCH] vhost: fix FD entries cleanup From: dpdklab@iol.unh.edu To: Test Report Cc: dpdk-test-reports@iol.unh.edu In-Reply-To: <20250206084154.2230766-1-maxime.coquelin@redhat.com> References: <20250206084154.2230766-1-maxime.coquelin@redhat.com> Content-Type: text/plain X-BeenThere: test-report@dpdk.org X-Mailman-Version: 2.1.29 Precedence: list List-Id: automatic DPDK test reports List-Unsubscribe: , List-Archive: List-Post: List-Help: List-Subscribe: , Errors-To: test-report-bounces@dpdk.org Test-Label: iol-compile-amd64-testing Test-Status: SUCCESS http://dpdk.org/patch/151040 _Testing PASS_ Submitter: Maxime Coquelin Date: Thursday, February 06 2025 08:41:54 DPDK git baseline: Repo:dpdk Branch: master CommitID:d92688baedcfc963b7539899347012a09c45a15b 151040 --> testing pass Upstream job id: Windows-Compile-DPDK-Native#26479 Test environment and result as below: +---------------------+-------------------+--------------------+----------------------+ | Environment | dpdk_msvc_compile | dpdk_meson_compile | dpdk_mingw64_compile | +=====================+===================+====================+======================+ | Windows Server 2022 | PASS | SKIPPED | PASS | +---------------------+-------------------+--------------------+----------------------+ | FreeBSD 13.4 | SKIPPED | PASS | SKIPPED | +---------------------+-------------------+--------------------+----------------------+ | FreeBSD 14.2 | SKIPPED | PASS | SKIPPED | +---------------------+-------------------+--------------------+----------------------+ Windows Server 2022 Kernel: 10.0.20348.2031 Compiler: clang 15.0.7, gcc 14.1.0 (MinGW), and MSVC VS 19.39.33521 FreeBSD 13.4 Kernel: 13.4-RELEASE-p1 Compiler: clang 18.1.6 FreeBSD 14.2 Kernel: 14.2-RELEASE Compiler: clang 18.1.6 To view detailed results, visit: https://lab.dpdk.org/results/dashboard/patchsets/32509/ UNH-IOL DPDK Community Lab To manage your email subscriptions, visit: https://lab.dpdk.org/results/dashboard/preferences/subscriptions/