From mboxrd@z Thu Jan 1 00:00:00 1970 Return-Path: Received: from mails.dpdk.org (mails.dpdk.org [217.70.189.124]) by inbox.dpdk.org (Postfix) with ESMTP id 77E2D461AA for ; Thu, 6 Feb 2025 11:34:14 +0100 (CET) Received: from mails.dpdk.org (localhost [127.0.0.1]) by mails.dpdk.org (Postfix) with ESMTP id 71CCF402CE; Thu, 6 Feb 2025 11:34:14 +0100 (CET) Received: from mail-pl1-f225.google.com (mail-pl1-f225.google.com [209.85.214.225]) by mails.dpdk.org (Postfix) with ESMTP id 6E4744026C for ; Thu, 6 Feb 2025 11:34:13 +0100 (CET) Received: by mail-pl1-f225.google.com with SMTP id d9443c01a7336-21634338cfdso16952215ad.2 for ; Thu, 06 Feb 2025 02:34:13 -0800 (PST) DKIM-Signature: v=1; a=rsa-sha256; c=relaxed/relaxed; d=iol.unh.edu; s=unh-iol; t=1738838052; x=1739442852; darn=dpdk.org; h=references:in-reply-to:cc:to:from:subject:message-id:date:from:to :cc:subject:date:message-id:reply-to; bh=Ke8b4Tph76lweEai9XjmZUV33vwE29k0wmdajhWAMZM=; b=RLSOpp2kmtVA9IcCCp7gbiCFqc7SmYZfGmLEQR4R+7/hOIYvMS/MYc+WU+7PImIjo2 EPLr8p3f/z+Z+v+It6BHBdg87sPBjx660YKlbd4+YQgRIqFJHMAR1SARfdtB4arDxvcx twpX6dT3s6J7rnfkM2QDoF4pG8ChmwQM1J3PQ= X-Google-DKIM-Signature: v=1; a=rsa-sha256; c=relaxed/relaxed; d=1e100.net; s=20230601; t=1738838052; x=1739442852; h=references:in-reply-to:cc:to:from:subject:message-id:date :x-gm-message-state:from:to:cc:subject:date:message-id:reply-to; bh=Ke8b4Tph76lweEai9XjmZUV33vwE29k0wmdajhWAMZM=; b=VL3hE4ShhCLw34UywrmDlI7LY1BHyNDF7kGNDOeFepz8NxVH5eXGju9d+TOkytzMhM iSjIkBFwv5vrnexdG8lxZ+HdQ8jnRDl2n4MMzlOWT3/FTPRxowOtHHYWf9PRjr7Yd9Q6 frhUdHtaJA6PWKMThnMNCsHVTn+wtwdBO1O26J+T0l6mWkWdLPxyQVTD1QDdchr7n/5/ E9RxBpzFo0nVD9Jtvg2BbkwyPXNikFGj/+uKXrsXSSOBksH7SLNcp5LPkeHCx7/NfgIN c5tzcZhnOOECTiirX+fmcx5a83wC51UVmEzrITKhv7urxHRIhh3eUisSbVvRTsuWoxWl Cb/Q== X-Gm-Message-State: AOJu0YxLIarFpge4wOkbPH7mZBa56MINME4KN+DFmRh0Fbi2Bm43OPra zhUPsSSpdHdMrLd/iJr3Nt7ay9inn09+5J6kekqQE3Ktr6oxp3lV4mXT8IFgc6Sv1msBg/swLV3 hqZHD37ewR7PInj/gFOdk8zB8q9lExUIAvn6H6TR1iWwDZf3yHNFNaWaU X-Gm-Gg: ASbGncsIzpcZ8bw1HDPmSc1o7WhFc+2N86+MqQlnQGXc2X74EwfFeR54cw8fWDJp2l1 gXgyocNQOgJO88j6WBZkOLac8qgxE0vNiXKNErBDqkKu54lxqOcBM1jfLF8cAwu/CgxcKAZoDWA x0unFd93c3cQaX7ySRyEEIz3ik3wOplIf8RVJ8Jclxa+pp4jfGTJUBhoqhi0Mq60emSgQfu7qA2 V/JUJtjtAoVg9Oq82wPHZHMuybjS5kALD1BX6sGd9G/zFS8lsehssgFgd6nROo9sfC3whDbGgvd 3AyV+cgZjCiMV1UiHeCk5FuUjE6IL2b/JjSz2Sq02A== X-Google-Smtp-Source: AGHT+IEPwXesBWuGXdI4vKYGoElhcd/2zlJc+pdV3GnlVUist241oTpOCfxpRw7w8Iisnz/W36swuOl/t0nu X-Received: by 2002:a05:6a00:170a:b0:725:eb85:f7f7 with SMTP id d2e1a72fcca58-73035101cbamr9063582b3a.5.1738838052213; Thu, 06 Feb 2025 02:34:12 -0800 (PST) Received: from postal.iol.unh.edu (postal.iol.unh.edu. [2606:4100:3880:1234::84]) by smtp-relay.gmail.com with ESMTPS id d2e1a72fcca58-73048974032sm48616b3a.0.2025.02.06.02.34.12 (version=TLS1_2 cipher=ECDHE-ECDSA-AES128-GCM-SHA256 bits=128/128); Thu, 06 Feb 2025 02:34:12 -0800 (PST) X-Relaying-Domain: iol.unh.edu Date: Thu, 06 Feb 2025 02:34:12 -0800 (PST) Message-ID: <67a49024.050a0220.3ece6.2f41SMTPIN_ADDED_MISSING@mx.google.com> Received: from [172.21.0.5] (unknown [172.18.0.240]) by postal.iol.unh.edu (Postfix) with ESMTP id 45B586052471; Thu, 6 Feb 2025 05:34:11 -0500 (EST) Subject: |SUCCESS| pw151003-151004 [PATCH] [v2,2/2] build: replace support fo From: dpdklab@iol.unh.edu To: Test Report Cc: dpdk-test-reports@iol.unh.edu In-Reply-To: <20250205182918.4041268-3-bruce.richardson@intel.com> References: <20250205182918.4041268-3-bruce.richardson@intel.com> Content-Type: text/plain X-BeenThere: test-report@dpdk.org X-Mailman-Version: 2.1.29 Precedence: list List-Id: automatic DPDK test reports List-Unsubscribe: , List-Archive: List-Post: List-Help: List-Subscribe: , Errors-To: test-report-bounces@dpdk.org Test-Label: iol-unit-arm64-testing Test-Status: SUCCESS http://dpdk.org/patch/151004 _Testing PASS_ Submitter: Bruce Richardson Date: Wednesday, February 05 2025 18:29:15 DPDK git baseline: Repo:dpdk Branch: master CommitID:32c18e7364e30a8e43cc7cc6709a7ce606fa285e 151003-151004 --> testing pass Upstream job id: Generic-Unit-Test-DPDK#312038 Test environment and result as below: +-----------------------------+----------------+---------------------------+------------------------------+--------------+ | Environment | dpdk_unit_test | cryptodev_sw_zuc_autotest | cryptodev_sw_snow3g_autotest | lpm_autotest | +=============================+================+===========================+==============================+==============+ | 32-bit Ubuntu 22.04.4 (ARM) | PASS | SKIPPED | SKIPPED | SKIPPED | +-----------------------------+----------------+---------------------------+------------------------------+--------------+ | Debian 12 (arm) | PASS | PASS | PASS | SKIPPED | +-----------------------------+----------------+---------------------------+------------------------------+--------------+ | Debian 11 (Buster) (ARM) | PASS | SKIPPED | SKIPPED | SKIPPED | +-----------------------------+----------------+---------------------------+------------------------------+--------------+ | CentOS Stream 9 (ARM) | PASS | SKIPPED | SKIPPED | SKIPPED | +-----------------------------+----------------+---------------------------+------------------------------+--------------+ | RHEL9 (ARM) | PASS | SKIPPED | SKIPPED | SKIPPED | +-----------------------------+----------------+---------------------------+------------------------------+--------------+ | Fedora 41 (ARM Clang) | PASS | SKIPPED | SKIPPED | SKIPPED | +-----------------------------+----------------+---------------------------+------------------------------+--------------+ | Fedora 40 (ARM) | PASS | SKIPPED | SKIPPED | SKIPPED | +-----------------------------+----------------+---------------------------+------------------------------+--------------+ | Ubuntu 20.04 (ARM) | PASS | SKIPPED | SKIPPED | SKIPPED | +-----------------------------+----------------+---------------------------+------------------------------+--------------+ | Ubuntu 22.04 (ARM) | PASS | SKIPPED | SKIPPED | SKIPPED | +-----------------------------+----------------+---------------------------+------------------------------+--------------+ | Ubuntu 24.04 (ARM) | PASS | SKIPPED | SKIPPED | SKIPPED | +-----------------------------+----------------+---------------------------+------------------------------+--------------+ | Fedora 40 (ARM Clang) | PASS | SKIPPED | SKIPPED | SKIPPED | +-----------------------------+----------------+---------------------------+------------------------------+--------------+ | Fedora 41 (ARM) | PASS | SKIPPED | SKIPPED | SKIPPED | +-----------------------------+----------------+---------------------------+------------------------------+--------------+ | Ubuntu 20.04 ARM SVE | SKIPPED | SKIPPED | SKIPPED | PASS | +-----------------------------+----------------+---------------------------+------------------------------+--------------+ 32-bit Ubuntu 22.04.4 (ARM) Kernel: 5.15.83+ aarch64 Compiler: gcc (Ubuntu 11.4.0-1ubuntu1~22.04) 11.4.0 Debian 12 (arm) Kernel: Depends on container host Compiler: gcc (Debian 12.2.0-14) 12.2.0 Debian 11 (Buster) (ARM) Kernel: Depends on container host Compiler: gcc (Debian 10.2.1-6) 10.2.1 20210110 CentOS Stream 9 (ARM) Kernel: Depends on container host Compiler: gcc 11.5.0 20240719 (Red Hat 11.5.0-2) RHEL9 (ARM) Kernel: Depends on container host Compiler: gcc 11.5.0 20240719 (Red Hat 11.5.0-2) Fedora 41 (ARM Clang) Kernel: Depends on container host Compiler: clang 19.1.5 (Fedora 19.1.5-1.fc41) Fedora 40 (ARM) Kernel: Depends on container host Compiler: gcc 14.2.1 20240912 (Red Hat 14.2.1-3) Ubuntu 20.04 (ARM) Kernel: Depends on container host Compiler: gcc (Ubuntu 9.4.0-1ubuntu1~20.04.2) 9.4.0 Ubuntu 22.04 (ARM) Kernel: Depends on container host Compiler: gcc (Ubuntu 11.4.0-1ubuntu1~22.04) 11.4.0 Ubuntu 24.04 (ARM) Kernel: Depends on container host Compiler: gcc (Ubuntu 13.3.0-6ubuntu2~24.04) 13.3.0 Fedora 40 (ARM Clang) Kernel: Depends on container host Compiler: clang 18.1.8 (Fedora 18.1.8-1.fc40) Fedora 41 (ARM) Kernel: Depends on container host Compiler: gcc 14.2.1 20240912 (Red Hat 14.2.1-3) Ubuntu 20.04 ARM SVE Kernel: Depends on container host Compiler: gcc (Ubuntu 10.5.0-1ubuntu1~20.04) 10.5.0 To view detailed results, visit: https://lab.dpdk.org/results/dashboard/patchsets/32503/ UNH-IOL DPDK Community Lab To manage your email subscriptions, visit: https://lab.dpdk.org/results/dashboard/preferences/subscriptions/