From mboxrd@z Thu Jan 1 00:00:00 1970 Return-Path: Received: from mails.dpdk.org (mails.dpdk.org [217.70.189.124]) by inbox.dpdk.org (Postfix) with ESMTP id EBFBC461AB for ; Thu, 6 Feb 2025 12:29:05 +0100 (CET) Received: from mails.dpdk.org (localhost [127.0.0.1]) by mails.dpdk.org (Postfix) with ESMTP id E5951402CE; Thu, 6 Feb 2025 12:29:05 +0100 (CET) Received: from mail-pl1-f226.google.com (mail-pl1-f226.google.com [209.85.214.226]) by mails.dpdk.org (Postfix) with ESMTP id 0D6284026C for ; Thu, 6 Feb 2025 12:29:05 +0100 (CET) Received: by mail-pl1-f226.google.com with SMTP id d9443c01a7336-21661be2c2dso14431705ad.1 for ; Thu, 06 Feb 2025 03:29:04 -0800 (PST) DKIM-Signature: v=1; a=rsa-sha256; c=relaxed/relaxed; d=iol.unh.edu; s=unh-iol; t=1738841344; x=1739446144; darn=dpdk.org; h=references:in-reply-to:cc:to:from:subject:message-id:date:from:to :cc:subject:date:message-id:reply-to; bh=2U8mTrw2ghdhN+2UsyvEKsJ7sqmn+4kYaDoUm9ZqmSU=; b=jgOnndlmiUAqV/peLfRkcC2wNQggXz69SjdQ0fRId9zq+oS2/+G/Cdel+AydDRdMGR PXETbiujt4NPoUkYCwvnt4AIcJEGVlUKbeBFc0Zvud/JddAewNSKIaJovht525hjvJtm 4ENUpHJ3EQjmB3Wu3b9z9G/pBBtUDeMuHVjUs= X-Google-DKIM-Signature: v=1; a=rsa-sha256; c=relaxed/relaxed; d=1e100.net; s=20230601; t=1738841344; x=1739446144; h=references:in-reply-to:cc:to:from:subject:message-id:date :x-gm-message-state:from:to:cc:subject:date:message-id:reply-to; bh=2U8mTrw2ghdhN+2UsyvEKsJ7sqmn+4kYaDoUm9ZqmSU=; b=oqIJDQjy4W0INJEeJY2Iz6GoS2ZxO6SMC68XXgDXV3mxVeEgzLaPhdZlA99qZjQd5p TlpT0uLcFIytIO7xNRV0RmMUYmEbn0Ac6+lQA5esJhvaikoAWgMJDx0uQSCHYMaxBadL eYHgZoTUWWD9zm/fmHHUyJM3uDxA1QaldeaDfuql8jCyhqWyxeDGnXbCupA0TReXbt0r vsOWGsn1OEJE1rsHlr1ANng8KCnjs5EGTfoLkM5glbOgzaxhvH7RS7wzdjoNp9hamK1V nHfhOWQ5z6lLMMkQE4xeVDdJYQmqfFY94MW1JG50QTrhWeVaID1PA1ffZwBfyloq3imn VCeQ== X-Gm-Message-State: AOJu0YzZDidwGWZ/CvXlC1kMRxgF5WYkYHJxvbbWlQBXi7h8jTDx+DXe 8/Xut4QmqPOXGnnGyeihrIAxQhsG30VdpYGNTz1GE3yJwNw4pC2MX4CYWCNEnww4VQJeIiohXdt 3dsCtTlL0P9MncsVKGdR0ZHsSu70QKruFifG+P2vzoNfgPC51Lk1N4IpE X-Gm-Gg: ASbGncshzNd9e6NVkldA6KaiPzIlKgERNAJqYmSNN/DzNzBwq0vAAf6sIvKfgmnsy+g Yic+1b2F6/jK1a3gkNG1YS+wfmSFS6EB2uCTjAHY8T926gfdxiraKtCg3tTjy2pD7iWTN9eqPM1 ao5NIbwoLsvbXWUuaStkX0boDMwk6VLoMgGHyHnG1Izz/XfpbrTFN9LPuVs6bdcNZHzSaACB566 5FoSd0R0cQTkxzoER8zllaKeSl9ay/S7OdM7warQ53LuYQ8gJ5ob1WeCpTOURghlU5zYdgsw/a6 SrwGGQA3VWnPAh2uq1QlRNCArWM5YTCmprledFfLhw== X-Google-Smtp-Source: AGHT+IELiJP7adaxjIKN0hwRMws/8BhDuSzl0m8SY8bJGyNCf/Gy9xjTwLSG0BMdf7wqA4AvZwiWAONT62la X-Received: by 2002:a17:902:e54c:b0:215:a04a:89d5 with SMTP id d9443c01a7336-21f17df58famr113695135ad.2.1738841344129; Thu, 06 Feb 2025 03:29:04 -0800 (PST) Received: from postal.iol.unh.edu (postal.iol.unh.edu. [2606:4100:3880:1234::84]) by smtp-relay.gmail.com with ESMTPS id d9443c01a7336-21f36879577sm328015ad.110.2025.02.06.03.29.04 (version=TLS1_2 cipher=ECDHE-ECDSA-AES128-GCM-SHA256 bits=128/128); Thu, 06 Feb 2025 03:29:04 -0800 (PST) X-Relaying-Domain: iol.unh.edu Date: Thu, 06 Feb 2025 03:29:04 -0800 (PST) Message-ID: <67a49d00.170a0220.15bc93.2be9SMTPIN_ADDED_MISSING@mx.google.com> Received: from [172.21.0.5] (unknown [172.18.0.240]) by postal.iol.unh.edu (Postfix) with ESMTP id 49F826052471; Thu, 6 Feb 2025 06:29:03 -0500 (EST) Subject: |SUCCESS| pw151041 [PATCH] [1/1] net/mana: do not ring short doorbel From: dpdklab@iol.unh.edu To: Test Report Cc: dpdk-test-reports@iol.unh.edu In-Reply-To: <20250206100744.734612-1-weh@microsoft.com> References: <20250206100744.734612-1-weh@microsoft.com> Content-Type: text/plain X-BeenThere: test-report@dpdk.org X-Mailman-Version: 2.1.29 Precedence: list List-Id: automatic DPDK test reports List-Unsubscribe: , List-Archive: List-Post: List-Help: List-Subscribe: , Errors-To: test-report-bounces@dpdk.org Test-Label: iol-compile-amd64-testing Test-Status: SUCCESS http://dpdk.org/patch/151041 _Testing PASS_ Submitter: Wei Hu Date: Thursday, February 06 2025 10:07:43 DPDK git baseline: Repo:dpdk Branch: master CommitID:e595e7b5758fc73d99b810f5a8748f94bd467084 151041 --> testing pass Upstream job id: Generic-VM-DPDK-Compile-Meson#33092 Test environment and result as below: +---------------------+-------------------------+-------------------+--------------------+----------------------+ | Environment | dpdk_llvm_clang_compile | dpdk_msvc_compile | dpdk_meson_compile | dpdk_mingw64_compile | +=====================+=========================+===================+====================+======================+ | Windows Server 2022 | PASS | PASS | SKIPPED | PASS | +---------------------+-------------------------+-------------------+--------------------+----------------------+ | FreeBSD 13.4 | SKIPPED | SKIPPED | PASS | SKIPPED | +---------------------+-------------------------+-------------------+--------------------+----------------------+ | FreeBSD 14.2 | SKIPPED | SKIPPED | PASS | SKIPPED | +---------------------+-------------------------+-------------------+--------------------+----------------------+ Windows Server 2022 Kernel: 10.0.20348.2031 Compiler: clang 15.0.7, gcc 14.1.0 (MinGW), and MSVC VS 19.39.33521 FreeBSD 13.4 Kernel: 13.4-RELEASE-p1 Compiler: clang 18.1.6 FreeBSD 14.2 Kernel: 14.2-RELEASE Compiler: clang 18.1.6 To view detailed results, visit: https://lab.dpdk.org/results/dashboard/patchsets/32510/ UNH-IOL DPDK Community Lab To manage your email subscriptions, visit: https://lab.dpdk.org/results/dashboard/preferences/subscriptions/