From mboxrd@z Thu Jan 1 00:00:00 1970 Return-Path: Received: from mails.dpdk.org (mails.dpdk.org [217.70.189.124]) by inbox.dpdk.org (Postfix) with ESMTP id 2622F461AB for ; Thu, 6 Feb 2025 12:29:30 +0100 (CET) Received: from mails.dpdk.org (localhost [127.0.0.1]) by mails.dpdk.org (Postfix) with ESMTP id 2343F402CE; Thu, 6 Feb 2025 12:29:30 +0100 (CET) Received: from mail-il1-f226.google.com (mail-il1-f226.google.com [209.85.166.226]) by mails.dpdk.org (Postfix) with ESMTP id D4EAF4026C for ; Thu, 6 Feb 2025 12:29:28 +0100 (CET) Received: by mail-il1-f226.google.com with SMTP id e9e14a558f8ab-3cf82bd380bso6435355ab.0 for ; Thu, 06 Feb 2025 03:29:28 -0800 (PST) DKIM-Signature: v=1; a=rsa-sha256; c=relaxed/relaxed; d=iol.unh.edu; s=unh-iol; t=1738841368; x=1739446168; darn=dpdk.org; h=references:in-reply-to:cc:to:from:subject:message-id:date:from:to :cc:subject:date:message-id:reply-to; bh=TPpLxzWsGyVUV5KPDjQXemyr6hU3mr5hjrh/tsRTyrw=; b=KYunOs69JoIsjZivwCCB4vIVq9PrAYN62ZLWIj9YYkzG0Q4k1Ni9KokIpeYHszleal +m986AJAhcZC2c5gUDivCHfnSd7C6LPnG5CtR/lXAK/o8OVYRT0vl1D9Z5w3ZZs+A6e3 ee2zdlAQoDlvXxKyiB/zUOceJngOyT1SdpdyI= X-Google-DKIM-Signature: v=1; a=rsa-sha256; c=relaxed/relaxed; d=1e100.net; s=20230601; t=1738841368; x=1739446168; h=references:in-reply-to:cc:to:from:subject:message-id:date :x-gm-message-state:from:to:cc:subject:date:message-id:reply-to; bh=TPpLxzWsGyVUV5KPDjQXemyr6hU3mr5hjrh/tsRTyrw=; b=p8BdtI6fLxhSGWYkszjJWgiiV13tefKWfsqbXZDcoWLiJZtNV15dMdn0256V+UX+Df zBan0QV3+UgNU7NOzUa2zg7/Jd6KKXNRdMyK4l4mOY2L8yqhH3GYJ5D1AxGlw5YvU2wY zj0JA4+81EIxSyLYtHwuXAANwtqicLa0wdsNj+XaVMwVkfZaZgXGfSctACh/3x4tzGQ4 hl+jqIeMaWahmDPpf3ALnqIgM8p1r3gMgy8JCc0atDke7dX1yf1cP3Nzs7OBEC+AZXoP BXUkPW/DlWGO9dSXDJzRq2A9Io+VOUF80+zXDBxWpXLvm71fPzAq0ido7FqTSlC3GFby Xtcw== X-Gm-Message-State: AOJu0YxBxFZNPRXg7kXp4skbRrb+RTz6ami3yoI/hDdC6e/qBC18qj6u 8bTjLTGR4ly0yVIisxAPSN/KpW1pKXJxWDlA/DW8QRzNHLq4uzYCZP34h/Oswib2zV3izt9Ssty SAoZOG8yuFT7lnQ9gTRGUQY31o51Mq6AsO9/EbzrrOq9iZ6KB8/0x2p2p X-Gm-Gg: ASbGncv7bgkdN0Ge9/n7GR0D6dgetUUiCk0ooGCW3NBQ6wJDzP3z4LE0KnfX0NCXyqz ahX/M1QhWlJN/0aozWEHP2il0pp3lbTpd1gcquEyIEkScZZuHosJ+jqcpwQ2ae7lyyo2iyEw2Hm gahBx6q91cR79AkcNep207+6tyCwtMn1wzLzOQam1ZVU4FbR+vtxuhNcQoZFTUouniZD3MFw3nv RHPpwFKoaH8gu3nrYmfFjbbxMShQrErbDQEQYMkuD0/a0A8h1f7iLBU2X6p5VTAfpPE4a1p3SZT alLLVoJ3Qn7mEAD7cBgPtP2MwimGQ9KeumOa/dryaA== X-Google-Smtp-Source: AGHT+IFw3v1ZaW++YNN4Tn88BHt50bDGaYJJRE5rf2xd/CqYQSkbdnkvqeBvY7PsCPICtE2KTBbnfluecHLB X-Received: by 2002:a92:c565:0:b0:3d0:285a:56b with SMTP id e9e14a558f8ab-3d04f6e4391mr63296755ab.17.1738841368141; Thu, 06 Feb 2025 03:29:28 -0800 (PST) Received: from postal.iol.unh.edu (postal.iol.unh.edu. [2606:4100:3880:1234::84]) by smtp-relay.gmail.com with ESMTPS id 8926c6da1cb9f-4eccf9a9a73sm63712173.5.2025.02.06.03.29.28 (version=TLS1_2 cipher=ECDHE-ECDSA-AES128-GCM-SHA256 bits=128/128); Thu, 06 Feb 2025 03:29:28 -0800 (PST) X-Relaying-Domain: iol.unh.edu Date: Thu, 06 Feb 2025 03:29:28 -0800 (PST) Message-ID: <67a49d18.050a0220.ab808.405bSMTPIN_ADDED_MISSING@mx.google.com> Received: from [172.21.0.5] (unknown [172.18.0.240]) by postal.iol.unh.edu (Postfix) with ESMTP id A7CA76052471; Thu, 6 Feb 2025 06:29:27 -0500 (EST) Subject: |SUCCESS| pw151041 [PATCH] [1/1] net/mana: do not ring short doorbel From: dpdklab@iol.unh.edu To: Test Report Cc: dpdk-test-reports@iol.unh.edu In-Reply-To: <20250206100744.734612-1-weh@microsoft.com> References: <20250206100744.734612-1-weh@microsoft.com> Content-Type: text/plain X-BeenThere: test-report@dpdk.org X-Mailman-Version: 2.1.29 Precedence: list List-Id: automatic DPDK test reports List-Unsubscribe: , List-Archive: List-Post: List-Help: List-Subscribe: , Errors-To: test-report-bounces@dpdk.org Test-Label: iol-compile-amd64-testing Test-Status: SUCCESS http://dpdk.org/patch/151041 _Testing PASS_ Submitter: Wei Hu Date: Thursday, February 06 2025 10:07:43 DPDK git baseline: Repo:dpdk Branch: master CommitID:e595e7b5758fc73d99b810f5a8748f94bd467084 151041 --> testing pass Upstream job id: Windows-Compile-DPDK-VS#4836 Test environment and result as below: +---------------------+-------------------------+-------------------+--------------------+----------------------+ | Environment | dpdk_llvm_clang_compile | dpdk_msvc_compile | dpdk_meson_compile | dpdk_mingw64_compile | +=====================+=========================+===================+====================+======================+ | Windows Server 2022 | PASS | PASS | SKIPPED | PASS | +---------------------+-------------------------+-------------------+--------------------+----------------------+ | FreeBSD 13.4 | SKIPPED | SKIPPED | PASS | SKIPPED | +---------------------+-------------------------+-------------------+--------------------+----------------------+ | FreeBSD 14.2 | SKIPPED | SKIPPED | PASS | SKIPPED | +---------------------+-------------------------+-------------------+--------------------+----------------------+ Windows Server 2022 Kernel: 10.0.20348.2031 Compiler: clang 15.0.7, gcc 14.1.0 (MinGW), and MSVC VS 19.39.33521 FreeBSD 13.4 Kernel: 13.4-RELEASE-p1 Compiler: clang 18.1.6 FreeBSD 14.2 Kernel: 14.2-RELEASE Compiler: clang 18.1.6 To view detailed results, visit: https://lab.dpdk.org/results/dashboard/patchsets/32510/ UNH-IOL DPDK Community Lab To manage your email subscriptions, visit: https://lab.dpdk.org/results/dashboard/preferences/subscriptions/