From mboxrd@z Thu Jan 1 00:00:00 1970 Return-Path: Received: from mails.dpdk.org (mails.dpdk.org [217.70.189.124]) by inbox.dpdk.org (Postfix) with ESMTP id 42151461AB for ; Thu, 6 Feb 2025 12:30:08 +0100 (CET) Received: from mails.dpdk.org (localhost [127.0.0.1]) by mails.dpdk.org (Postfix) with ESMTP id 3DAC2402CE; Thu, 6 Feb 2025 12:30:08 +0100 (CET) Received: from mail-pl1-f225.google.com (mail-pl1-f225.google.com [209.85.214.225]) by mails.dpdk.org (Postfix) with ESMTP id 0D6124026C for ; Thu, 6 Feb 2025 12:30:07 +0100 (CET) Received: by mail-pl1-f225.google.com with SMTP id d9443c01a7336-21f11b0e580so15696175ad.1 for ; Thu, 06 Feb 2025 03:30:06 -0800 (PST) DKIM-Signature: v=1; a=rsa-sha256; c=relaxed/relaxed; d=iol.unh.edu; s=unh-iol; t=1738841406; x=1739446206; darn=dpdk.org; h=references:in-reply-to:cc:to:from:subject:message-id:date:from:to :cc:subject:date:message-id:reply-to; bh=QUpvqOTnqkx+Cu7fk9jHslrYcTFDp2VbLX1rCdjFaLA=; b=OjoD0PgPU4MogoGB/fNVCpugDAMo8TTRvxXhF6OxmV5RiF8oE1USGrKP0IZ+uhnBNQ MPCJcx6ib6XxqYLxq1LTRzE8CAj439u+Rgyn51X3z7saMNzVFTPowjYU/BEay9cKGmgg +Q2jOPVDXISj8myTwEZvnzsMhi/nxAa3Wpc/A= X-Google-DKIM-Signature: v=1; a=rsa-sha256; c=relaxed/relaxed; d=1e100.net; s=20230601; t=1738841406; x=1739446206; h=references:in-reply-to:cc:to:from:subject:message-id:date :x-gm-message-state:from:to:cc:subject:date:message-id:reply-to; bh=QUpvqOTnqkx+Cu7fk9jHslrYcTFDp2VbLX1rCdjFaLA=; b=O0dUeHVpi6JEnipYlmUgDyS5W6S2niK1bYFw+wI51sJ6tOgyo1gq4RPZpdcEFw3dkZ Tz9qJvNwcK5hDx85V34mWvd8Td12Kesgv/7V1q0Ime6yQ+8wioObCHMH0bxR7HDc1hkZ ZkgDBB5jtF/skivHozvZ6tVP46nrOBo/R+LED8O1dRm/j6yI8T5hMvba9pn41P3Cd9k/ OIdThEz3NncmiE/enRa/gin21oFelwz+b5HRotRPbwBdWUcr4vgfXGLPIQqUlHfaPebv mUWR/dX49QyStnMy0R8TxoxNnhoSU/2ibRGcmehld/0l+QRg69ew1SwS/La+NLsPOQrF JNkw== X-Gm-Message-State: AOJu0YxyE1VxDcV0AkvY2+P9YCBiPR/Mng9fXlsP0ERbdOcu32M2SkWK EWeQzSuu60E1HFchx0hud6E2RDTOHUfqrZtVAVdZvc9RXSTFeZzjGOnhDXdMMNAFOaYSWJRMI5n xj9JoxnarPzsxIblaAXvE1WVwqKu8xunVmdyGbWKo X-Gm-Gg: ASbGncvY7m2YyTf7pXi0JZE0Z5XAlCufSVf1sp0ROFolMnTL+YZNXQiIn1mrRibyEcc ERsK/bIXPo13MdLOTsHMiKq3QmYunyyEQfYUbOJE9L6PGUHRac70zJ9HzCfXxYJL8kXBnhfsJoK 9CU3epfmTvAIF84Vf3wZ5vAHFj4iD/qGm72IQ/8DrMhDWzkcxsmO4TEhnqC3Kj/54EZBVnxkv3F EQV8gCMFW/v3NjUreaNV1h4wg137uerMGuFul2cSfAzY626sl50b00ALxWO8ygI1vqKcEO2wGbb SSStqG2wG6fFsrcQCZ8Uj+6sLu3Jyw== X-Google-Smtp-Source: AGHT+IGNkA6NuwB4uHcDL0qZG9cGELQxhop8UI3Ok/O65wN0HjwwMtXQzJfLgN34JXYslRNVcHS0EyxuWJrG X-Received: by 2002:a17:903:191:b0:210:f706:dc4b with SMTP id d9443c01a7336-21f17e4cbfdmr82240655ad.13.1738841406173; Thu, 06 Feb 2025 03:30:06 -0800 (PST) Received: from postal.iol.unh.edu (postal.iol.unh.edu. [132.177.123.84]) by smtp-relay.gmail.com with ESMTPS id d9443c01a7336-21f3650cee6sm295255ad.15.2025.02.06.03.30.06 (version=TLS1_2 cipher=ECDHE-ECDSA-AES128-GCM-SHA256 bits=128/128); Thu, 06 Feb 2025 03:30:06 -0800 (PST) X-Relaying-Domain: iol.unh.edu Date: Thu, 06 Feb 2025 03:30:06 -0800 (PST) Message-ID: <67a49d3e.170a0220.117970.2357SMTPIN_ADDED_MISSING@mx.google.com> Received: from [172.21.0.5] (unknown [172.18.0.240]) by postal.iol.unh.edu (Postfix) with ESMTP id 9B6C26052471; Thu, 6 Feb 2025 06:30:05 -0500 (EST) Subject: |SUCCESS| pw151041 [PATCH] [1/1] net/mana: do not ring short doorbel From: dpdklab@iol.unh.edu To: Test Report Cc: dpdk-test-reports@iol.unh.edu In-Reply-To: <20250206100744.734612-1-weh@microsoft.com> References: <20250206100744.734612-1-weh@microsoft.com> Content-Type: text/plain X-BeenThere: test-report@dpdk.org X-Mailman-Version: 2.1.29 Precedence: list List-Id: automatic DPDK test reports List-Unsubscribe: , List-Archive: List-Post: List-Help: List-Subscribe: , Errors-To: test-report-bounces@dpdk.org Test-Label: iol-compile-amd64-testing Test-Status: SUCCESS http://dpdk.org/patch/151041 _Testing PASS_ Submitter: Wei Hu Date: Thursday, February 06 2025 10:07:43 DPDK git baseline: Repo:dpdk Branch: master CommitID:e595e7b5758fc73d99b810f5a8748f94bd467084 151041 --> testing pass Upstream job id: Windows-Compile-DPDK-Native#26481 Test environment and result as below: +---------------------+-------------------------+-------------------+--------------------+----------------------+ | Environment | dpdk_llvm_clang_compile | dpdk_msvc_compile | dpdk_meson_compile | dpdk_mingw64_compile | +=====================+=========================+===================+====================+======================+ | Windows Server 2022 | PASS | PASS | SKIPPED | PASS | +---------------------+-------------------------+-------------------+--------------------+----------------------+ | FreeBSD 13.4 | SKIPPED | SKIPPED | PASS | SKIPPED | +---------------------+-------------------------+-------------------+--------------------+----------------------+ | FreeBSD 14.2 | SKIPPED | SKIPPED | PASS | SKIPPED | +---------------------+-------------------------+-------------------+--------------------+----------------------+ Windows Server 2022 Kernel: 10.0.20348.2031 Compiler: clang 15.0.7, gcc 14.1.0 (MinGW), and MSVC VS 19.39.33521 FreeBSD 13.4 Kernel: 13.4-RELEASE-p1 Compiler: clang 18.1.6 FreeBSD 14.2 Kernel: 14.2-RELEASE Compiler: clang 18.1.6 To view detailed results, visit: https://lab.dpdk.org/results/dashboard/patchsets/32510/ UNH-IOL DPDK Community Lab To manage your email subscriptions, visit: https://lab.dpdk.org/results/dashboard/preferences/subscriptions/