From mboxrd@z Thu Jan 1 00:00:00 1970 Return-Path: Received: from mails.dpdk.org (mails.dpdk.org [217.70.189.124]) by inbox.dpdk.org (Postfix) with ESMTP id 38C75461AB for ; Thu, 6 Feb 2025 12:46:37 +0100 (CET) Received: from mails.dpdk.org (localhost [127.0.0.1]) by mails.dpdk.org (Postfix) with ESMTP id 62E5240BA0; Thu, 6 Feb 2025 12:46:36 +0100 (CET) Received: from mail-qk1-f225.google.com (mail-qk1-f225.google.com [209.85.222.225]) by mails.dpdk.org (Postfix) with ESMTP id 03A0A4026C for ; Thu, 6 Feb 2025 12:46:35 +0100 (CET) Received: by mail-qk1-f225.google.com with SMTP id af79cd13be357-7b6f53c12adso62832085a.1 for ; Thu, 06 Feb 2025 03:46:34 -0800 (PST) DKIM-Signature: v=1; a=rsa-sha256; c=relaxed/relaxed; d=iol.unh.edu; s=unh-iol; t=1738842394; x=1739447194; darn=dpdk.org; h=references:in-reply-to:cc:to:from:subject:message-id:date:from:to :cc:subject:date:message-id:reply-to; bh=2x3PosaD98okE8eBgQYQDcT6toUfVKb4l8ENLjlN7tg=; b=OclZxI63TOFJhqnLu0GJTphy1KYQIVYdPI8eUpSrm957InDLKs9hwdEeHl0doJVDl9 /ZjQ4O5xHaMr4Qh+L+5F7rsXJVVFME51YYzn6CS4xv6cKUYjOba4y+qSSMjJwPxapH0C dOiBtILqRMbBhFwimEn3YE9mJ+fXN9KN6wg1I= X-Google-DKIM-Signature: v=1; a=rsa-sha256; c=relaxed/relaxed; d=1e100.net; s=20230601; t=1738842394; x=1739447194; h=references:in-reply-to:cc:to:from:subject:message-id:date :x-gm-message-state:from:to:cc:subject:date:message-id:reply-to; bh=2x3PosaD98okE8eBgQYQDcT6toUfVKb4l8ENLjlN7tg=; b=ZyB/l4dMK7GiLsiUW4/O0jZ90gsFDOVP7zodRXgybK7Xi0FVogp2NAMvpRZe8p6nXC NT+rZqslSkqSZGJwLEYU3tuDB6n6U7M6fP1KYr+xTb005LRBpmTmSBSV9zcDWwKtKLMw OJQwgmjnvGfrwnSWC/+VphC7QOOnog5SX2MdgG+SLO6bzjgIP4icKbHAoPare4lrtF04 g/iPX81pY+pAdtuGJGH+uDorefva3O8W1M6oDjuopwcgEF3A4DFvS2x4PwIR5pMru/GQ H0Z4HpEfpvuVjlz/yekrAdzOdtv6VZZor6T7lU7p6gP758efhFvnXKYzqA9To1ksSNiN t5RA== X-Gm-Message-State: AOJu0YyfPPlPyirpRDLWE6WW+/I7Yl26mg+RQee3A+KIZsUNIx2wxJKO wj0QKa5r7NLDyCcbNJO0mo7FYW1XN3CLC6/RmPQVKrC01S4v49NqPRT/a1cCI+OjNDyxlPcK/EJ tAfthW57Hf0qc5Jlqj1CS2Z3YSdGx5sxm39YGGsMZ+/D8VZTfsRgSgvx5 X-Gm-Gg: ASbGncurabdzl0UQDYqJbItFUQnmoXan8Czq5ckqMR7ljBwtEcDP8yHi4AsB+352RT3 pApGMfLYGBWiQXiMEdVHzrO2NkFDkra0H6pSmW9lk6mnwTWaHb6mLHVhTKJ960Dhm3HbFUwyYEa sAjjrDDa6N4Zu3pR06mbqEfbDrSFt/gHxLodp4b2mIOsV58DryEpbgnw2hNp/VLDce7tyJp069H joBrrdTra8BxjODcb5XPvhSKZau1wmI4HnuYQ6vbs1vHEfST9hk7b9F43Q++HFDPQ5od0ZxAuCl A+9LwSwysEVKZQcAMAgUZUbBJvyWbU+LbUyamIHAow== X-Google-Smtp-Source: AGHT+IHfGhKnprw+S0G81NioLlzb4/5nQdQsRav4r/eY5JmVFbJ6MpRXBuoiwiI9oJx9vPpivhM4hWJzJu90 X-Received: by 2002:a05:620a:2683:b0:7b6:d26e:9d89 with SMTP id af79cd13be357-7c03a01daa6mr843484085a.42.1738842394352; Thu, 06 Feb 2025 03:46:34 -0800 (PST) Received: from postal.iol.unh.edu (postal.iol.unh.edu. [2606:4100:3880:1234::84]) by smtp-relay.gmail.com with ESMTPS id af79cd13be357-7c041de92d2sm4815085a.2.2025.02.06.03.46.34 (version=TLS1_2 cipher=ECDHE-ECDSA-AES128-GCM-SHA256 bits=128/128); Thu, 06 Feb 2025 03:46:34 -0800 (PST) X-Relaying-Domain: iol.unh.edu Date: Thu, 06 Feb 2025 03:46:34 -0800 (PST) Message-ID: <67a4a11a.050a0220.39cdb4.33ceSMTPIN_ADDED_MISSING@mx.google.com> Received: from [172.21.0.6] (unknown [172.18.0.240]) by postal.iol.unh.edu (Postfix) with ESMTP id 127656052471; Thu, 6 Feb 2025 06:46:34 -0500 (EST) Subject: |SUCCESS| pw150974-150991 [PATCH] [v3,19/19] common/cnxk: fix null p From: dpdklab@iol.unh.edu To: Test Report Cc: dpdk-test-reports@iol.unh.edu In-Reply-To: <20250205162448.161161-20-stephen@networkplumber.org> References: <20250205162448.161161-20-stephen@networkplumber.org> Content-Type: text/plain X-BeenThere: test-report@dpdk.org X-Mailman-Version: 2.1.29 Precedence: list List-Id: automatic DPDK test reports List-Unsubscribe: , List-Archive: List-Post: List-Help: List-Subscribe: , Errors-To: test-report-bounces@dpdk.org Test-Label: iol-sample-apps-testing Test-Status: SUCCESS http://dpdk.org/patch/150991 _Testing PASS_ Submitter: Stephen Hemminger Date: Wednesday, February 05 2025 16:23:20 DPDK git baseline: Repo:dpdk Branch: master CommitID:32c18e7364e30a8e43cc7cc6709a7ce606fa285e 150974-150991 --> testing pass Upstream job id: ACVP-FIPS-testing#8795 Test environment and result as below: +--------------------+----------------------+----------------------+ | Environment | compressdev_zlib_pmd | dpdk_fips_validation | +====================+======================+======================+ | Ubuntu 22.04 (ARM) | PASS | SKIPPED | +--------------------+----------------------+----------------------+ | Ubuntu 22.04 | PASS | SKIPPED | +--------------------+----------------------+----------------------+ | Ubuntu 20.04 | SKIPPED | PASS | +--------------------+----------------------+----------------------+ Ubuntu 22.04 (ARM) Kernel: 5.15.0-97-generic Compiler: gcc gcc (Ubuntu 11.4.0-1ubuntu1~22.04) 11.4.0 Ubuntu 22.04 Kernel: 5.15.0-100-generic Compiler: gcc gcc (Ubuntu 11.4.0-1ubuntu1~22.04) 11.4.0 Ubuntu 20.04 Kernel: Depends on container host Compiler: gcc (Ubuntu 9.4.0-1ubuntu1~20.04.2) 9.4.0 To view detailed results, visit: https://lab.dpdk.org/results/dashboard/patchsets/32501/ UNH-IOL DPDK Community Lab To manage your email subscriptions, visit: https://lab.dpdk.org/results/dashboard/preferences/subscriptions/