From mboxrd@z Thu Jan 1 00:00:00 1970 Return-Path: Received: from mails.dpdk.org (mails.dpdk.org [217.70.189.124]) by inbox.dpdk.org (Postfix) with ESMTP id D3098461AB for ; Thu, 6 Feb 2025 12:50:11 +0100 (CET) Received: from mails.dpdk.org (localhost [127.0.0.1]) by mails.dpdk.org (Postfix) with ESMTP id B4C29402CE; Thu, 6 Feb 2025 12:50:11 +0100 (CET) Received: from mail-yb1-f225.google.com (mail-yb1-f225.google.com [209.85.219.225]) by mails.dpdk.org (Postfix) with ESMTP id D7F394026C for ; Thu, 6 Feb 2025 12:50:10 +0100 (CET) Received: by mail-yb1-f225.google.com with SMTP id 3f1490d57ef6-e455bf1f4d3so613062276.2 for ; Thu, 06 Feb 2025 03:50:10 -0800 (PST) DKIM-Signature: v=1; a=rsa-sha256; c=relaxed/relaxed; d=iol.unh.edu; s=unh-iol; t=1738842610; x=1739447410; darn=dpdk.org; h=references:in-reply-to:cc:to:from:subject:message-id:date:from:to :cc:subject:date:message-id:reply-to; bh=eUzuL+SMTztKsmiASV6VWfTDMB0DCVglhpmZEuhHaQ4=; b=VeXqQZ5Xs55IqmQ05r+feAzO5a3b/0FDaxAnGk24X86Tl8F0/WawADOZv+R00d8Lnh sVJeO263OBV9L/q6V3SdOcSm+Ncc4isecjxYbewlH+/V9jHvxr3ch87J1zwABixI5LB9 q6Rrhyr6IXSSUQKl+1858vySs+8DljBpLjvE8= X-Google-DKIM-Signature: v=1; a=rsa-sha256; c=relaxed/relaxed; d=1e100.net; s=20230601; t=1738842610; x=1739447410; h=references:in-reply-to:cc:to:from:subject:message-id:date :x-gm-message-state:from:to:cc:subject:date:message-id:reply-to; bh=eUzuL+SMTztKsmiASV6VWfTDMB0DCVglhpmZEuhHaQ4=; b=jRCeML/afCm1nyexTREOeWD9JK2+rPkWciwHWFlNP0/1NRZLnauSnXKm+C2v43kWNt P5HOHKjJb6Z4VwVcMwWb9PA6uscupkUuJMQn6NFviskE3fqQIICNWrGrD1nuXSZuDhdr v19MdL2DMYNuWMpZQPyJRZWODhL44ab9RTzadwscQO810oZcgUvIYnrz9iu9slUUNZTR TIsOamwPeyvR83TuzIB4MOmU9Q3Nfx5mfifJeCbLdTMsKtMk1eHYz+AtZGwcRJ4bxZTY 7GuYo2YJXErJBKp4FT/J+GRLKxHceQKWbtfMQQRzY8LTy2OOKTr82Jt46hssu0PDphDe fk8w== X-Gm-Message-State: AOJu0Yxod6M4sufxdCtuPGtOhQHicwfP8L5cx7oIgJlQe3LQduxpFzVx RclsbObV6Id9ZJnU+eLv83sTEUJcTSXNNaP+yHlpQ6HVL/32YHLrUHIy3oYsIb5H+ziOpaf0zsf ABeNSayDsGIEJq2KTiRnjphpkUMxgvWP31NqFjHB7Vl6TPpyctuJgchgo X-Gm-Gg: ASbGnctGnVcBZFLwhVWQHr4nc8yjGNn89ooGbQGPeQB8gkdjBu5yYltmcBy7MWmT2/t 7utMTfYXrEurtaaSy3hniSV9GkLvF7TyLvJF/lpEYQ6qdsISzL/LgqkUxr4S7vy53WFIMathkDz dnQLi5dowiTkwtDJ3nyj1T1lbRLqBKueuH2YaTUW132kWlJfNsQwRB7NzPqLv+vuKMkHQk1BT0U ivmMwZDnfRVZVGPUFWEg5lj6fCixhZkfVeyTTCOfv8geaYQ3PB54chRABW/01py5hJaZXcEKztE QxOcOccS2h6trcYupFqegU+qVJBPIG5Pg17MKm8/Uw== X-Google-Smtp-Source: AGHT+IHJuuu5kEyZE3xG/XZ5SwzYi6oeXkxAfOnpMlXPPSXaff6HGu+CSvw56LKn5I2SRZH3brPmVCPx4RmN X-Received: by 2002:a05:6902:2702:b0:e5b:1858:9f34 with SMTP id 3f1490d57ef6-e5b25a0de09mr5075825276.16.1738842610153; Thu, 06 Feb 2025 03:50:10 -0800 (PST) Received: from postal.iol.unh.edu (postal.iol.unh.edu. [2606:4100:3880:1234::84]) by smtp-relay.gmail.com with ESMTPS id 3f1490d57ef6-e5b3a4509f5sm55213276.28.2025.02.06.03.50.10 (version=TLS1_2 cipher=ECDHE-ECDSA-AES128-GCM-SHA256 bits=128/128); Thu, 06 Feb 2025 03:50:10 -0800 (PST) X-Relaying-Domain: iol.unh.edu Date: Thu, 06 Feb 2025 03:50:10 -0800 (PST) Message-ID: <67a4a1f2.250a0220.13f4a4.374aSMTPIN_ADDED_MISSING@mx.google.com> Received: from [172.21.0.6] (unknown [172.18.0.240]) by postal.iol.unh.edu (Postfix) with ESMTP id BE0086052471; Thu, 6 Feb 2025 06:50:09 -0500 (EST) Subject: |SUCCESS| pw151039 [PATCH] [v7,1/1] graph: mcore: optimize graph sea From: dpdklab@iol.unh.edu To: Test Report Cc: dpdk-test-reports@iol.unh.edu In-Reply-To: <20250206025322.2182-1-chcchc88@163.com> References: <20250206025322.2182-1-chcchc88@163.com> Content-Type: text/plain X-BeenThere: test-report@dpdk.org X-Mailman-Version: 2.1.29 Precedence: list List-Id: automatic DPDK test reports List-Unsubscribe: , List-Archive: List-Post: List-Help: List-Subscribe: , Errors-To: test-report-bounces@dpdk.org Test-Label: iol-unit-amd64-testing Test-Status: SUCCESS http://dpdk.org/patch/151039 _Testing PASS_ Submitter: Huichao Cai Date: Thursday, February 06 2025 02:53:22 DPDK git baseline: Repo:dpdk Branch: master CommitID:32c18e7364e30a8e43cc7cc6709a7ce606fa285e 151039 --> testing pass Upstream job id: Generic-Unit-Test-DPDK#312173 Test environment and result as below: +---------------------+----------------+ | Environment | dpdk_unit_test | +=====================+================+ | CentOS Stream 9 | PASS | +---------------------+----------------+ | Debian 12 | PASS | +---------------------+----------------+ | Debian Bullseye | PASS | +---------------------+----------------+ | Fedora 40 (Clang) | PASS | +---------------------+----------------+ | Fedora 41 | PASS | +---------------------+----------------+ | Fedora 40 | PASS | +---------------------+----------------+ | Ubuntu 20.04 | PASS | +---------------------+----------------+ | Fedora 41 (Clang) | PASS | +---------------------+----------------+ | RHEL8 | PASS | +---------------------+----------------+ | RHEL9 | PASS | +---------------------+----------------+ | Ubuntu 22.04 | PASS | +---------------------+----------------+ | Ubuntu 24.04 | PASS | +---------------------+----------------+ | Windows Server 2022 | PASS | +---------------------+----------------+ CentOS Stream 9 Kernel: Depends on container host Compiler: gcc 11.5.0 20240719 (Red Hat 11.5.0-2) Debian 12 Kernel: Depends on container host Compiler: gcc (Debian 12.2.0-14) 12.2.0 Debian Bullseye Kernel: Depends on container host Compiler: gcc (Debian 10.2.1-6) 10.2.1 20210110 Fedora 40 (Clang) Kernel: Depends on container host Compiler: clang 18.1.8 (Fedora 18.1.8-1.fc40) Fedora 41 Kernel: Depends on container host Compiler: gcc 14.2.1 20240912 (Red Hat 14.2.1-3) Fedora 40 Kernel: Depends on container host Compiler: gcc 14.2.1 20240912 (Red Hat 14.2.1-3) Ubuntu 20.04 Kernel: Depends on container host Compiler: gcc (Ubuntu 9.4.0-1ubuntu1~20.04.2) 9.4.0 Fedora 41 (Clang) Kernel: Depends on container host Compiler: clang 19.1.5 (Fedora 19.1.5-1.fc41) RHEL8 Kernel: Depends on container host Compiler: gcc 8.5.0 20210514 (Red Hat 8.5.0-22) RHEL9 Kernel: Depends on container host Compiler: gcc 11.5.0 20240719 (Red Hat 11.5.0-2) Ubuntu 22.04 Kernel: Depends on container host Compiler: gcc (Ubuntu 11.4.0-1ubuntu1~22.04) 11.4.0 Ubuntu 24.04 Kernel: Depends on container host Compiler: gcc (Ubuntu 13.3.0-6ubuntu2~24.04) 13.3.0 Windows Server 2022 Kernel: 10.0.20348.2031 Compiler: clang 15.0.7, gcc 14.1.0 (MinGW), and MSVC VS 19.39.33521 To view detailed results, visit: https://lab.dpdk.org/results/dashboard/patchsets/32508/ UNH-IOL DPDK Community Lab To manage your email subscriptions, visit: https://lab.dpdk.org/results/dashboard/preferences/subscriptions/