From mboxrd@z Thu Jan 1 00:00:00 1970 Return-Path: Received: from mails.dpdk.org (mails.dpdk.org [217.70.189.124]) by inbox.dpdk.org (Postfix) with ESMTP id 3C3E2461AB for ; Thu, 6 Feb 2025 12:50:43 +0100 (CET) Received: from mails.dpdk.org (localhost [127.0.0.1]) by mails.dpdk.org (Postfix) with ESMTP id 35ACA402CE; Thu, 6 Feb 2025 12:50:43 +0100 (CET) Received: from mail-oo1-f100.google.com (mail-oo1-f100.google.com [209.85.161.100]) by mails.dpdk.org (Postfix) with ESMTP id 9D2EE4026C for ; Thu, 6 Feb 2025 12:50:41 +0100 (CET) Received: by mail-oo1-f100.google.com with SMTP id 006d021491bc7-5fa2a2bdde9so227322eaf.0 for ; Thu, 06 Feb 2025 03:50:41 -0800 (PST) DKIM-Signature: v=1; a=rsa-sha256; c=relaxed/relaxed; d=iol.unh.edu; s=unh-iol; t=1738842641; x=1739447441; darn=dpdk.org; h=references:in-reply-to:cc:to:from:subject:message-id:date:from:to :cc:subject:date:message-id:reply-to; bh=ruv94ZVCNbsW2Fj4N82of5UZYtek2wNFYVpeMxXob7U=; b=SzE9NlZJDBNtr4kGcxwmfbyuyLeEHRTLFa4W+uLKMPbgSfWUGmA2MDkCgiu0RuYijZ WBCP2wgzR3jJ1w89F+gHR3y2iAUnKGlp86R0/VAF3OS8uPed8dGpnNaw1E425tPgu09c s85yIgRNNFMOKLTET3UXBl3JimPPmGpLu1upM= X-Google-DKIM-Signature: v=1; a=rsa-sha256; c=relaxed/relaxed; d=1e100.net; s=20230601; t=1738842641; x=1739447441; h=references:in-reply-to:cc:to:from:subject:message-id:date :x-gm-message-state:from:to:cc:subject:date:message-id:reply-to; bh=ruv94ZVCNbsW2Fj4N82of5UZYtek2wNFYVpeMxXob7U=; b=BvZ0PGC0dmlLOZx+gZGp+h/qx/ObbrQ5RFQQa/yCTgSvS4Ym8aaT7y4Y1XUagmOqA4 NKFlt33SMhQYImP5pdH9q5xGPZPCdoD4CzJxwKjs3ViDzVTyJh6z7u05ebtLPujr253y Dk1p87KYUUsTqcyDVUdtR6c9T0i0bpMF4FHYCdulfjilD1oS9zr7l7AjSlNiPTbJ+RPo RN96GtUzxPNmigTBrWvQ7fEKy6dEXx5xoetvWrNxPmIHOd4HYJBd4RmfbgR+Vg1xxOi5 91wrKCqiamjOOQvR2NAgxlB+Grb9dyHNWHGloK7Mge2AvQ1exyxDausH+s3pNYp9ZPCg dunw== X-Gm-Message-State: AOJu0YzOq9qo2PPPzd3Fxp1zvfUIKpZb8UcSLmAYAnjpKKf0RKTriVr0 3MGFb/Ri/pKE1w7rD1PwzQWo8/bjRIzvg0KrgPb+i4Y/o7Q8dB2TOb2UCXUWVry3kPxeNgTFhoo HFyjmoi911gMCvjzD8HTCWVF7s7A7ZBr1P+VsIA+p5lCslYdrkuY0JV55 X-Gm-Gg: ASbGnctqFd0Tp23sM+aJOpHuUsQi2/aAHp7MpPdRg1K+3jC0FYoawqPVw44zxO3CrzX y6sV/l/Nb8++fu31hDY37V5bg3BgwfxkwXZfLA+acf0w+60/G/RAPrjaSFo/7D1La5eQXIzuk0b t6fOIRU+10UO5gziW1wof/vG8553YktOxPPrJdW3cxFy/wcmih0oEkn4Az6adEfblwr+krDjWYR FNte10TYT819nsj7LUVHrPeirtpCKiGzs7YkI73LMlcouQHznfDun5KRYJNC0lsIu+uyhWgfdYs 5dlUoc++/VQLCgav6y1aGxX7uOqiHLA8rh6RBBlQLA== X-Google-Smtp-Source: AGHT+IGvLWmkjjcvgz06EcI0OTvZOg7O4ePM3IXBIln+oRVljXaeq25F+7q/OUw7Wa1QQkFYASe+rpX6a7oW X-Received: by 2002:a05:6870:3287:b0:29e:353b:8f25 with SMTP id 586e51a60fabf-2b804f4a78cmr3932867fac.12.1738842640748; Thu, 06 Feb 2025 03:50:40 -0800 (PST) Received: from postal.iol.unh.edu (postal.iol.unh.edu. [2606:4100:3880:1234::84]) by smtp-relay.gmail.com with ESMTPS id 586e51a60fabf-2b8261e736csm57370fac.32.2025.02.06.03.50.40 (version=TLS1_2 cipher=ECDHE-ECDSA-AES128-GCM-SHA256 bits=128/128); Thu, 06 Feb 2025 03:50:40 -0800 (PST) X-Relaying-Domain: iol.unh.edu Date: Thu, 06 Feb 2025 03:50:40 -0800 (PST) Message-ID: <67a4a210.050a0220.16c5ef.3935SMTPIN_ADDED_MISSING@mx.google.com> Received: from [172.21.0.5] (unknown [172.18.0.240]) by postal.iol.unh.edu (Postfix) with ESMTP id 3F38A6052471; Thu, 6 Feb 2025 06:50:40 -0500 (EST) Subject: |SUCCESS| pw151003-151004 [PATCH] [v2,2/2] build: replace support fo From: dpdklab@iol.unh.edu To: Test Report Cc: dpdk-test-reports@iol.unh.edu In-Reply-To: <20250205182918.4041268-3-bruce.richardson@intel.com> References: <20250205182918.4041268-3-bruce.richardson@intel.com> Content-Type: text/plain X-BeenThere: test-report@dpdk.org X-Mailman-Version: 2.1.29 Precedence: list List-Id: automatic DPDK test reports List-Unsubscribe: , List-Archive: List-Post: List-Help: List-Subscribe: , Errors-To: test-report-bounces@dpdk.org Test-Label: iol-compile-arm64-testing Test-Status: SUCCESS http://dpdk.org/patch/151004 _Testing PASS_ Submitter: Bruce Richardson Date: Wednesday, February 05 2025 18:29:15 DPDK git baseline: Repo:dpdk Branch: master CommitID:32c18e7364e30a8e43cc7cc6709a7ce606fa285e 151003-151004 --> testing pass Upstream job id: Generic-DPDK-Compile-Meson#358283 Test environment and result as below: +----------------------------------------+--------------------+ | Environment | dpdk_meson_compile | +========================================+====================+ | RHEL9 (ARM) | PASS | +----------------------------------------+--------------------+ | Ubuntu 20.04 ARM GCC Cross Compile | PASS | +----------------------------------------+--------------------+ | Ubuntu 20.04 ARM SVE | PASS | +----------------------------------------+--------------------+ | Debian 12 with MUSDK | PASS | +----------------------------------------+--------------------+ | Fedora 40 (ARM) | PASS | +----------------------------------------+--------------------+ | Fedora 40 (ARM Clang) | PASS | +----------------------------------------+--------------------+ | Fedora 41 (ARM) | PASS | +----------------------------------------+--------------------+ | Fedora 41 (ARM Clang) | PASS | +----------------------------------------+--------------------+ | Ubuntu 20.04 (ARM) | PASS | +----------------------------------------+--------------------+ | Ubuntu 22.04 (ARM) | PASS | +----------------------------------------+--------------------+ | Ubuntu 24.04 (ARM) | PASS | +----------------------------------------+--------------------+ | CentOS Stream 9 (ARM) | PASS | +----------------------------------------+--------------------+ | Debian 11 (Buster) (ARM) | PASS | +----------------------------------------+--------------------+ | Debian 12 (arm) | PASS | +----------------------------------------+--------------------+ | Ubuntu 20.04 ARM Clang Cross Compile | PASS | +----------------------------------------+--------------------+ | Ubuntu 20.04 aarch32 GCC Cross Compile | PASS | +----------------------------------------+--------------------+ RHEL9 (ARM) Kernel: Depends on container host Compiler: gcc 11.5.0 20240719 (Red Hat 11.5.0-2) Ubuntu 20.04 ARM GCC Cross Compile Kernel: Depends on container host Compiler: aarch64-linux-gnu-gcc (Ubuntu 9.4.0-1ubuntu1~20.04.2) 9.4.0 Ubuntu 20.04 ARM SVE Kernel: Depends on container host Compiler: gcc (Ubuntu 10.5.0-1ubuntu1~20.04) 10.5.0 Debian 12 with MUSDK Kernel: Depends on container host Compiler: gcc (Debian 12.2.0-14) 12.2.0 Fedora 40 (ARM) Kernel: Depends on container host Compiler: gcc 14.2.1 20240912 (Red Hat 14.2.1-3) Fedora 40 (ARM Clang) Kernel: Depends on container host Compiler: clang 18.1.8 (Fedora 18.1.8-1.fc40) Fedora 41 (ARM) Kernel: Depends on container host Compiler: gcc 14.2.1 20240912 (Red Hat 14.2.1-3) Fedora 41 (ARM Clang) Kernel: Depends on container host Compiler: clang 19.1.5 (Fedora 19.1.5-1.fc41) Ubuntu 20.04 (ARM) Kernel: Depends on container host Compiler: gcc (Ubuntu 9.4.0-1ubuntu1~20.04.2) 9.4.0 Ubuntu 22.04 (ARM) Kernel: Depends on container host Compiler: gcc (Ubuntu 11.4.0-1ubuntu1~22.04) 11.4.0 Ubuntu 24.04 (ARM) Kernel: Depends on container host Compiler: gcc (Ubuntu 13.3.0-6ubuntu2~24.04) 13.3.0 CentOS Stream 9 (ARM) Kernel: Depends on container host Compiler: gcc 11.5.0 20240719 (Red Hat 11.5.0-2) Debian 11 (Buster) (ARM) Kernel: Depends on container host Compiler: gcc (Debian 10.2.1-6) 10.2.1 20210110 Debian 12 (arm) Kernel: Depends on container host Compiler: gcc (Debian 12.2.0-14) 12.2.0 Ubuntu 20.04 ARM Clang Cross Compile Kernel: Depends on container host Compiler: clang 10.0.0-4ubuntu1 Ubuntu 20.04 aarch32 GCC Cross Compile Kernel: Depends on container host Compiler: gcc 9.4.0 To view detailed results, visit: https://lab.dpdk.org/results/dashboard/patchsets/32503/ UNH-IOL DPDK Community Lab To manage your email subscriptions, visit: https://lab.dpdk.org/results/dashboard/preferences/subscriptions/