From mboxrd@z Thu Jan 1 00:00:00 1970 Return-Path: Received: from mails.dpdk.org (mails.dpdk.org [217.70.189.124]) by inbox.dpdk.org (Postfix) with ESMTP id 357AA461AB for ; Thu, 6 Feb 2025 12:59:49 +0100 (CET) Received: from mails.dpdk.org (localhost [127.0.0.1]) by mails.dpdk.org (Postfix) with ESMTP id 28CAE402CE; Thu, 6 Feb 2025 12:59:49 +0100 (CET) Received: from mail-pl1-f228.google.com (mail-pl1-f228.google.com [209.85.214.228]) by mails.dpdk.org (Postfix) with ESMTP id CB450402CE for ; Thu, 6 Feb 2025 12:59:47 +0100 (CET) Received: by mail-pl1-f228.google.com with SMTP id d9443c01a7336-2163dc5155fso15120405ad.0 for ; Thu, 06 Feb 2025 03:59:47 -0800 (PST) DKIM-Signature: v=1; a=rsa-sha256; c=relaxed/relaxed; d=iol.unh.edu; s=unh-iol; t=1738843187; x=1739447987; darn=dpdk.org; h=cc:to:from:subject:message-id:date:from:to:cc:subject:date :message-id:reply-to; bh=DTeUG1/lCiIHpFjsBoljqkbqv+0P0WFe3Ij5TTS2Hd8=; b=XrL6iAaFgFoyaUftC5jx9yXVBh5Ti0HYvmFIcBj1AqcwD8hXp/+UkFQXzEJmpVMj3T puANTMO/2tQqItbunM4DLlOFnuax0Xlx6usbGc9v9uZ/etYTGeGXc7sLgRTxqV97DwaG /DMIUvV4sJgBuv31KhQumKst5ev8g46wbMdUc= X-Google-DKIM-Signature: v=1; a=rsa-sha256; c=relaxed/relaxed; d=1e100.net; s=20230601; t=1738843187; x=1739447987; h=cc:to:from:subject:message-id:date:x-gm-message-state:from:to:cc :subject:date:message-id:reply-to; bh=DTeUG1/lCiIHpFjsBoljqkbqv+0P0WFe3Ij5TTS2Hd8=; b=FOhADIOVDKffAOYyyoPxnEudt7mvvxnGBY2UzFI4SC1OswUIZa9WML+00TSoMEzvJN Duhrga0PxOf6EPhsoDXMIrUamZt2j47fMuz/yiyHIx0Jj+O3QbAeVzr+UvUlI/08MGoi fvkhXQxTYNt9l4u8JYMNITuLUPiWQU8zKe9+PfBfL58mwXC6LCS++Y1eFXzhN9XS0gBM 2A2Qqj3wp6/QXv1O0CSW3uPz8QCJYLJucUXHysK9OF4H2k73MmSxBi7pnawXfAJFRV4N v1g1FXM9sKYS7Gb8vlAgnoQBxJaxOLO8qy8Um7NLqvVd6V3S/PkoZooLOZyvwyECt9Hj dD8g== X-Gm-Message-State: AOJu0YyEAewfxZ4S/W7efGKbxc5zMUFI6Xg1pdbsFoUB3BpzLpddXk6g rOxbo4LWCXbEqN4hv1pgtbVMkhtRYIVNea66jrTQK4bcPVksWJLsFT3z3AwXBTS+14hu/wa7vJI vGN5VE64L77PWcLaanOQThHksIBkza24fVtfJBHZH X-Gm-Gg: ASbGnctCEqe2Ro8hFZN0fvDgKooLBDez9HV6sdDpX1CR2LIlj/HyoA3VlAH06N9qUHE iJSIi2cUwRm4slk1dHkvd2wEOMsYC0Y9txG9j4F2iqObACvpsTGOy5ADt8CbZ9KlHQPUTLwvLLl Fm+SzZy+3kGtYOm7utyawvOShAe8Ab8U2pKZZbmxRg271+EEKVYBYse2rNFwsbvRQBbiYDJkpoy QRAOKoWVHKSClbVoXKlODM+JtoybCyrDGzGK065AfwYUWp29ou14JyWim7FKk1eNOsD7wHyqanm rYxSuG5RU6JkUhbNggSvz/rULJG/oA== X-Google-Smtp-Source: AGHT+IGhSvakk7VCZHyxfL8RyGI4ikijhNLMx+eXJABG8lEHDAO4wmZhhv6Pm5JtQRGvDU8HIB/KaemCDPt8 X-Received: by 2002:a17:902:f710:b0:21f:3e2d:7d2e with SMTP id d9443c01a7336-21f3e2d7f9emr15768715ad.27.1738843186866; Thu, 06 Feb 2025 03:59:46 -0800 (PST) Received: from postal.iol.unh.edu (postal.iol.unh.edu. [132.177.123.84]) by smtp-relay.gmail.com with ESMTPS id d9443c01a7336-21f36542ca3sm353765ad.32.2025.02.06.03.59.46 (version=TLS1_2 cipher=ECDHE-ECDSA-AES128-GCM-SHA256 bits=128/128); Thu, 06 Feb 2025 03:59:46 -0800 (PST) X-Relaying-Domain: iol.unh.edu Date: Thu, 06 Feb 2025 03:59:46 -0800 (PST) Message-ID: <67a4a432.170a0220.e6517.2bc1SMTPIN_ADDED_MISSING@mx.google.com> Received: from [172.21.0.5] (unknown [172.18.0.240]) by postal.iol.unh.edu (Postfix) with ESMTP id C0E566052471; Thu, 6 Feb 2025 06:59:45 -0500 (EST) Subject: |SUCCESS| [GIT MASTER] 6d7e741be18ab1e6ecce46edb2516318305c3c73 From: dpdklab@iol.unh.edu To: Test Report Cc: dpdk-test-reports@iol.unh.edu Content-Type: text/plain X-BeenThere: test-report@dpdk.org X-Mailman-Version: 2.1.29 Precedence: list List-Id: automatic DPDK test reports List-Unsubscribe: , List-Archive: List-Post: List-Help: List-Subscribe: , Errors-To: test-report-bounces@dpdk.org _Testing PASS_ Branch: dpdk 6d7e741be18ab1e6ecce46edb2516318305c3c73 --> testing pass Upstream job id: Generic-DPDK-Compile-Meson#358380 Test environment and result as below: +---------------------+--------------------+-------------------+------------------+-------------------+-------------------------+----------------------+ | Environment | dpdk_meson_compile | dpdk_msvc_compile | dpdk_compile_ovs | dpdk_compile_spdk | dpdk_llvm_clang_compile | dpdk_mingw64_compile | +=====================+====================+===================+==================+===================+=========================+======================+ | FreeBSD 13.4 | PASS | SKIPPED | SKIPPED | SKIPPED | SKIPPED | SKIPPED | +---------------------+--------------------+-------------------+------------------+-------------------+-------------------------+----------------------+ | FreeBSD 14.2 | PASS | SKIPPED | SKIPPED | SKIPPED | SKIPPED | SKIPPED | +---------------------+--------------------+-------------------+------------------+-------------------+-------------------------+----------------------+ | CentOS Stream 9 | PASS | SKIPPED | PASS | PASS | SKIPPED | SKIPPED | +---------------------+--------------------+-------------------+------------------+-------------------+-------------------------+----------------------+ | Debian Bullseye | PASS | SKIPPED | PASS | PASS | SKIPPED | SKIPPED | +---------------------+--------------------+-------------------+------------------+-------------------+-------------------------+----------------------+ | Debian 12 | PASS | SKIPPED | PASS | PASS | SKIPPED | SKIPPED | +---------------------+--------------------+-------------------+------------------+-------------------+-------------------------+----------------------+ | Fedora 40 (Clang) | PASS | SKIPPED | PASS | PASS | SKIPPED | SKIPPED | +---------------------+--------------------+-------------------+------------------+-------------------+-------------------------+----------------------+ | Fedora 40 | PASS | SKIPPED | PASS | PASS | SKIPPED | SKIPPED | +---------------------+--------------------+-------------------+------------------+-------------------+-------------------------+----------------------+ | Fedora 41 (Clang) | PASS | SKIPPED | PASS | PASS | SKIPPED | SKIPPED | +---------------------+--------------------+-------------------+------------------+-------------------+-------------------------+----------------------+ | Fedora 41 | PASS | SKIPPED | PASS | PASS | SKIPPED | SKIPPED | +---------------------+--------------------+-------------------+------------------+-------------------+-------------------------+----------------------+ | openSUSE Leap 15 | PASS | SKIPPED | SKIPPED | SKIPPED | SKIPPED | SKIPPED | +---------------------+--------------------+-------------------+------------------+-------------------+-------------------------+----------------------+ | RHEL8 | PASS | SKIPPED | PASS | SKIPPED | SKIPPED | SKIPPED | +---------------------+--------------------+-------------------+------------------+-------------------+-------------------------+----------------------+ | RHEL9 | PASS | SKIPPED | PASS | SKIPPED | SKIPPED | SKIPPED | +---------------------+--------------------+-------------------+------------------+-------------------+-------------------------+----------------------+ | Ubuntu 20.04 | PASS | SKIPPED | SKIPPED | SKIPPED | SKIPPED | SKIPPED | +---------------------+--------------------+-------------------+------------------+-------------------+-------------------------+----------------------+ | Ubuntu 22.04 | PASS | SKIPPED | PASS | PASS | SKIPPED | SKIPPED | +---------------------+--------------------+-------------------+------------------+-------------------+-------------------------+----------------------+ | Ubuntu 24.04 | PASS | SKIPPED | PASS | PASS | SKIPPED | SKIPPED | +---------------------+--------------------+-------------------+------------------+-------------------+-------------------------+----------------------+ | Alpine | PASS | SKIPPED | PASS | SKIPPED | SKIPPED | SKIPPED | +---------------------+--------------------+-------------------+------------------+-------------------+-------------------------+----------------------+ | Arch Linux | PASS | SKIPPED | PASS | SKIPPED | SKIPPED | SKIPPED | +---------------------+--------------------+-------------------+------------------+-------------------+-------------------------+----------------------+ | Windows Server 2022 | SKIPPED | PASS | SKIPPED | SKIPPED | PASS | PASS | +---------------------+--------------------+-------------------+------------------+-------------------+-------------------------+----------------------+ FreeBSD 13.4 Kernel: 13.4-RELEASE-p1 Compiler: clang 18.1.6 FreeBSD 14.2 Kernel: 14.2-RELEASE Compiler: clang 18.1.6 CentOS Stream 9 Kernel: Depends on container host Compiler: gcc 11.5.0 20240719 (Red Hat 11.5.0-2) Debian Bullseye Kernel: Depends on container host Compiler: gcc (Debian 10.2.1-6) 10.2.1 20210110 Debian 12 Kernel: Depends on container host Compiler: gcc (Debian 12.2.0-14) 12.2.0 Fedora 40 (Clang) Kernel: Depends on container host Compiler: clang 18.1.8 (Fedora 18.1.8-1.fc40) Fedora 40 Kernel: Depends on container host Compiler: gcc 14.2.1 20240912 (Red Hat 14.2.1-3) Fedora 41 (Clang) Kernel: Depends on container host Compiler: clang 19.1.5 (Fedora 19.1.5-1.fc41) Fedora 41 Kernel: Depends on container host Compiler: gcc 14.2.1 20240912 (Red Hat 14.2.1-3) openSUSE Leap 15 Kernel: Depends on container host Compiler: gcc (SUSE Linux) 7.5.0 RHEL8 Kernel: Depends on container host Compiler: gcc 8.5.0 20210514 (Red Hat 8.5.0-22) RHEL9 Kernel: Depends on container host Compiler: gcc 11.5.0 20240719 (Red Hat 11.5.0-2) Ubuntu 20.04 Kernel: Depends on container host Compiler: gcc (Ubuntu 9.4.0-1ubuntu1~20.04.2) 9.4.0 Ubuntu 22.04 Kernel: Depends on container host Compiler: gcc (Ubuntu 11.4.0-1ubuntu1~22.04) 11.4.0 Ubuntu 24.04 Kernel: Depends on container host Compiler: gcc (Ubuntu 13.3.0-6ubuntu2~24.04) 13.3.0 Alpine Kernel: Depends on container host Compiler: gcc (Alpine 14.2.0) 14.2.0 Arch Linux Kernel: Depends on container host Compiler: gcc 14.2.1 20240910 Windows Server 2022 Kernel: 10.0.20348.2031 Compiler: clang 15.0.7, gcc 14.1.0 (MinGW), and MSVC VS 19.39.33521 To view detailed results, visit: https://lab.dpdk.org/results/dashboard/tarballs/32463/ UNH-IOL DPDK Community Lab To manage your email subscriptions, visit: https://lab.dpdk.org/results/dashboard/preferences/subscriptions/