From mboxrd@z Thu Jan 1 00:00:00 1970 Return-Path: Received: from mails.dpdk.org (mails.dpdk.org [217.70.189.124]) by inbox.dpdk.org (Postfix) with ESMTP id 97D42461AB for ; Thu, 6 Feb 2025 13:18:59 +0100 (CET) Received: from mails.dpdk.org (localhost [127.0.0.1]) by mails.dpdk.org (Postfix) with ESMTP id 26822402CE; Thu, 6 Feb 2025 13:18:59 +0100 (CET) Received: from mail-pl1-f225.google.com (mail-pl1-f225.google.com [209.85.214.225]) by mails.dpdk.org (Postfix) with ESMTP id 514D94026C for ; Thu, 6 Feb 2025 13:18:57 +0100 (CET) Received: by mail-pl1-f225.google.com with SMTP id d9443c01a7336-21f0b5d6c6eso12280425ad.0 for ; Thu, 06 Feb 2025 04:18:57 -0800 (PST) DKIM-Signature: v=1; a=rsa-sha256; c=relaxed/relaxed; d=iol.unh.edu; s=unh-iol; t=1738844336; x=1739449136; darn=dpdk.org; h=references:in-reply-to:cc:to:from:subject:message-id:date:from:to :cc:subject:date:message-id:reply-to; bh=X5z/8IXsIz7/T8fRvGb+E3e0K2v0KAaqx/oxQ3e/+ko=; b=Siw6TiKB04EunBt6Vfb6B3DysR0kfn9YIzCDCj2TDA3qOt0nvDfdyQZRHsh5DOVThg a9dkPgXW19bvqEowViRz9d9IgMtMlTqEBcFl3A6kIzlsgO9bYj6tGXQ28X0fZyRpyZyE 6LfoWycO8awUqg+sisYIhpoYbEc+1vbJyqmU0= X-Google-DKIM-Signature: v=1; a=rsa-sha256; c=relaxed/relaxed; d=1e100.net; s=20230601; t=1738844336; x=1739449136; h=references:in-reply-to:cc:to:from:subject:message-id:date :x-gm-message-state:from:to:cc:subject:date:message-id:reply-to; bh=X5z/8IXsIz7/T8fRvGb+E3e0K2v0KAaqx/oxQ3e/+ko=; b=j3O8RtayqpUXp0sfEIB235R+Dh/Wrqv7X9aeDEALkStXJE6UUpJ6qkJGLY0OrwZCxY XZCwegryvpaMeugllPUcU+OJV53tq8mjaUiR9uYf0eXLfZC455boNZM64VeD00ZtNP7n Pi5jAHX8hwG4QadQvC4+iN4DvkvARY9Sv9sHOrNCGUaezJ/bXQHW2DctKmI7+6ZcOrVj MAQ1dSnQIQHMhOiPLOq8Hxfj/TQ5gYmXI1jaKyVxrElpylX8NcbXAmPck0siz8OUgutz Qe9jZiOASB2CFFcrlGAsbyO8oMR5maCAlG+YbBbK80GWuAEak9mVO7VGVXZO2woUPOSU i4dg== X-Gm-Message-State: AOJu0YySn9S6Tm17L+xT8GhONNkY+wZfDbKyPTCt39xugcemSQP1/CRF iAcx6SCgeUeaWa9zPSrPzn9ym5iIJd9RW8jF/VpUG67863pRt7rB9fugDmExybwlPcjajtNw3e4 kYyUjg8cW7M4C0Gho0ICgsH46aL8t+TkBCCSWk3/9 X-Gm-Gg: ASbGnct20keITvZXpzs6577r/hQEduTEEBizFvqH2IekB5nxXbl6qi6mX33fHm7K6pe DhAhTKQzFtWYeHyuD6woJr1Mjwq0Gm8EIHeqNW7OutpDfRIKb45QDyCcX3hcbQpO5/fhqDvuT/W 2ojLOD+sdhefBGNXxlM0r9DnP2dRRwazfgnKEwq+RlSvwI/LwZrIyEm/UfJKyqUgCvYhUcKmBlL Cz3FpX38lK0GX5jgjwlmCRkGYiVWG91+FFc9YFX9875gttZ9a/p2DUpa5yr3FdBzsiVCPKcncQ7 W/0gEMZnOnPZe89mVJ1kETzFVxvuOg== X-Google-Smtp-Source: AGHT+IE1eT4AspF/AW5LysQmnuS+MsjrisMm6Wf5mlFglVnzYop3P8BG3c0FYLTocbT4imbi0tD3tKkU/6sI X-Received: by 2002:a17:902:d492:b0:215:3205:58a6 with SMTP id d9443c01a7336-21f2f19a9a7mr54778665ad.12.1738844336286; Thu, 06 Feb 2025 04:18:56 -0800 (PST) Received: from postal.iol.unh.edu (postal.iol.unh.edu. [132.177.123.84]) by smtp-relay.gmail.com with ESMTPS id d9443c01a7336-21f3694df55sm366295ad.12.2025.02.06.04.18.56 (version=TLS1_2 cipher=ECDHE-ECDSA-AES128-GCM-SHA256 bits=128/128); Thu, 06 Feb 2025 04:18:56 -0800 (PST) X-Relaying-Domain: iol.unh.edu Date: Thu, 06 Feb 2025 04:18:56 -0800 (PST) Message-ID: <67a4a8b0.170a0220.8af54.2987SMTPIN_ADDED_MISSING@mx.google.com> Received: from [172.21.0.6] (unknown [172.18.0.240]) by postal.iol.unh.edu (Postfix) with ESMTP id 69A3C6052471; Thu, 6 Feb 2025 07:18:55 -0500 (EST) Subject: |SUCCESS| pw151013-151029 [PATCH] [v22,27/27] config: add -Wvla proj From: dpdklab@iol.unh.edu To: Test Report Cc: dpdk-test-reports@iol.unh.edu In-Reply-To: <1738805610-17507-28-git-send-email-andremue@linux.microsoft.com> References: <1738805610-17507-28-git-send-email-andremue@linux.microsoft.com> Content-Type: text/plain X-BeenThere: test-report@dpdk.org X-Mailman-Version: 2.1.29 Precedence: list List-Id: automatic DPDK test reports List-Unsubscribe: , List-Archive: List-Post: List-Help: List-Subscribe: , Errors-To: test-report-bounces@dpdk.org Test-Label: iol-compile-amd64-testing Test-Status: SUCCESS http://dpdk.org/patch/151029 _Testing PASS_ Submitter: Andre Muezerie Date: Thursday, February 06 2025 01:33:30 DPDK git baseline: Repo:dpdk Branch: master CommitID:32c18e7364e30a8e43cc7cc6709a7ce606fa285e 151013-151029 --> testing pass Upstream job id: Generic-DPDK-Compile-Meson#358394 Test environment and result as below: +---------------------+--------------------+-------------------+------------------+-------------------+-------------------------+----------------------+ | Environment | dpdk_meson_compile | dpdk_msvc_compile | dpdk_compile_ovs | dpdk_compile_spdk | dpdk_llvm_clang_compile | dpdk_mingw64_compile | +=====================+====================+===================+==================+===================+=========================+======================+ | FreeBSD 13.4 | PASS | SKIPPED | SKIPPED | SKIPPED | SKIPPED | SKIPPED | +---------------------+--------------------+-------------------+------------------+-------------------+-------------------------+----------------------+ | FreeBSD 14.2 | PASS | SKIPPED | SKIPPED | SKIPPED | SKIPPED | SKIPPED | +---------------------+--------------------+-------------------+------------------+-------------------+-------------------------+----------------------+ | CentOS Stream 9 | PASS | SKIPPED | PASS | PASS | SKIPPED | SKIPPED | +---------------------+--------------------+-------------------+------------------+-------------------+-------------------------+----------------------+ | Debian Bullseye | PASS | SKIPPED | PASS | PASS | SKIPPED | SKIPPED | +---------------------+--------------------+-------------------+------------------+-------------------+-------------------------+----------------------+ | Debian 12 | PASS | SKIPPED | PASS | PASS | SKIPPED | SKIPPED | +---------------------+--------------------+-------------------+------------------+-------------------+-------------------------+----------------------+ | Fedora 40 (Clang) | PASS | SKIPPED | PASS | PASS | SKIPPED | SKIPPED | +---------------------+--------------------+-------------------+------------------+-------------------+-------------------------+----------------------+ | Fedora 40 | PASS | SKIPPED | PASS | PASS | SKIPPED | SKIPPED | +---------------------+--------------------+-------------------+------------------+-------------------+-------------------------+----------------------+ | Fedora 41 | PASS | SKIPPED | PASS | PASS | SKIPPED | SKIPPED | +---------------------+--------------------+-------------------+------------------+-------------------+-------------------------+----------------------+ | openSUSE Leap 15 | PASS | SKIPPED | SKIPPED | SKIPPED | SKIPPED | SKIPPED | +---------------------+--------------------+-------------------+------------------+-------------------+-------------------------+----------------------+ | RHEL8 | PASS | SKIPPED | PASS | SKIPPED | SKIPPED | SKIPPED | +---------------------+--------------------+-------------------+------------------+-------------------+-------------------------+----------------------+ | RHEL9 | PASS | SKIPPED | PASS | SKIPPED | SKIPPED | SKIPPED | +---------------------+--------------------+-------------------+------------------+-------------------+-------------------------+----------------------+ | Ubuntu 20.04 | PASS | SKIPPED | SKIPPED | SKIPPED | SKIPPED | SKIPPED | +---------------------+--------------------+-------------------+------------------+-------------------+-------------------------+----------------------+ | Ubuntu 22.04 | PASS | SKIPPED | PASS | PASS | SKIPPED | SKIPPED | +---------------------+--------------------+-------------------+------------------+-------------------+-------------------------+----------------------+ | Ubuntu 24.04 | PASS | SKIPPED | PASS | PASS | SKIPPED | SKIPPED | +---------------------+--------------------+-------------------+------------------+-------------------+-------------------------+----------------------+ | Alpine | PASS | SKIPPED | PASS | SKIPPED | SKIPPED | SKIPPED | +---------------------+--------------------+-------------------+------------------+-------------------+-------------------------+----------------------+ | Fedora 41 (Clang) | PASS | SKIPPED | PASS | PASS | SKIPPED | SKIPPED | +---------------------+--------------------+-------------------+------------------+-------------------+-------------------------+----------------------+ | Windows Server 2022 | SKIPPED | PASS | SKIPPED | SKIPPED | PASS | PASS | +---------------------+--------------------+-------------------+------------------+-------------------+-------------------------+----------------------+ FreeBSD 13.4 Kernel: 13.4-RELEASE-p1 Compiler: clang 18.1.6 FreeBSD 14.2 Kernel: 14.2-RELEASE Compiler: clang 18.1.6 CentOS Stream 9 Kernel: Depends on container host Compiler: gcc 11.5.0 20240719 (Red Hat 11.5.0-2) Debian Bullseye Kernel: Depends on container host Compiler: gcc (Debian 10.2.1-6) 10.2.1 20210110 Debian 12 Kernel: Depends on container host Compiler: gcc (Debian 12.2.0-14) 12.2.0 Fedora 40 (Clang) Kernel: Depends on container host Compiler: clang 18.1.8 (Fedora 18.1.8-1.fc40) Fedora 40 Kernel: Depends on container host Compiler: gcc 14.2.1 20240912 (Red Hat 14.2.1-3) Fedora 41 Kernel: Depends on container host Compiler: gcc 14.2.1 20240912 (Red Hat 14.2.1-3) openSUSE Leap 15 Kernel: Depends on container host Compiler: gcc (SUSE Linux) 7.5.0 RHEL8 Kernel: Depends on container host Compiler: gcc 8.5.0 20210514 (Red Hat 8.5.0-22) RHEL9 Kernel: Depends on container host Compiler: gcc 11.5.0 20240719 (Red Hat 11.5.0-2) Ubuntu 20.04 Kernel: Depends on container host Compiler: gcc (Ubuntu 9.4.0-1ubuntu1~20.04.2) 9.4.0 Ubuntu 22.04 Kernel: Depends on container host Compiler: gcc (Ubuntu 11.4.0-1ubuntu1~22.04) 11.4.0 Ubuntu 24.04 Kernel: Depends on container host Compiler: gcc (Ubuntu 13.3.0-6ubuntu2~24.04) 13.3.0 Alpine Kernel: Depends on container host Compiler: gcc (Alpine 14.2.0) 14.2.0 Fedora 41 (Clang) Kernel: Depends on container host Compiler: clang 19.1.5 (Fedora 19.1.5-1.fc41) Windows Server 2022 Kernel: 10.0.20348.2031 Compiler: clang 15.0.7, gcc 14.1.0 (MinGW), and MSVC VS 19.39.33521 To view detailed results, visit: https://lab.dpdk.org/results/dashboard/patchsets/32507/ UNH-IOL DPDK Community Lab To manage your email subscriptions, visit: https://lab.dpdk.org/results/dashboard/preferences/subscriptions/