From mboxrd@z Thu Jan  1 00:00:00 1970
Return-Path: <test-report-bounces@dpdk.org>
Received: from mails.dpdk.org (mails.dpdk.org [217.70.189.124])
	by inbox.dpdk.org (Postfix) with ESMTP id ED3C7461AC
	for <public@inbox.dpdk.org>; Thu,  6 Feb 2025 14:23:36 +0100 (CET)
Received: from mails.dpdk.org (localhost [127.0.0.1])
	by mails.dpdk.org (Postfix) with ESMTP id BE3A14029A;
	Thu,  6 Feb 2025 14:23:36 +0100 (CET)
Received: from mail-qv1-f97.google.com (mail-qv1-f97.google.com
 [209.85.219.97]) by mails.dpdk.org (Postfix) with ESMTP id 90D1240289
 for <test-report@dpdk.org>; Thu,  6 Feb 2025 14:23:35 +0100 (CET)
Received: by mail-qv1-f97.google.com with SMTP id
 6a1803df08f44-6e435639b59so5996946d6.3
 for <test-report@dpdk.org>; Thu, 06 Feb 2025 05:23:35 -0800 (PST)
DKIM-Signature: v=1; a=rsa-sha256; c=relaxed/relaxed;
 d=iol.unh.edu; s=unh-iol; t=1738848215; x=1739453015; darn=dpdk.org;
 h=cc:to:from:subject:message-id:date:from:to:cc:subject:date
 :message-id:reply-to;
 bh=kELJceUh1XgYyF8ZWEjuch821Tjkq19DTxpIPUpCJQQ=;
 b=LKXjViBqA2ureSv+UImjvaNy/0R5OVuxgUXQ7K9VRD2cS2BweXTv+uC879cuikRXNA
 pS41V8lBpN0Ld/3BQzVE+IqWHc6tRIiCL3X98bixNSra9rigINSn6oUVCE+75NB6GHio
 g3ktAtrpTd1vZuxxbaH84fMTQIxH3QMT6dQOs=
X-Google-DKIM-Signature: v=1; a=rsa-sha256; c=relaxed/relaxed;
 d=1e100.net; s=20230601; t=1738848215; x=1739453015;
 h=cc:to:from:subject:message-id:date:x-gm-message-state:from:to:cc
 :subject:date:message-id:reply-to;
 bh=kELJceUh1XgYyF8ZWEjuch821Tjkq19DTxpIPUpCJQQ=;
 b=Nl/w3kuoTB9gaQoTLm8cn/D28kxpJ5e2C6A7odk252THgPbVTxNnfOwGweGOIGQOdM
 01XsTFLYFUxjHlYAJlQknCJjYeWTaFTyg8cGWS5QH3yoSKQdCvlMgDgGqY+kXShDzm5/
 O1/wAyC8serW2rfS74hoEAvSjJL7MgwwuXXJg+jYHEz4/D3bUMVvVph55ue58w65YSvD
 iy2xiVtMnY0wulsHsi/pGj7szDokgYLNZbt+Lj+qDDPLbdTN5bc+JPZkP3MpczMBvQKr
 Xz3ubYT2kIP5NZ5rLPBJqwPXiNWdp6Nrom0MmHgKwJ0vf2SKLDqxYsh2Tu4whsH/Mq4J
 3buA==
X-Gm-Message-State: AOJu0YwWrKqNP37zmXfZwmpz6XMb7agEsM0XCuWBOFQLiXn/SWQmgq0m
 Tg0uaiflzSsRwTU3QiUs2OTf+SXeWKy2E3dpdgYP2pwYlxx/oRFNkNjwa/Io2tOHsN1GJPj8mM3
 iDCV+iBmkn+YrPa7y9L4vIypiQ2rp01P4
X-Gm-Gg: ASbGncsWEJtHhTaI84slaEFzEaJ9NoMDgHqlBnBtxStKgOia9Q30Z0mxKxhzxX4fXeL
 BFdpWJ6m1m0YqSwJimrQ4c5NvXdFzvF2IVqcU0anNLxou434SUTwHKGf4mLdygip2TsY9Kf/i4U
 ZHnsWzNw8QT6B5tuVdXaVC6RPOHExz9R+QcVgGnQV50rgODB9gs5YV+GkJVrNG/lJUdTRVQB8Fs
 8D6kdhOjYhLQCmJW1xHfr2osKGvJ2Cuk95F4caTCEQX4HnyQ+ME62kAs9+lK9YFjuHEr5wc9T9+
 d7XfA3l6QmjVPbqw1ps399FjbWlAVQ==
X-Google-Smtp-Source: AGHT+IFTdUGqnwSdgyld5rKHs7sYaEafENaeW0cFBjNSeYXT6E7/QMA9w/87jZm5rtEasEN7WRFJzD44sWWR
X-Received: by 2002:a05:6214:19e8:b0:6d8:9d28:ff07 with SMTP id
 6a1803df08f44-6e42fcc799emr83910556d6.45.1738848214894; 
 Thu, 06 Feb 2025 05:23:34 -0800 (PST)
Received: from postal.iol.unh.edu (postal.iol.unh.edu. [132.177.123.84])
 by smtp-relay.gmail.com with ESMTPS id
 6a1803df08f44-6e43baedcd1sm723286d6.44.2025.02.06.05.23.34
 (version=TLS1_2 cipher=ECDHE-ECDSA-AES128-GCM-SHA256 bits=128/128);
 Thu, 06 Feb 2025 05:23:34 -0800 (PST)
X-Relaying-Domain: iol.unh.edu
Date: Thu, 06 Feb 2025 05:23:34 -0800 (PST)
Message-ID: <67a4b7d6.d40a0220.10d4e9.476cSMTPIN_ADDED_MISSING@mx.google.com>
Received: from [172.21.0.5] (unknown [172.18.0.240])
 by postal.iol.unh.edu (Postfix) with ESMTP id 912ED6052471;
 Thu,  6 Feb 2025 08:23:34 -0500 (EST)
Subject: |SUCCESS| [GIT MASTER] c66daa12e76d7b4912cfb7109a761856a7a873ab
From: dpdklab@iol.unh.edu
To: Test Report <test-report@dpdk.org>
Cc: dpdk-test-reports@iol.unh.edu, Xueming Li <xuemingl@nvidia.com>,
 Christian Ehrhardt <christian.ehrhardt@canonical.com>,
 Kevin Traynor <ktraynor@redhat.com>, Luca Boccassi <bluca@debian.org>
Content-Type: text/plain
X-BeenThere: test-report@dpdk.org
X-Mailman-Version: 2.1.29
Precedence: list
List-Id: automatic DPDK test reports <test-report.dpdk.org>
List-Unsubscribe: <https://mails.dpdk.org/options/test-report>,
 <mailto:test-report-request@dpdk.org?subject=unsubscribe>
List-Archive: <http://mails.dpdk.org/archives/test-report/>
List-Post: <mailto:test-report@dpdk.org>
List-Help: <mailto:test-report-request@dpdk.org?subject=help>
List-Subscribe: <https://mails.dpdk.org/listinfo/test-report>,
 <mailto:test-report-request@dpdk.org?subject=subscribe>
Errors-To: test-report-bounces@dpdk.org

_Testing PASS_

Branch: tags/v23.11

c66daa12e76d7b4912cfb7109a761856a7a873ab --> testing pass

Upstream job id: Generic-DPDK-Compile-ABI#115067

Test environment and result as below:

+-------------------+----------+
|    Environment    | abi_test |
+===================+==========+
| CentOS Stream 9   | PASS     |
+-------------------+----------+
| Debian Bullseye   | PASS     |
+-------------------+----------+
| Debian 12         | PASS     |
+-------------------+----------+
| Fedora 40 (Clang) | PASS     |
+-------------------+----------+
| Fedora 41 (Clang) | PASS     |
+-------------------+----------+
| Fedora 40         | PASS     |
+-------------------+----------+
| Ubuntu 22.04      | PASS     |
+-------------------+----------+
| RHEL9             | PASS     |
+-------------------+----------+
| Fedora 41         | PASS     |
+-------------------+----------+
| openSUSE Leap 15  | PASS     |
+-------------------+----------+
| RHEL8             | PASS     |
+-------------------+----------+
| Ubuntu 24.04      | PASS     |
+-------------------+----------+


CentOS Stream 9
	Kernel: Depends on container host
	Compiler: gcc 11.5.0 20240719 (Red Hat 11.5.0-2)

Debian Bullseye
	Kernel: Depends on container host
	Compiler: gcc (Debian 10.2.1-6) 10.2.1 20210110

Debian 12
	Kernel: Depends on container host
	Compiler: gcc (Debian 12.2.0-14) 12.2.0

Fedora 40 (Clang)
	Kernel: Depends on container host
	Compiler: clang 18.1.8 (Fedora 18.1.8-1.fc40)

Fedora 41 (Clang)
	Kernel: Depends on container host
	Compiler: clang 19.1.5 (Fedora 19.1.5-1.fc41)

Fedora 40
	Kernel: Depends on container host
	Compiler: gcc 14.2.1 20240912 (Red Hat 14.2.1-3)

Ubuntu 22.04
	Kernel: Depends on container host
	Compiler: gcc (Ubuntu 11.4.0-1ubuntu1~22.04) 11.4.0

RHEL9
	Kernel: Depends on container host
	Compiler: gcc 11.5.0 20240719 (Red Hat 11.5.0-2)

Fedora 41
	Kernel: Depends on container host
	Compiler: gcc 14.2.1 20240912 (Red Hat 14.2.1-3)

openSUSE Leap 15
	Kernel: Depends on container host
	Compiler: gcc (SUSE Linux) 7.5.0

RHEL8
	Kernel: Depends on container host
	Compiler: gcc 8.5.0 20210514 (Red Hat 8.5.0-22)

Ubuntu 24.04
	Kernel: Depends on container host
	Compiler: gcc (Ubuntu 13.3.0-6ubuntu2~24.04) 13.3.0

To view detailed results, visit:
https://lab.dpdk.org/results/dashboard/tarballs/32467/

UNH-IOL DPDK Community Lab

To manage your email subscriptions, visit: 
https://lab.dpdk.org/results/dashboard/preferences/subscriptions/