From mboxrd@z Thu Jan  1 00:00:00 1970
Return-Path: <test-report-bounces@dpdk.org>
Received: from mails.dpdk.org (mails.dpdk.org [217.70.189.124])
	by inbox.dpdk.org (Postfix) with ESMTP id B16B4461AC
	for <public@inbox.dpdk.org>; Thu,  6 Feb 2025 14:25:10 +0100 (CET)
Received: from mails.dpdk.org (localhost [127.0.0.1])
	by mails.dpdk.org (Postfix) with ESMTP id A95C64029A;
	Thu,  6 Feb 2025 14:25:10 +0100 (CET)
Received: from mail-yw1-f228.google.com (mail-yw1-f228.google.com
 [209.85.128.228])
 by mails.dpdk.org (Postfix) with ESMTP id 7825F40289
 for <test-report@dpdk.org>; Thu,  6 Feb 2025 14:25:09 +0100 (CET)
Received: by mail-yw1-f228.google.com with SMTP id
 00721157ae682-6f678a27787so8689607b3.1
 for <test-report@dpdk.org>; Thu, 06 Feb 2025 05:25:09 -0800 (PST)
DKIM-Signature: v=1; a=rsa-sha256; c=relaxed/relaxed;
 d=iol.unh.edu; s=unh-iol; t=1738848309; x=1739453109; darn=dpdk.org;
 h=references:in-reply-to:cc:to:from:subject:message-id:date:from:to
 :cc:subject:date:message-id:reply-to;
 bh=FFB5q0Gjx/zf+OGvCcYTfDQGDzLHxLHueDfI2+oECxQ=;
 b=anMaLavWg0vO9cbWZZRXiytIx7uPHKKK7Ufg3hs6HIio8wAEhiYDKVjTB9uV0Fc8xJ
 sCkfRjCgXdhB+yxySQ2vJrdsjA+uVvYPXg/lKAeliOVlXoNwn9FF0IVHwFG2vjJE4YAY
 VXrTzpddJrnW0MH11QNAQJCNXEUXrHdDxeGsE=
X-Google-DKIM-Signature: v=1; a=rsa-sha256; c=relaxed/relaxed;
 d=1e100.net; s=20230601; t=1738848309; x=1739453109;
 h=references:in-reply-to:cc:to:from:subject:message-id:date
 :x-gm-message-state:from:to:cc:subject:date:message-id:reply-to;
 bh=FFB5q0Gjx/zf+OGvCcYTfDQGDzLHxLHueDfI2+oECxQ=;
 b=vfqlNPWCfHBXRU1QuDFFox7gQd0sP9J66T3si1wPPF6hc4V1J81iSUQwEwaz1z17jQ
 MZL7J3XknlNHcu7CUPFqnGWXPUTV5PvnXk38WCuLKfAxg8BPWfRxUnUQzjK3SdBgkWRX
 50BwAahr4mX+G7rM8obVHmBZ9tiyvrr3T6KDDCbLiemOzN3AOSsWZhFgf5rmwglrfZjr
 RmYPTZm1VLwsSo7NXqJ4MhVtJc+/Jmh3s3MOV/Wir2cnsQZli5WzSVlZDjs2tUCcFxy1
 F3khaMeSpsWWG9kWOyepuF637kHKpiPAsXA+XPeixB9mDK0bmFehB+rWj8NLW5uRM7yO
 Qi1g==
X-Gm-Message-State: AOJu0YxFvEKPtTT444u56u+JGF9EyknRyv4ITGRpzYmrT7vfs4zHEumt
 cSNVOzE9rdemI5YwQo8gVeV9Kt1dmrIyCjbQPaw/lOkTOi44WAO8CB+n78NtAXLR0Cwda8bEFkQ
 WhHCuMH7/33HAb2lFLL2bV4smTCfFhjKyvbsI9zlJv3FBdI47W8+u4vWV
X-Gm-Gg: ASbGncsBeNMqu9BSaE9GxUBw/J3nFcFMlBbxVRHIAZDOrcJXwh1Wh3EYt4Om4ewKbIP
 Wmb8rtO3pTltMVksxnVdHXbsvoelkgGEQC4URyOhykbX/JA+gh7iCH26W71pySF/Qk29kMthJBm
 uCRZRhRtdBcfWQ65rA5E0PLOM8EnGbtruwFCf2zUxJfAGPDKTUnplFhAB4ig86ffLTv/JhD94bb
 yDu1Gllc+jERPF1EmEZq/RAtWCM6g1xH0c4zXZTPKm0Y9lbBzRVrJcUGli2Lprrzefhxck5p3NF
 ZQPFKyci7VKRSMBjjVfXm2IBudfr0nCUWMuqSTib8Q==
X-Google-Smtp-Source: AGHT+IEZnN/6AbXRZGX2ruoFsX0X5J8TLEf1N2yAVpTG8UkGMzsvzqV8i1yMDSe1FBuLlzu469BFPOa0UqFz
X-Received: by 2002:a05:690c:6304:b0:6ef:90a7:16ec with SMTP id
 00721157ae682-6f989f8884bmr53705507b3.28.1738848308846; 
 Thu, 06 Feb 2025 05:25:08 -0800 (PST)
Received: from postal.iol.unh.edu (postal.iol.unh.edu.
 [2606:4100:3880:1234::84]) by smtp-relay.gmail.com with ESMTPS id
 00721157ae682-6f99fd5d2a2sm38267b3.27.2025.02.06.05.25.08
 (version=TLS1_2 cipher=ECDHE-ECDSA-AES128-GCM-SHA256 bits=128/128);
 Thu, 06 Feb 2025 05:25:08 -0800 (PST)
X-Relaying-Domain: iol.unh.edu
Date: Thu, 06 Feb 2025 05:25:08 -0800 (PST)
Message-ID: <67a4b834.050a0220.91e17.035dSMTPIN_ADDED_MISSING@mx.google.com>
Received: from [172.21.0.5] (unknown [172.18.0.240])
 by postal.iol.unh.edu (Postfix) with ESMTP id 552E36052471;
 Thu,  6 Feb 2025 08:25:08 -0500 (EST)
Subject: |SUCCESS| pw151008-151011 [PATCH] [v5,4/4] lib: change find device a
From: dpdklab@iol.unh.edu
To: Test Report <test-report@dpdk.org>
Cc: dpdk-test-reports@iol.unh.edu
In-Reply-To: <20250206000838.23428-5-shperetz@nvidia.com>
References: <20250206000838.23428-5-shperetz@nvidia.com>
Content-Type: text/plain
X-BeenThere: test-report@dpdk.org
X-Mailman-Version: 2.1.29
Precedence: list
List-Id: automatic DPDK test reports <test-report.dpdk.org>
List-Unsubscribe: <https://mails.dpdk.org/options/test-report>,
 <mailto:test-report-request@dpdk.org?subject=unsubscribe>
List-Archive: <http://mails.dpdk.org/archives/test-report/>
List-Post: <mailto:test-report@dpdk.org>
List-Help: <mailto:test-report-request@dpdk.org?subject=help>
List-Subscribe: <https://mails.dpdk.org/listinfo/test-report>,
 <mailto:test-report-request@dpdk.org?subject=subscribe>
Errors-To: test-report-bounces@dpdk.org

Test-Label: iol-unit-arm64-testing
Test-Status: SUCCESS
http://dpdk.org/patch/151011

_Testing PASS_

Submitter: Shani Peretz <shperetz@nvidia.com>
Date: Thursday, February 06 2025 00:08:38 
DPDK git baseline: Repo:dpdk
  Branch: master
  CommitID:32c18e7364e30a8e43cc7cc6709a7ce606fa285e

151008-151011 --> testing pass

Upstream job id: Generic-Unit-Test-DPDK#312098

Test environment and result as below:

+-----------------------------+----------------+--------------+---------------------------+------------------------------+
|         Environment         | dpdk_unit_test | lpm_autotest | cryptodev_sw_zuc_autotest | cryptodev_sw_snow3g_autotest |
+=============================+================+==============+===========================+==============================+
| Debian 12 (arm)             | PASS           | SKIPPED      | PASS                      | PASS                         |
+-----------------------------+----------------+--------------+---------------------------+------------------------------+
| CentOS Stream 9 (ARM)       | PASS           | SKIPPED      | SKIPPED                   | SKIPPED                      |
+-----------------------------+----------------+--------------+---------------------------+------------------------------+
| Debian 11 (Buster) (ARM)    | PASS           | SKIPPED      | SKIPPED                   | SKIPPED                      |
+-----------------------------+----------------+--------------+---------------------------+------------------------------+
| Fedora 40 (ARM)             | PASS           | SKIPPED      | SKIPPED                   | SKIPPED                      |
+-----------------------------+----------------+--------------+---------------------------+------------------------------+
| Fedora 41 (ARM)             | PASS           | SKIPPED      | SKIPPED                   | SKIPPED                      |
+-----------------------------+----------------+--------------+---------------------------+------------------------------+
| Fedora 40 (ARM Clang)       | PASS           | SKIPPED      | SKIPPED                   | SKIPPED                      |
+-----------------------------+----------------+--------------+---------------------------+------------------------------+
| 32-bit Ubuntu 22.04.4 (ARM) | PASS           | SKIPPED      | SKIPPED                   | SKIPPED                      |
+-----------------------------+----------------+--------------+---------------------------+------------------------------+
| Fedora 41 (ARM Clang)       | PASS           | SKIPPED      | SKIPPED                   | SKIPPED                      |
+-----------------------------+----------------+--------------+---------------------------+------------------------------+
| Ubuntu 22.04 (ARM)          | PASS           | SKIPPED      | SKIPPED                   | SKIPPED                      |
+-----------------------------+----------------+--------------+---------------------------+------------------------------+
| RHEL9 (ARM)                 | PASS           | SKIPPED      | SKIPPED                   | SKIPPED                      |
+-----------------------------+----------------+--------------+---------------------------+------------------------------+
| Ubuntu 20.04 (ARM)          | PASS           | SKIPPED      | SKIPPED                   | SKIPPED                      |
+-----------------------------+----------------+--------------+---------------------------+------------------------------+
| Ubuntu 24.04 (ARM)          | PASS           | SKIPPED      | SKIPPED                   | SKIPPED                      |
+-----------------------------+----------------+--------------+---------------------------+------------------------------+
| Ubuntu 20.04 ARM SVE        | SKIPPED        | PASS         | SKIPPED                   | SKIPPED                      |
+-----------------------------+----------------+--------------+---------------------------+------------------------------+


Debian 12 (arm)
	Kernel: Depends on container host
	Compiler: gcc (Debian 12.2.0-14) 12.2.0

CentOS Stream 9 (ARM)
	Kernel: Depends on container host
	Compiler: gcc 11.5.0 20240719 (Red Hat 11.5.0-2)

Debian 11 (Buster) (ARM)
	Kernel: Depends on container host
	Compiler: gcc (Debian 10.2.1-6) 10.2.1 20210110

Fedora 40 (ARM)
	Kernel: Depends on container host
	Compiler: gcc 14.2.1 20240912 (Red Hat 14.2.1-3)

Fedora 41 (ARM)
	Kernel: Depends on container host
	Compiler: gcc 14.2.1 20240912 (Red Hat 14.2.1-3)

Fedora 40 (ARM Clang)
	Kernel: Depends on container host
	Compiler: clang 18.1.8 (Fedora 18.1.8-1.fc40)

32-bit Ubuntu 22.04.4 (ARM)
	Kernel: 5.15.83+ aarch64
	Compiler: gcc (Ubuntu 11.4.0-1ubuntu1~22.04) 11.4.0

Fedora 41 (ARM Clang)
	Kernel: Depends on container host
	Compiler: clang 19.1.5 (Fedora 19.1.5-1.fc41)

Ubuntu 22.04 (ARM)
	Kernel: Depends on container host
	Compiler: gcc (Ubuntu 11.4.0-1ubuntu1~22.04) 11.4.0

RHEL9 (ARM)
	Kernel: Depends on container host
	Compiler: gcc 11.5.0 20240719 (Red Hat 11.5.0-2)

Ubuntu 20.04 (ARM)
	Kernel: Depends on container host
	Compiler: gcc (Ubuntu 9.4.0-1ubuntu1~20.04.2) 9.4.0

Ubuntu 24.04 (ARM)
	Kernel: Depends on container host
	Compiler: gcc (Ubuntu 13.3.0-6ubuntu2~24.04) 13.3.0

Ubuntu 20.04 ARM SVE
	Kernel: Depends on container host
	Compiler: gcc (Ubuntu 10.5.0-1ubuntu1~20.04) 10.5.0

To view detailed results, visit:
https://lab.dpdk.org/results/dashboard/patchsets/32506/

UNH-IOL DPDK Community Lab

To manage your email subscriptions, visit: 
https://lab.dpdk.org/results/dashboard/preferences/subscriptions/