From mboxrd@z Thu Jan 1 00:00:00 1970 Return-Path: Received: from mails.dpdk.org (mails.dpdk.org [217.70.189.124]) by inbox.dpdk.org (Postfix) with ESMTP id CB12E461AC for ; Thu, 6 Feb 2025 14:46:22 +0100 (CET) Received: from mails.dpdk.org (localhost [127.0.0.1]) by mails.dpdk.org (Postfix) with ESMTP id A07254029A; Thu, 6 Feb 2025 14:46:22 +0100 (CET) Received: from mail-yb1-f227.google.com (mail-yb1-f227.google.com [209.85.219.227]) by mails.dpdk.org (Postfix) with ESMTP id A718E40289 for ; Thu, 6 Feb 2025 14:46:21 +0100 (CET) Received: by mail-yb1-f227.google.com with SMTP id 3f1490d57ef6-e46c6547266so699628276.3 for ; Thu, 06 Feb 2025 05:46:21 -0800 (PST) DKIM-Signature: v=1; a=rsa-sha256; c=relaxed/relaxed; d=iol.unh.edu; s=unh-iol; t=1738849581; x=1739454381; darn=dpdk.org; h=cc:to:from:subject:message-id:date:from:to:cc:subject:date :message-id:reply-to; bh=f0/1lSIuwkV2woKmRI2SvNqY1HultQKLj5mh62v1np4=; b=hYWV+WKJtdyU7jhgL1f870v/h70c14kEfS4Xf+gagstTiFMrvhOvOjXsk4Vht1V2Xn roTG8duyIxwsQF6FeJBHVb4kOVxMuFnPWGR5zqUDQh+5b6/5ajardUAkbiBlQ1/2HGOh mLCRdJyx63gGSQBC6K4w7CW4TS/Uhjhr5ieWg= X-Google-DKIM-Signature: v=1; a=rsa-sha256; c=relaxed/relaxed; d=1e100.net; s=20230601; t=1738849581; x=1739454381; h=cc:to:from:subject:message-id:date:x-gm-message-state:from:to:cc :subject:date:message-id:reply-to; bh=f0/1lSIuwkV2woKmRI2SvNqY1HultQKLj5mh62v1np4=; b=J9LyAWTN8oGRxsT1yLcyZlyhSbwXMZfvgUw0MNyyAXPKoMlXJ8laosczAexQyIjVt8 hFA8cLccM13/gmROsVaKGv016nuKfrexT5uttTKeXDiqQl7imtXJLTIBJNDA9xmShEsD Yaxs04gRcOozpU4CaaNDUmncjUfrN8PljUiin4p3Gh1eksZ9xuUW652ljwcEwIt//USb PkIXpA0bTy1lC69s204N/Cl/1K8LoymRsp0fS4d06EFGIUjiFjNu8gK9UExI8noktuIF I62unzYq1GE9aBRgTPjaTinDOpokdGdZ56lHBLFlNp6FpZ2yrAsCg91jMD+uHraeTMGB UYsA== X-Gm-Message-State: AOJu0Yw6YHR24QYO9j6Btasb8QmYG5gA6HODLaGbkVGfrLkzfGqND3Pn /XULqRWQzORNfDpCWAXBDfYruCDjRAbyNywwkvQTb+AYKcuOxwGm0EgZPfSLn4lbQ5rI/6R8dvW XpDoG3bNkTkEn1Fb4lHewPrYIY96sqgCz X-Gm-Gg: ASbGncuk9hcoTSgBYkAOqoLl0+ol0AMxhN0QsXNo9Vv2HYsDb8/6K7GWVXJf1MPLTIu +NgcmXO8YJIVYw0IVlV1St+5fEW/FdrbZAZwa5q8xWY6fxlMV/R+8kODnD9JdPIyZDJreFoevPq Rq+3fj1ZtZXrFyqijTGKymuwp/632BuwoiGzxWPPnEFgIdqFArqFhczftbfg1Sl08qcs2CJ0hqc RVfx/B2lybfE5TRVx6bvS6wUzngrLzyoDpig2sv04volwv224fBATwR9IeczAoqbAjRl+Etvr89 EUzJ1MkSKO3a07b8RdUGfSa6jTwHGA== X-Google-Smtp-Source: AGHT+IGg6dxBC+GhsEZd7WI2Zp8KoG1Jt3aphOwghG4xr2UsWc8EfOgpZupccKLPNoAK8Up08l/VAoMn6msR X-Received: by 2002:a05:6902:18c1:b0:e5b:42c7:8f2b with SMTP id 3f1490d57ef6-e5b42c7919dmr354206276.2.1738849580892; Thu, 06 Feb 2025 05:46:20 -0800 (PST) Received: from postal.iol.unh.edu (postal.iol.unh.edu. [132.177.123.84]) by smtp-relay.gmail.com with ESMTPS id 3f1490d57ef6-e5b3a22294bsm65756276.13.2025.02.06.05.46.20 (version=TLS1_2 cipher=ECDHE-ECDSA-AES128-GCM-SHA256 bits=128/128); Thu, 06 Feb 2025 05:46:20 -0800 (PST) X-Relaying-Domain: iol.unh.edu Date: Thu, 06 Feb 2025 05:46:20 -0800 (PST) Message-ID: <67a4bd2c.250a0220.227324.42c7SMTPIN_ADDED_MISSING@mx.google.com> Received: from [172.21.0.5] (unknown [172.18.0.240]) by postal.iol.unh.edu (Postfix) with ESMTP id 3246F6052471; Thu, 6 Feb 2025 08:46:20 -0500 (EST) Subject: |SUCCESS| [GIT MASTER] 7ce7d3341d7e21c2a81f2fea8e451681d7306d77 From: dpdklab@iol.unh.edu To: Test Report Cc: dpdk-test-reports@iol.unh.edu, Xueming Li , Christian Ehrhardt , Kevin Traynor , Luca Boccassi Content-Type: text/plain X-BeenThere: test-report@dpdk.org X-Mailman-Version: 2.1.29 Precedence: list List-Id: automatic DPDK test reports List-Unsubscribe: , List-Archive: List-Post: List-Help: List-Subscribe: , Errors-To: test-report-bounces@dpdk.org _Testing PASS_ Branch: tags/v22.11 7ce7d3341d7e21c2a81f2fea8e451681d7306d77 --> testing pass Upstream job id: Generic-DPDK-Compile-ABI#115079 Test environment and result as below: +-------------------+----------+ | Environment | abi_test | +===================+==========+ | CentOS Stream 9 | PASS | +-------------------+----------+ | Debian Bullseye | PASS | +-------------------+----------+ | Debian 12 | PASS | +-------------------+----------+ | Fedora 40 (Clang) | PASS | +-------------------+----------+ | Fedora 40 | PASS | +-------------------+----------+ | Fedora 41 (Clang) | PASS | +-------------------+----------+ | Fedora 41 | PASS | +-------------------+----------+ | RHEL8 | PASS | +-------------------+----------+ | Ubuntu 22.04 | PASS | +-------------------+----------+ | openSUSE Leap 15 | PASS | +-------------------+----------+ | Ubuntu 24.04 | PASS | +-------------------+----------+ | RHEL9 | PASS | +-------------------+----------+ CentOS Stream 9 Kernel: Depends on container host Compiler: gcc 11.5.0 20240719 (Red Hat 11.5.0-2) Debian Bullseye Kernel: Depends on container host Compiler: gcc (Debian 10.2.1-6) 10.2.1 20210110 Debian 12 Kernel: Depends on container host Compiler: gcc (Debian 12.2.0-14) 12.2.0 Fedora 40 (Clang) Kernel: Depends on container host Compiler: clang 18.1.8 (Fedora 18.1.8-1.fc40) Fedora 40 Kernel: Depends on container host Compiler: gcc 14.2.1 20240912 (Red Hat 14.2.1-3) Fedora 41 (Clang) Kernel: Depends on container host Compiler: clang 19.1.5 (Fedora 19.1.5-1.fc41) Fedora 41 Kernel: Depends on container host Compiler: gcc 14.2.1 20240912 (Red Hat 14.2.1-3) RHEL8 Kernel: Depends on container host Compiler: gcc 8.5.0 20210514 (Red Hat 8.5.0-22) Ubuntu 22.04 Kernel: Depends on container host Compiler: gcc (Ubuntu 11.4.0-1ubuntu1~22.04) 11.4.0 openSUSE Leap 15 Kernel: Depends on container host Compiler: gcc (SUSE Linux) 7.5.0 Ubuntu 24.04 Kernel: Depends on container host Compiler: gcc (Ubuntu 13.3.0-6ubuntu2~24.04) 13.3.0 RHEL9 Kernel: Depends on container host Compiler: gcc 11.5.0 20240719 (Red Hat 11.5.0-2) To view detailed results, visit: https://lab.dpdk.org/results/dashboard/tarballs/32468/ UNH-IOL DPDK Community Lab To manage your email subscriptions, visit: https://lab.dpdk.org/results/dashboard/preferences/subscriptions/