From mboxrd@z Thu Jan 1 00:00:00 1970 Return-Path: Received: from mails.dpdk.org (mails.dpdk.org [217.70.189.124]) by inbox.dpdk.org (Postfix) with ESMTP id 05602461AC for ; Thu, 6 Feb 2025 14:48:07 +0100 (CET) Received: from mails.dpdk.org (localhost [127.0.0.1]) by mails.dpdk.org (Postfix) with ESMTP id D38974029A; Thu, 6 Feb 2025 14:48:07 +0100 (CET) Received: from mail-yb1-f226.google.com (mail-yb1-f226.google.com [209.85.219.226]) by mails.dpdk.org (Postfix) with ESMTP id A70DF40289 for ; Thu, 6 Feb 2025 14:48:06 +0100 (CET) Received: by mail-yb1-f226.google.com with SMTP id 3f1490d57ef6-e3983426f80so722385276.1 for ; Thu, 06 Feb 2025 05:48:06 -0800 (PST) DKIM-Signature: v=1; a=rsa-sha256; c=relaxed/relaxed; d=iol.unh.edu; s=unh-iol; t=1738849686; x=1739454486; darn=dpdk.org; h=references:in-reply-to:cc:to:from:subject:message-id:date:from:to :cc:subject:date:message-id:reply-to; bh=KAcZcOEEXh4XjxH0rkuvg8LVMXmUTMXXe7vsyZjbOKc=; b=Pbjeq8UXsBqn2Y8pjlv+SzfbBWvO0LyhLkoTqOiN7xs+67tH8orpcmmnBb1d2JOI4w uxRn056oPs6a88ubEcdZqb6p/26dWFRcEzt/cjmNLl0Og3/onuXzunuGIIc4rG66jub1 Dw9/R4n/OyqrC+xQXzGOJt5W/NHULj66B+yaA= X-Google-DKIM-Signature: v=1; a=rsa-sha256; c=relaxed/relaxed; d=1e100.net; s=20230601; t=1738849686; x=1739454486; h=references:in-reply-to:cc:to:from:subject:message-id:date :x-gm-message-state:from:to:cc:subject:date:message-id:reply-to; bh=KAcZcOEEXh4XjxH0rkuvg8LVMXmUTMXXe7vsyZjbOKc=; b=BWRf4BEau2ZOLxGc5PYRy1KlXT8y/YP17JT81SBCq+oVU+7B7nX71/plde9Sd6IQs6 psRM5cqbvrC3sLIay7NpnjOffGzS3XOs80mKKf67bHdBCgbL4YzIlZjXWOoK7yIw1wFU xXCF+U4tdj9p9/hHJ6XfE7K2t6J6/wEFYrYbpsKFMcEL/ENTzrs68A54i40nvtZV1uTL U8EHQjYCnBIw9TV/bxZ4WRWWmfghASbp7dSbEffrzWOvTCnDkIhOIL0Tc6O6EyS92Gdz ycBBCaXKbUiRRJeLYGuBqYcUl16v/wyWKr3gC5M+orO+01rnjVP2+H0Ku4A/u6evyFKM 6A1g== X-Gm-Message-State: AOJu0YxJ8FT7ciTzdUJ4XQHjoDO3sKuSKjZoIV9eFqGz8SoiKa3VpIyn EdhVjQd/qGft2ntaOiEHGfRAzjy+WK8uJvdywUIp0lq6SigthVNYT8PcaVWwQq/6fes3nbV3Ell gMdcm2wS5WgoRWd67IVdm6ZgQqQv0Wl/qD4cAKYDlY3bRqIWmX6HLTDwp X-Gm-Gg: ASbGnctXw7Wrb6IAIfW1sjQxpdgM0mSi2UliP8CPP1FstlG36h7EBYzbMHj8JceMwcg YCaN4KOEa8x1mj57AxbMUzZlkMAoypLRIdt7ZYu3oF7mgBHgshMMlGvQFI0eRw219jsQ8KVED+C TGVioaBldltykmgjXgLPE1R5NvgmKb8SYebr1smo3Na6ZBOp7FlyvcOH66GqazL8P5A2Lf0odAT KQuKfB/SIRle5voXM6iHgKqdqvj7Af5BaDp2awZd1UzeugYmT2zDF7psAmqcVEHsjoMuqb+4x4S E2pedE4EU2dA8IxlYUX8xLfOh67hUTRg2pVn/W7IGQ== X-Google-Smtp-Source: AGHT+IGbjH3ZICuWfSn835Rt24LqOF47KFNvn78dEiZexP4PFOy7yC2m6ELwe/+m0YbwPOp3g9YB98dEtuIw X-Received: by 2002:a05:6902:161b:b0:e5a:d740:6ec4 with SMTP id 3f1490d57ef6-e5b25c170d1mr5031769276.47.1738849685958; Thu, 06 Feb 2025 05:48:05 -0800 (PST) Received: from postal.iol.unh.edu (postal.iol.unh.edu. [2606:4100:3880:1234::84]) by smtp-relay.gmail.com with ESMTPS id 3f1490d57ef6-e5b42316cf8sm18904276.14.2025.02.06.05.48.05 (version=TLS1_2 cipher=ECDHE-ECDSA-AES128-GCM-SHA256 bits=128/128); Thu, 06 Feb 2025 05:48:05 -0800 (PST) X-Relaying-Domain: iol.unh.edu Date: Thu, 06 Feb 2025 05:48:05 -0800 (PST) Message-ID: <67a4bd95.250a0220.2e471d.104fSMTPIN_ADDED_MISSING@mx.google.com> Received: from [172.21.0.5] (unknown [172.18.0.240]) by postal.iol.unh.edu (Postfix) with ESMTP id 981596052471; Thu, 6 Feb 2025 08:48:05 -0500 (EST) Subject: |SUCCESS| pw151008-151011 [PATCH] [v5,4/4] lib: change find device a From: dpdklab@iol.unh.edu To: Test Report Cc: dpdk-test-reports@iol.unh.edu In-Reply-To: <20250206000838.23428-5-shperetz@nvidia.com> References: <20250206000838.23428-5-shperetz@nvidia.com> Content-Type: text/plain X-BeenThere: test-report@dpdk.org X-Mailman-Version: 2.1.29 Precedence: list List-Id: automatic DPDK test reports List-Unsubscribe: , List-Archive: List-Post: List-Help: List-Subscribe: , Errors-To: test-report-bounces@dpdk.org Test-Label: iol-compile-arm64-testing Test-Status: SUCCESS http://dpdk.org/patch/151011 _Testing PASS_ Submitter: Shani Peretz Date: Thursday, February 06 2025 00:08:38 DPDK git baseline: Repo:dpdk Branch: master CommitID:32c18e7364e30a8e43cc7cc6709a7ce606fa285e 151008-151011 --> testing pass Upstream job id: Generic-DPDK-Compile-Meson#358344 Test environment and result as below: +----------------------------------------+--------------------+ | Environment | dpdk_meson_compile | +========================================+====================+ | RHEL9 (ARM) | PASS | +----------------------------------------+--------------------+ | Ubuntu 20.04 ARM GCC Cross Compile | PASS | +----------------------------------------+--------------------+ | Ubuntu 20.04 ARM SVE | PASS | +----------------------------------------+--------------------+ | Debian 12 with MUSDK | PASS | +----------------------------------------+--------------------+ | Fedora 40 (ARM) | PASS | +----------------------------------------+--------------------+ | Fedora 40 (ARM Clang) | PASS | +----------------------------------------+--------------------+ | Fedora 41 (ARM) | PASS | +----------------------------------------+--------------------+ | Fedora 41 (ARM Clang) | PASS | +----------------------------------------+--------------------+ | Ubuntu 20.04 (ARM) | PASS | +----------------------------------------+--------------------+ | Ubuntu 22.04 (ARM) | PASS | +----------------------------------------+--------------------+ | Ubuntu 24.04 (ARM) | PASS | +----------------------------------------+--------------------+ | CentOS Stream 9 (ARM) | PASS | +----------------------------------------+--------------------+ | Debian 11 (Buster) (ARM) | PASS | +----------------------------------------+--------------------+ | Debian 12 (arm) | PASS | +----------------------------------------+--------------------+ | Ubuntu 20.04 ARM Clang Cross Compile | PASS | +----------------------------------------+--------------------+ | Ubuntu 20.04 aarch32 GCC Cross Compile | PASS | +----------------------------------------+--------------------+ RHEL9 (ARM) Kernel: Depends on container host Compiler: gcc 11.5.0 20240719 (Red Hat 11.5.0-2) Ubuntu 20.04 ARM GCC Cross Compile Kernel: Depends on container host Compiler: aarch64-linux-gnu-gcc (Ubuntu 9.4.0-1ubuntu1~20.04.2) 9.4.0 Ubuntu 20.04 ARM SVE Kernel: Depends on container host Compiler: gcc (Ubuntu 10.5.0-1ubuntu1~20.04) 10.5.0 Debian 12 with MUSDK Kernel: Depends on container host Compiler: gcc (Debian 12.2.0-14) 12.2.0 Fedora 40 (ARM) Kernel: Depends on container host Compiler: gcc 14.2.1 20240912 (Red Hat 14.2.1-3) Fedora 40 (ARM Clang) Kernel: Depends on container host Compiler: clang 18.1.8 (Fedora 18.1.8-1.fc40) Fedora 41 (ARM) Kernel: Depends on container host Compiler: gcc 14.2.1 20240912 (Red Hat 14.2.1-3) Fedora 41 (ARM Clang) Kernel: Depends on container host Compiler: clang 19.1.5 (Fedora 19.1.5-1.fc41) Ubuntu 20.04 (ARM) Kernel: Depends on container host Compiler: gcc (Ubuntu 9.4.0-1ubuntu1~20.04.2) 9.4.0 Ubuntu 22.04 (ARM) Kernel: Depends on container host Compiler: gcc (Ubuntu 11.4.0-1ubuntu1~22.04) 11.4.0 Ubuntu 24.04 (ARM) Kernel: Depends on container host Compiler: gcc (Ubuntu 13.3.0-6ubuntu2~24.04) 13.3.0 CentOS Stream 9 (ARM) Kernel: Depends on container host Compiler: gcc 11.5.0 20240719 (Red Hat 11.5.0-2) Debian 11 (Buster) (ARM) Kernel: Depends on container host Compiler: gcc (Debian 10.2.1-6) 10.2.1 20210110 Debian 12 (arm) Kernel: Depends on container host Compiler: gcc (Debian 12.2.0-14) 12.2.0 Ubuntu 20.04 ARM Clang Cross Compile Kernel: Depends on container host Compiler: clang 10.0.0-4ubuntu1 Ubuntu 20.04 aarch32 GCC Cross Compile Kernel: Depends on container host Compiler: gcc 9.4.0 To view detailed results, visit: https://lab.dpdk.org/results/dashboard/patchsets/32506/ UNH-IOL DPDK Community Lab To manage your email subscriptions, visit: https://lab.dpdk.org/results/dashboard/preferences/subscriptions/