From mboxrd@z Thu Jan 1 00:00:00 1970 Return-Path: Received: from mails.dpdk.org (mails.dpdk.org [217.70.189.124]) by inbox.dpdk.org (Postfix) with ESMTP id 1A822461AC for ; Thu, 6 Feb 2025 14:49:30 +0100 (CET) Received: from mails.dpdk.org (localhost [127.0.0.1]) by mails.dpdk.org (Postfix) with ESMTP id 14D05402F1; Thu, 6 Feb 2025 14:49:30 +0100 (CET) Received: from mail-ot1-f97.google.com (mail-ot1-f97.google.com [209.85.210.97]) by mails.dpdk.org (Postfix) with ESMTP id DAB4E40289 for ; Thu, 6 Feb 2025 14:49:28 +0100 (CET) Received: by mail-ot1-f97.google.com with SMTP id 46e09a7af769-71e1e051e50so252014a34.0 for ; Thu, 06 Feb 2025 05:49:28 -0800 (PST) DKIM-Signature: v=1; a=rsa-sha256; c=relaxed/relaxed; d=iol.unh.edu; s=unh-iol; t=1738849768; x=1739454568; darn=dpdk.org; h=cc:to:from:subject:message-id:date:from:to:cc:subject:date :message-id:reply-to; bh=UvXbiJDzlZpvugqRRxfjEK95YWj38xtwU4bblZvYfUo=; b=T4ySuKb7gIYHTNQ1xQ8dkGxGYWbY25yF1dD/SyB8m/qLT3tLbxV1N/2AGmvQgPCXI2 uy8VEu5iXci7IKOFEytasXFVkns8274APxjWGWM5PABvIYTBgQIlXJw2l0OM4IOTCBsk xUz9qIrizXihecD+Y1DmggolxvJ3/dYqc2GfE= X-Google-DKIM-Signature: v=1; a=rsa-sha256; c=relaxed/relaxed; d=1e100.net; s=20230601; t=1738849768; x=1739454568; h=cc:to:from:subject:message-id:date:x-gm-message-state:from:to:cc :subject:date:message-id:reply-to; bh=UvXbiJDzlZpvugqRRxfjEK95YWj38xtwU4bblZvYfUo=; b=ild5J+ot7lNtfve7m5aupFt00psq6qxHRDXO8mtfuGmi0GDP8dAm4yodqkDPGlVFUy fVwv3gW4VjMhZWWzwscYpmJuZieRsbxw009XL5V++nXjLZ2zG/+vb0v7EDVjpwaUIha6 fpiIe8vGjN61Ka/m/uCbF0QrtXN1uNvJ9E5o1cf7UrnTdwroT7jGij8PiKtrxYfZoIhK rMWG1HmB0CWNEJAM22C6xvtgVAHCtigUAo/0fuA43024vvB/eZNjVX4MYj+UvG0xuVhd lvqXv/bX7Ly/gLxk66KtYb/UmfHINLKq/NoOmXXXP+U5BgNhRr8SGW9pjcLcifPyHbpv MNng== X-Gm-Message-State: AOJu0Yx+Q/h8kV1D/HTpEuW2sEBwI/7Glwxk2LsMlue4kjB7k5x75LQ0 OflTWrPBQDIlTolZ85cNj8rAjcrA7k8DUMeBT/JX9k/Hw7w0eEb4h8mkqvdtWTq8nwq9AA6PP2/ v51moLDeIlK/YjvJJGvWIwAEGEezm/z3irdzJ2SlyDnyMtqMO X-Gm-Gg: ASbGnctwKOGx9xZRjqS2A4f3Rlu7zikUikHjxlxw/grNLZUW3dp68MtXLUiGHvoN8Gq R3o1KODw2xCFpY+J96AdYYxo4peLZXCTfX4yTXozKuKI1E2j8OS2k92WSm70RzDQE9qdBOKeaiU 02Q/O7Cm7OYk/FiASIDIqQOozinxPVI0n65bmucaMTWGRoABBBTT/O6wWmfEAX4c6uvpapdLpHJ pGrDhZOtN6u58nZqRMlLzISgjYJNNrTozOmWqs3OukT/E/PSvOqX1L621zuPFe3SazUjJ8+HV6o LRie50FnmwUSax6G5+tT3zV7U3Z1kGRp7ozGRKva5g== X-Google-Smtp-Source: AGHT+IG5xJ4oDCJdLlsYLbK7sk1PURwsnH5HqyAirIpCKa2dY5irP+Vek3Yfe4W5SLgdjohGuTTDCrgTHvMJ X-Received: by 2002:a05:6830:610b:b0:71d:fe93:2570 with SMTP id 46e09a7af769-726a41be5fcmr4743510a34.14.1738849767956; Thu, 06 Feb 2025 05:49:27 -0800 (PST) Received: from postal.iol.unh.edu (postal.iol.unh.edu. [2606:4100:3880:1234::84]) by smtp-relay.gmail.com with ESMTPS id 006d021491bc7-5fc5458b527sm28033eaf.19.2025.02.06.05.49.27 (version=TLS1_2 cipher=ECDHE-ECDSA-AES128-GCM-SHA256 bits=128/128); Thu, 06 Feb 2025 05:49:27 -0800 (PST) X-Relaying-Domain: iol.unh.edu Date: Thu, 06 Feb 2025 05:49:27 -0800 (PST) Message-ID: <67a4bde7.050a0220.35ee54.186bSMTPIN_ADDED_MISSING@mx.google.com> Received: from [172.21.0.5] (unknown [172.18.0.240]) by postal.iol.unh.edu (Postfix) with ESMTP id 683846052471; Thu, 6 Feb 2025 08:49:27 -0500 (EST) Subject: |SUCCESS| [GIT MASTER] f2eea2f37a82bb73fb01d56350708f7d70e21379 From: dpdklab@iol.unh.edu To: Test Report Cc: dpdk-test-reports@iol.unh.edu, Xueming Li , Christian Ehrhardt , Kevin Traynor , Luca Boccassi Content-Type: text/plain X-BeenThere: test-report@dpdk.org X-Mailman-Version: 2.1.29 Precedence: list List-Id: automatic DPDK test reports List-Unsubscribe: , List-Archive: List-Post: List-Help: List-Subscribe: , Errors-To: test-report-bounces@dpdk.org _Testing PASS_ Branch: tags/v24.11 f2eea2f37a82bb73fb01d56350708f7d70e21379 --> testing pass Upstream job id: Generic-DPDK-Compile-ABI#115052 Test environment and result as below: +-------------------+----------+ | Environment | abi_test | +===================+==========+ | CentOS Stream 9 | PASS | +-------------------+----------+ | Debian 12 | PASS | +-------------------+----------+ | Debian Bullseye | PASS | +-------------------+----------+ | Ubuntu 22.04 | PASS | +-------------------+----------+ | Fedora 40 (Clang) | PASS | +-------------------+----------+ | Fedora 40 | PASS | +-------------------+----------+ | Fedora 41 | PASS | +-------------------+----------+ | RHEL9 | PASS | +-------------------+----------+ | Fedora 41 (Clang) | PASS | +-------------------+----------+ | RHEL8 | PASS | +-------------------+----------+ | Ubuntu 24.04 | PASS | +-------------------+----------+ | openSUSE Leap 15 | PASS | +-------------------+----------+ CentOS Stream 9 Kernel: Depends on container host Compiler: gcc 11.5.0 20240719 (Red Hat 11.5.0-2) Debian 12 Kernel: Depends on container host Compiler: gcc (Debian 12.2.0-14) 12.2.0 Debian Bullseye Kernel: Depends on container host Compiler: gcc (Debian 10.2.1-6) 10.2.1 20210110 Ubuntu 22.04 Kernel: Depends on container host Compiler: gcc (Ubuntu 11.4.0-1ubuntu1~22.04) 11.4.0 Fedora 40 (Clang) Kernel: Depends on container host Compiler: clang 18.1.8 (Fedora 18.1.8-1.fc40) Fedora 40 Kernel: Depends on container host Compiler: gcc 14.2.1 20240912 (Red Hat 14.2.1-3) Fedora 41 Kernel: Depends on container host Compiler: gcc 14.2.1 20240912 (Red Hat 14.2.1-3) RHEL9 Kernel: Depends on container host Compiler: gcc 11.5.0 20240719 (Red Hat 11.5.0-2) Fedora 41 (Clang) Kernel: Depends on container host Compiler: clang 19.1.5 (Fedora 19.1.5-1.fc41) RHEL8 Kernel: Depends on container host Compiler: gcc 8.5.0 20210514 (Red Hat 8.5.0-22) Ubuntu 24.04 Kernel: Depends on container host Compiler: gcc (Ubuntu 13.3.0-6ubuntu2~24.04) 13.3.0 openSUSE Leap 15 Kernel: Depends on container host Compiler: gcc (SUSE Linux) 7.5.0 To view detailed results, visit: https://lab.dpdk.org/results/dashboard/tarballs/32466/ UNH-IOL DPDK Community Lab To manage your email subscriptions, visit: https://lab.dpdk.org/results/dashboard/preferences/subscriptions/