From mboxrd@z Thu Jan 1 00:00:00 1970 Return-Path: Received: from mails.dpdk.org (mails.dpdk.org [217.70.189.124]) by inbox.dpdk.org (Postfix) with ESMTP id 8AE23461AC for ; Thu, 6 Feb 2025 15:22:36 +0100 (CET) Received: from mails.dpdk.org (localhost [127.0.0.1]) by mails.dpdk.org (Postfix) with ESMTP id 8649D402F1; Thu, 6 Feb 2025 15:22:36 +0100 (CET) Received: from mail-io1-f98.google.com (mail-io1-f98.google.com [209.85.166.98]) by mails.dpdk.org (Postfix) with ESMTP id C5AEC4029A for ; Thu, 6 Feb 2025 15:22:34 +0100 (CET) Received: by mail-io1-f98.google.com with SMTP id ca18e2360f4ac-84a1ce51187so31870139f.1 for ; Thu, 06 Feb 2025 06:22:34 -0800 (PST) DKIM-Signature: v=1; a=rsa-sha256; c=relaxed/relaxed; d=iol.unh.edu; s=unh-iol; t=1738851754; x=1739456554; darn=dpdk.org; h=references:in-reply-to:cc:to:from:subject:message-id:date:from:to :cc:subject:date:message-id:reply-to; bh=bRFrZVFZ7PoWpvWcxcNxqv38YcYxx4GdPzqs6ovsM7c=; b=VxMSQTCuv7DygoovshvpCNueGEK1Ro0tmXu3S3gGkxdexy/unKFqr5Q/zGUDAYQ8tm lSLW4IntlADX74qK03e9rEOFni9/HnQ5uMC/S/8XYTRFqYk2yHo6DnmqQxlSacZGAlAg juEbPnKFNeVb4q74AILyuj+HV2SnfPclU9ULE= X-Google-DKIM-Signature: v=1; a=rsa-sha256; c=relaxed/relaxed; d=1e100.net; s=20230601; t=1738851754; x=1739456554; h=references:in-reply-to:cc:to:from:subject:message-id:date :x-gm-message-state:from:to:cc:subject:date:message-id:reply-to; bh=bRFrZVFZ7PoWpvWcxcNxqv38YcYxx4GdPzqs6ovsM7c=; b=K5lsXkrzESO0BK2HPf8wJ2aIowq0HfeO93gJpppCVTlQcyd5R7Qrn+2MviqA6QtT91 /B36JWqDuNLO8C1uaQwh4g6FIiiudRYg4e/98spHkd3cMNlHYc6aey6nXE2961w+QfEr l87Ei4kPjlZYH4tK5pDeagje8mwQhdNA1pTq6LsRFT9/+RQ2R59rvdgwJUuZB4IVExLN 9OK9pwEQn8nPdaOwr4l5KEFxE0Ko8nRXB6mjIs2diZlAOuL3bKVhifvQFen3lILX3A1J W6WHse4yMbHoJk+ruxRX4/GZSx3X2zKWLGoOaAPcAzuvo2cg2ZUmaKLQ3EExc0KHRsJA RUNg== X-Gm-Message-State: AOJu0YxKAdpA931JtA1pyaIAdy11dRfY8TZLhqVVNVvxIgKOW3giCl7Q JH6Yj2CVqwLisg9Ofj/rZ+pLKxpl7YT+aS7oUw/nvd5nRB/w6tBKzxjB8oiVPV3pk11bl7s9+yB Dvc6w3nlZHBLNjfk9FWU3C4p3U62bs4rVdlKBsDNDFHnSBvh0ymmTtgil X-Gm-Gg: ASbGncsyB4TTH1+EzHMyuEVYaxg+pe8czmGSR7mU3zDmZWU0zr7S0CeMr97G4AXa4cf +s8r8SDbs3wiskzE5eDwnxMsHFRA6H0qlYecbecFcQvbAD5SZF5l/OCru6nmxg/fxaLVufoinWK DUbxrbJLFTe5KTPhpZpNkRbkfCEZKef+RhoRI7Xng5cPyl9AkN+LkGm/L4445Xn/4IpRqvpLKuv dZNyWCIPkJEwTJOWC6N1xmE5WYQYdAHhdHczIqmOG6yX2Bu/CTQjjtf+aptT5qLAzC/Ki/dkh3i 5PByETybzfHfa/TJq6RINffcqUNtfwqw3NG4ANfZDw== X-Google-Smtp-Source: AGHT+IFpFFyP+1FEwGSDcYBMeRBq/jykC+H9/1DQP28tGFFkWyzwhcWDTIlaVFCjo8uJvL+I6sN+C2cbuJFM X-Received: by 2002:a05:6602:7213:b0:835:4b2a:e52b with SMTP id ca18e2360f4ac-854ea4f4627mr612270839f.10.1738851753975; Thu, 06 Feb 2025 06:22:33 -0800 (PST) Received: from postal.iol.unh.edu (postal.iol.unh.edu. [2606:4100:3880:1234::84]) by smtp-relay.gmail.com with ESMTPS id 8926c6da1cb9f-4eccf9d56e2sm83737173.21.2025.02.06.06.22.33 (version=TLS1_2 cipher=ECDHE-ECDSA-AES128-GCM-SHA256 bits=128/128); Thu, 06 Feb 2025 06:22:33 -0800 (PST) X-Relaying-Domain: iol.unh.edu Date: Thu, 06 Feb 2025 06:22:33 -0800 (PST) Message-ID: <67a4c5a9.050a0220.273c5b.525dSMTPIN_ADDED_MISSING@mx.google.com> Received: from [172.21.0.5] (unknown [172.18.0.240]) by postal.iol.unh.edu (Postfix) with ESMTP id 853FB6052471; Thu, 6 Feb 2025 09:22:33 -0500 (EST) Subject: |SUCCESS| pw151040 [PATCH] vhost: fix FD entries cleanup From: dpdklab@iol.unh.edu To: Test Report Cc: dpdk-test-reports@iol.unh.edu In-Reply-To: <20250206084154.2230766-1-maxime.coquelin@redhat.com> References: <20250206084154.2230766-1-maxime.coquelin@redhat.com> Content-Type: text/plain X-BeenThere: test-report@dpdk.org X-Mailman-Version: 2.1.29 Precedence: list List-Id: automatic DPDK test reports List-Unsubscribe: , List-Archive: List-Post: List-Help: List-Subscribe: , Errors-To: test-report-bounces@dpdk.org Test-Label: iol-abi-testing Test-Status: SUCCESS http://dpdk.org/patch/151040 _Testing PASS_ Submitter: Maxime Coquelin Date: Thursday, February 06 2025 08:41:54 DPDK git baseline: Repo:dpdk Branch: master CommitID:d92688baedcfc963b7539899347012a09c45a15b 151040 --> testing pass Upstream job id: Generic-DPDK-Compile-ABI#115087 Test environment and result as below: +-------------------+----------+ | Environment | abi_test | +===================+==========+ | CentOS Stream 9 | PASS | +-------------------+----------+ | Debian 12 | PASS | +-------------------+----------+ | Debian Bullseye | PASS | +-------------------+----------+ | Fedora 40 (Clang) | PASS | +-------------------+----------+ | Fedora 41 | PASS | +-------------------+----------+ | Fedora 41 (Clang) | PASS | +-------------------+----------+ | Fedora 40 | PASS | +-------------------+----------+ | openSUSE Leap 15 | PASS | +-------------------+----------+ | RHEL8 | PASS | +-------------------+----------+ | RHEL9 | PASS | +-------------------+----------+ | Ubuntu 22.04 | PASS | +-------------------+----------+ | Ubuntu 24.04 | PASS | +-------------------+----------+ CentOS Stream 9 Kernel: Depends on container host Compiler: gcc 11.5.0 20240719 (Red Hat 11.5.0-2) Debian 12 Kernel: Depends on container host Compiler: gcc (Debian 12.2.0-14) 12.2.0 Debian Bullseye Kernel: Depends on container host Compiler: gcc (Debian 10.2.1-6) 10.2.1 20210110 Fedora 40 (Clang) Kernel: Depends on container host Compiler: clang 18.1.8 (Fedora 18.1.8-1.fc40) Fedora 41 Kernel: Depends on container host Compiler: gcc 14.2.1 20240912 (Red Hat 14.2.1-3) Fedora 41 (Clang) Kernel: Depends on container host Compiler: clang 19.1.5 (Fedora 19.1.5-1.fc41) Fedora 40 Kernel: Depends on container host Compiler: gcc 14.2.1 20240912 (Red Hat 14.2.1-3) openSUSE Leap 15 Kernel: Depends on container host Compiler: gcc (SUSE Linux) 7.5.0 RHEL8 Kernel: Depends on container host Compiler: gcc 8.5.0 20210514 (Red Hat 8.5.0-22) RHEL9 Kernel: Depends on container host Compiler: gcc 11.5.0 20240719 (Red Hat 11.5.0-2) Ubuntu 22.04 Kernel: Depends on container host Compiler: gcc (Ubuntu 11.4.0-1ubuntu1~22.04) 11.4.0 Ubuntu 24.04 Kernel: Depends on container host Compiler: gcc (Ubuntu 13.3.0-6ubuntu2~24.04) 13.3.0 To view detailed results, visit: https://lab.dpdk.org/results/dashboard/patchsets/32509/ UNH-IOL DPDK Community Lab To manage your email subscriptions, visit: https://lab.dpdk.org/results/dashboard/preferences/subscriptions/