From mboxrd@z Thu Jan 1 00:00:00 1970 Return-Path: Received: from mails.dpdk.org (mails.dpdk.org [217.70.189.124]) by inbox.dpdk.org (Postfix) with ESMTP id 76EF0461AC for ; Thu, 6 Feb 2025 15:41:32 +0100 (CET) Received: from mails.dpdk.org (localhost [127.0.0.1]) by mails.dpdk.org (Postfix) with ESMTP id 50C13402F1; Thu, 6 Feb 2025 15:41:32 +0100 (CET) Received: from mail-il1-f228.google.com (mail-il1-f228.google.com [209.85.166.228]) by mails.dpdk.org (Postfix) with ESMTP id 6D89F4029A for ; Thu, 6 Feb 2025 15:41:31 +0100 (CET) Received: by mail-il1-f228.google.com with SMTP id e9e14a558f8ab-3cda56e1dffso2913415ab.1 for ; Thu, 06 Feb 2025 06:41:31 -0800 (PST) DKIM-Signature: v=1; a=rsa-sha256; c=relaxed/relaxed; d=iol.unh.edu; s=unh-iol; t=1738852890; x=1739457690; darn=dpdk.org; h=cc:to:from:subject:message-id:date:from:to:cc:subject:date :message-id:reply-to; bh=7UxIhPOU1g7rUANwC5KEl/e3bKtUDF7kxCZEs600r+k=; b=HkqgXjQl29reIJNG6yj4R1PdKaA+S0Jfy4xWhCDsHVvtX1e2QkNys89MjMovSnUb99 ua3bSS3PgtFsrzXCmTwH4g1Gm0yJiLpaiXK9822M6meJMYQgI10noPzh3lCbrz1ugcQd GDWomzdChRh0bcQEGZaMpvVfxCPydbTzNckAY= X-Google-DKIM-Signature: v=1; a=rsa-sha256; c=relaxed/relaxed; d=1e100.net; s=20230601; t=1738852890; x=1739457690; h=cc:to:from:subject:message-id:date:x-gm-message-state:from:to:cc :subject:date:message-id:reply-to; bh=7UxIhPOU1g7rUANwC5KEl/e3bKtUDF7kxCZEs600r+k=; b=gf/wSE5ewd8ZbDFLFkZl6mc0CGYb3yxgJFgV3QcUmIzou5wuFJFEteBq+ys83qwO+W Sd9gsFZl15F9mlIuJtsxPXBZ8+ZmFIsZxvz/rdL/WwpnNG+1aWMXvxVWKT+PWYT7vyJp qZ3nUfmOsqPTLsR6HRGjxUJNL6Ed/GIC33Fu6W9r5ks1LVcca1rMK8P9hEvHXtd+EAs9 FLgKtixwmF2+R2ef6CcrY3HJUYyO5H5DFTcYmPvstlQlsHYOf7r6AVRy9N9/uQQc39j3 zWzE8ZkAArS7JPomYbx44M3VarPb/FfjKwMTZ3gFwAcepHBDRjIHN2gqzJpfQzdLAFtH zpOQ== X-Gm-Message-State: AOJu0YwSGkNYbq0/NiIUasswWcA1eDNeanI8/z5P3C2IDB/tPmYP/lM0 SpY5NL8zcs8I8qKbZvOsww8uThPIbsIu7YVfRfj0BM37s1t5WBPbsrBGszyeUalqyOu2fMsVO3Y VQn9SZb8HUsTXo0kDnVNQVxQRrhPW6L7o1k2vUAjcfuHLXWL1 X-Gm-Gg: ASbGncsGx8sgj0KIo8YIMFN1xuLnqU4Gs6OGesMnIh8OHBBzIrbQmSkAvg46fJ55Kg4 lWB7MAL7mVMIgm26WiK51FDfPbUC1MIhmcH+Yrq4KMnnrMaefuxFICLLcT9teEh3a4A7CigPXKc Xq1zbs4+7IasVSo73RaiFLI6fHr3IIPJXOXdzZpNOCOah0EfoTdDIj7TXxpK/WHR3xjPF6PZa9O /dgE2/ld30zRKNSvyGiefDO/Qe1JwzN+D0l2hJBCDWfFSVWzhxMo3dGzGvC8QUbFh/iqQVxtrRB ywXjKa0JvpP/jngP+Rv7x6Lecp7RoKmXG62p8CadOQ== X-Google-Smtp-Source: AGHT+IEgAYhZGa3r7Rjo48O3yydmuuO+/wfN2AQI9PghzAQldD/K1JaywyzmT0yKPpCx4XpJ/Pf86zrOrBZs X-Received: by 2002:a05:6e02:4901:b0:3d0:618c:1b29 with SMTP id e9e14a558f8ab-3d0618c1e1fmr11315425ab.5.1738852890470; Thu, 06 Feb 2025 06:41:30 -0800 (PST) Received: from postal.iol.unh.edu (postal.iol.unh.edu. [2606:4100:3880:1234::84]) by smtp-relay.gmail.com with ESMTPS id e9e14a558f8ab-3d05ea1be66sm774435ab.57.2025.02.06.06.41.30 (version=TLS1_2 cipher=ECDHE-ECDSA-AES128-GCM-SHA256 bits=128/128); Thu, 06 Feb 2025 06:41:30 -0800 (PST) X-Relaying-Domain: iol.unh.edu Date: Thu, 06 Feb 2025 06:41:30 -0800 (PST) Message-ID: <67a4ca1a.920a0220.3d94a8.4856SMTPIN_ADDED_MISSING@mx.google.com> Received: from [172.21.0.5] (unknown [172.18.0.240]) by postal.iol.unh.edu (Postfix) with ESMTP id E6F7E6052471; Thu, 6 Feb 2025 09:41:29 -0500 (EST) Subject: |SUCCESS| [GIT MASTER] c66daa12e76d7b4912cfb7109a761856a7a873ab From: dpdklab@iol.unh.edu To: Test Report Cc: dpdk-test-reports@iol.unh.edu, Xueming Li , Christian Ehrhardt , Kevin Traynor , Luca Boccassi Content-Type: text/plain X-BeenThere: test-report@dpdk.org X-Mailman-Version: 2.1.29 Precedence: list List-Id: automatic DPDK test reports List-Unsubscribe: , List-Archive: List-Post: List-Help: List-Subscribe: , Errors-To: test-report-bounces@dpdk.org _Testing PASS_ Branch: tags/v23.11 c66daa12e76d7b4912cfb7109a761856a7a873ab --> testing pass Upstream job id: Generic-Unit-Test-DPDK#312223 Test environment and result as below: +---------------------+----------------+ | Environment | dpdk_unit_test | +=====================+================+ | Fedora 40 (Clang) | PASS | +---------------------+----------------+ | Fedora 40 | PASS | +---------------------+----------------+ | Debian Bullseye | PASS | +---------------------+----------------+ | Fedora 41 | PASS | +---------------------+----------------+ | CentOS Stream 9 | PASS | +---------------------+----------------+ | Fedora 41 (Clang) | PASS | +---------------------+----------------+ | Debian 12 | PASS | +---------------------+----------------+ | RHEL8 | PASS | +---------------------+----------------+ | RHEL9 | PASS | +---------------------+----------------+ | Ubuntu 24.04 | PASS | +---------------------+----------------+ | Ubuntu 20.04 | PASS | +---------------------+----------------+ | Ubuntu 22.04 | PASS | +---------------------+----------------+ | Windows Server 2022 | PASS | +---------------------+----------------+ Fedora 40 (Clang) Kernel: Depends on container host Compiler: clang 18.1.8 (Fedora 18.1.8-1.fc40) Fedora 40 Kernel: Depends on container host Compiler: gcc 14.2.1 20240912 (Red Hat 14.2.1-3) Debian Bullseye Kernel: Depends on container host Compiler: gcc (Debian 10.2.1-6) 10.2.1 20210110 Fedora 41 Kernel: Depends on container host Compiler: gcc 14.2.1 20240912 (Red Hat 14.2.1-3) CentOS Stream 9 Kernel: Depends on container host Compiler: gcc 11.5.0 20240719 (Red Hat 11.5.0-2) Fedora 41 (Clang) Kernel: Depends on container host Compiler: clang 19.1.5 (Fedora 19.1.5-1.fc41) Debian 12 Kernel: Depends on container host Compiler: gcc (Debian 12.2.0-14) 12.2.0 RHEL8 Kernel: Depends on container host Compiler: gcc 8.5.0 20210514 (Red Hat 8.5.0-22) RHEL9 Kernel: Depends on container host Compiler: gcc 11.5.0 20240719 (Red Hat 11.5.0-2) Ubuntu 24.04 Kernel: Depends on container host Compiler: gcc (Ubuntu 13.3.0-6ubuntu2~24.04) 13.3.0 Ubuntu 20.04 Kernel: Depends on container host Compiler: gcc (Ubuntu 9.4.0-1ubuntu1~20.04.2) 9.4.0 Ubuntu 22.04 Kernel: Depends on container host Compiler: gcc (Ubuntu 11.4.0-1ubuntu1~22.04) 11.4.0 Windows Server 2022 Kernel: 10.0.20348.2031 Compiler: clang 15.0.7, gcc 14.1.0 (MinGW), and MSVC VS 19.39.33521 To view detailed results, visit: https://lab.dpdk.org/results/dashboard/tarballs/32467/ UNH-IOL DPDK Community Lab To manage your email subscriptions, visit: https://lab.dpdk.org/results/dashboard/preferences/subscriptions/