From mboxrd@z Thu Jan 1 00:00:00 1970 Return-Path: Received: from mails.dpdk.org (mails.dpdk.org [217.70.189.124]) by inbox.dpdk.org (Postfix) with ESMTP id 8FEB0461AC for ; Thu, 6 Feb 2025 15:57:28 +0100 (CET) Received: from mails.dpdk.org (localhost [127.0.0.1]) by mails.dpdk.org (Postfix) with ESMTP id 673B3402F1; Thu, 6 Feb 2025 15:57:28 +0100 (CET) Received: from mail-yb1-f227.google.com (mail-yb1-f227.google.com [209.85.219.227]) by mails.dpdk.org (Postfix) with ESMTP id 503EA4029A for ; Thu, 6 Feb 2025 15:57:26 +0100 (CET) Received: by mail-yb1-f227.google.com with SMTP id 3f1490d57ef6-e4419a47887so760307276.0 for ; Thu, 06 Feb 2025 06:57:26 -0800 (PST) DKIM-Signature: v=1; a=rsa-sha256; c=relaxed/relaxed; d=iol.unh.edu; s=unh-iol; t=1738853845; x=1739458645; darn=dpdk.org; h=cc:to:from:subject:message-id:date:from:to:cc:subject:date :message-id:reply-to; bh=DmJ7B+RPSDnXjVgiXMhBk2loK3UeQOFTnAGOGeZhVHo=; b=biGKH5sgn/ObOiwsEsYYoOdyIgfTYnY8OopVZRn2e0hw15SrNoO2UOgQr80FbUbtAx mSFipvw0jBNHRhjuedhs5CZGyMQmdREjr6gX9Fv0LN+qdfG0Io/V7ypAu/gMdPBdRgbO 6xin3kLmQxsvmxBDl1KK9Hf+VAiYPHQ7sZapw= X-Google-DKIM-Signature: v=1; a=rsa-sha256; c=relaxed/relaxed; d=1e100.net; s=20230601; t=1738853845; x=1739458645; h=cc:to:from:subject:message-id:date:x-gm-message-state:from:to:cc :subject:date:message-id:reply-to; bh=DmJ7B+RPSDnXjVgiXMhBk2loK3UeQOFTnAGOGeZhVHo=; b=jTRavz/fYa2cQlK4TYm63SlNfDLzFu4M7S0wK9q+8n1qOl437oo/yQoJewmKwvtJU3 YLA3n6g9BdSvrXo43g1mh4UrgoUMVk92T693eCj5kEVEBVtvHL1+27fPdMkRrSrhui39 E7g0KhHGk4InwCG2xEdrha68VMxh10yOd02F8aUCyU6h4HTVdgiR05TwqCfnQCjRnPvn 4asgxpt+IW+iiSehySevOYa9FfAlV5aRTwzq8kjFzrzxDMYNmcyhb3V0PoTrYreBPQL6 9PFbuBL/wsytCgZxxJeIrOrAQsALZLLs9UsRFjzhJCq2rYztYyuWNoOeyEizs3OJ5l9F xKyA== X-Gm-Message-State: AOJu0Yy+Bsk1DAeTBLWxHc78RRg9VG3hZAt6f/oX7vmHpz4p9+qx4Zet jxiHgHgmSBRhEaYgWqFQGEmc/Fnp+lGt0jly7EgxHu4V1QqE532x4K0COQgbqPqVIciXAV9mpIZ QATSX58CEWB/hpQUNnzwR8Lr6F3beQZoeR4H/mTyH X-Gm-Gg: ASbGncukoUZti0G9h5DwtSbv/cadipZykTegUfD0HNJMEurHzFmylmGywtUXJKobLpM RAk5gAfyuQjWltF2kp59BTsDxan1Imh1uVTUxLoY3SmQX6nmmyOLI/2Y/OgYKgf+e1WdKwz4tIF Ga//1BGSKnpCXkVHXR9xQFZps/cYlzfrEX3M4dUki2+y7LBZ2mBLLjp16Lu5JSmCqjL+hBxQzVt WYaXlc8OC9Ds0YgGj4eWLety8g0GuR50KxGIF7pQNtwGJJZq3SDN4gsW1VcXWnJpjGhieTI/S90 GSksx5xqy0U8TSZmaAJbRd+Kkwr+OQ== X-Google-Smtp-Source: AGHT+IE3ys23bRa4jF6N6cVsoJTOMafXuXyRc1y+B1Fw0ZSDBlMJOrJAWcnwp1NyC86NUHwu47ZngEkuQbG/ X-Received: by 2002:a05:690c:4b81:b0:6f9:a402:ff5e with SMTP id 00721157ae682-6f9a4033a05mr16275187b3.20.1738853845550; Thu, 06 Feb 2025 06:57:25 -0800 (PST) Received: from postal.iol.unh.edu (postal.iol.unh.edu. [132.177.123.84]) by smtp-relay.gmail.com with ESMTPS id 00721157ae682-6f99fe56eedsm86577b3.35.2025.02.06.06.57.25 (version=TLS1_2 cipher=ECDHE-ECDSA-AES128-GCM-SHA256 bits=128/128); Thu, 06 Feb 2025 06:57:25 -0800 (PST) X-Relaying-Domain: iol.unh.edu Date: Thu, 06 Feb 2025 06:57:25 -0800 (PST) Message-ID: <67a4cdd5.050a0220.2b331a.06c2SMTPIN_ADDED_MISSING@mx.google.com> Received: from [172.21.0.5] (unknown [172.18.0.240]) by postal.iol.unh.edu (Postfix) with ESMTP id 305186052471; Thu, 6 Feb 2025 09:57:25 -0500 (EST) Subject: |SUCCESS| [GIT MASTER] 6d7e741be18ab1e6ecce46edb2516318305c3c73 From: dpdklab@iol.unh.edu To: Test Report Cc: dpdk-test-reports@iol.unh.edu Content-Type: text/plain X-BeenThere: test-report@dpdk.org X-Mailman-Version: 2.1.29 Precedence: list List-Id: automatic DPDK test reports List-Unsubscribe: , List-Archive: List-Post: List-Help: List-Subscribe: , Errors-To: test-report-bounces@dpdk.org _Testing PASS_ Branch: dpdk 6d7e741be18ab1e6ecce46edb2516318305c3c73 --> testing pass Upstream job id: Generic-Unit-Test-DPDK#312120 Test environment and result as below: +-----------------------------+----------------+---------------------------+--------------+------------------------------+ | Environment | dpdk_unit_test | cryptodev_sw_zuc_autotest | lpm_autotest | cryptodev_sw_snow3g_autotest | +=============================+================+===========================+==============+==============================+ | CentOS Stream 9 (ARM) | PASS | SKIPPED | SKIPPED | SKIPPED | +-----------------------------+----------------+---------------------------+--------------+------------------------------+ | Fedora 40 (ARM Clang) | PASS | SKIPPED | SKIPPED | SKIPPED | +-----------------------------+----------------+---------------------------+--------------+------------------------------+ | Debian 12 (arm) | PASS | PASS | SKIPPED | PASS | +-----------------------------+----------------+---------------------------+--------------+------------------------------+ | Debian 11 (Buster) (ARM) | PASS | SKIPPED | SKIPPED | SKIPPED | +-----------------------------+----------------+---------------------------+--------------+------------------------------+ | Fedora 40 (ARM) | PASS | SKIPPED | SKIPPED | SKIPPED | +-----------------------------+----------------+---------------------------+--------------+------------------------------+ | Fedora 41 (ARM) | PASS | SKIPPED | SKIPPED | SKIPPED | +-----------------------------+----------------+---------------------------+--------------+------------------------------+ | Fedora 41 (ARM Clang) | PASS | SKIPPED | SKIPPED | SKIPPED | +-----------------------------+----------------+---------------------------+--------------+------------------------------+ | RHEL9 (ARM) | PASS | SKIPPED | SKIPPED | SKIPPED | +-----------------------------+----------------+---------------------------+--------------+------------------------------+ | Ubuntu 20.04 (ARM) | PASS | SKIPPED | SKIPPED | SKIPPED | +-----------------------------+----------------+---------------------------+--------------+------------------------------+ | Ubuntu 22.04 (ARM) | PASS | SKIPPED | SKIPPED | SKIPPED | +-----------------------------+----------------+---------------------------+--------------+------------------------------+ | Ubuntu 24.04 (ARM) | PASS | SKIPPED | SKIPPED | SKIPPED | +-----------------------------+----------------+---------------------------+--------------+------------------------------+ | 32-bit Ubuntu 22.04.4 (ARM) | PASS | SKIPPED | SKIPPED | SKIPPED | +-----------------------------+----------------+---------------------------+--------------+------------------------------+ | Ubuntu 20.04 ARM SVE | SKIPPED | SKIPPED | PASS | SKIPPED | +-----------------------------+----------------+---------------------------+--------------+------------------------------+ CentOS Stream 9 (ARM) Kernel: Depends on container host Compiler: gcc 11.5.0 20240719 (Red Hat 11.5.0-2) Fedora 40 (ARM Clang) Kernel: Depends on container host Compiler: clang 18.1.8 (Fedora 18.1.8-1.fc40) Debian 12 (arm) Kernel: Depends on container host Compiler: gcc (Debian 12.2.0-14) 12.2.0 Debian 11 (Buster) (ARM) Kernel: Depends on container host Compiler: gcc (Debian 10.2.1-6) 10.2.1 20210110 Fedora 40 (ARM) Kernel: Depends on container host Compiler: gcc 14.2.1 20240912 (Red Hat 14.2.1-3) Fedora 41 (ARM) Kernel: Depends on container host Compiler: gcc 14.2.1 20240912 (Red Hat 14.2.1-3) Fedora 41 (ARM Clang) Kernel: Depends on container host Compiler: clang 19.1.5 (Fedora 19.1.5-1.fc41) RHEL9 (ARM) Kernel: Depends on container host Compiler: gcc 11.5.0 20240719 (Red Hat 11.5.0-2) Ubuntu 20.04 (ARM) Kernel: Depends on container host Compiler: gcc (Ubuntu 9.4.0-1ubuntu1~20.04.2) 9.4.0 Ubuntu 22.04 (ARM) Kernel: Depends on container host Compiler: gcc (Ubuntu 11.4.0-1ubuntu1~22.04) 11.4.0 Ubuntu 24.04 (ARM) Kernel: Depends on container host Compiler: gcc (Ubuntu 13.3.0-6ubuntu2~24.04) 13.3.0 32-bit Ubuntu 22.04.4 (ARM) Kernel: 5.15.83+ aarch64 Compiler: gcc (Ubuntu 11.4.0-1ubuntu1~22.04) 11.4.0 Ubuntu 20.04 ARM SVE Kernel: Depends on container host Compiler: gcc (Ubuntu 10.5.0-1ubuntu1~20.04) 10.5.0 To view detailed results, visit: https://lab.dpdk.org/results/dashboard/tarballs/32463/ UNH-IOL DPDK Community Lab To manage your email subscriptions, visit: https://lab.dpdk.org/results/dashboard/preferences/subscriptions/