From mboxrd@z Thu Jan 1 00:00:00 1970 Return-Path: Received: from mails.dpdk.org (mails.dpdk.org [217.70.189.124]) by inbox.dpdk.org (Postfix) with ESMTP id F27E9461AD for ; Thu, 6 Feb 2025 16:00:19 +0100 (CET) Received: from mails.dpdk.org (localhost [127.0.0.1]) by mails.dpdk.org (Postfix) with ESMTP id DCDB0402F1; Thu, 6 Feb 2025 16:00:19 +0100 (CET) Received: from mail-pl1-f226.google.com (mail-pl1-f226.google.com [209.85.214.226]) by mails.dpdk.org (Postfix) with ESMTP id CD3104029A for ; Thu, 6 Feb 2025 16:00:17 +0100 (CET) Received: by mail-pl1-f226.google.com with SMTP id d9443c01a7336-21f464b9a27so7461835ad.1 for ; Thu, 06 Feb 2025 07:00:17 -0800 (PST) DKIM-Signature: v=1; a=rsa-sha256; c=relaxed/relaxed; d=iol.unh.edu; s=unh-iol; t=1738854017; x=1739458817; darn=dpdk.org; h=references:in-reply-to:cc:to:from:subject:message-id:date:from:to :cc:subject:date:message-id:reply-to; bh=NmFuqREBcjZd1DDU486MPLLM8ujTbtSTWZwBKpr1DdE=; b=hXIvjv5eEUAYLLn6sgx7BoHWY/WVSnnH0Hf5qjmGWCK59N5nM3XcwbUKDP045pqiSC vm4/m6FCXwCTkSL24MSzMbY/Gqg/131E+lBD4SObtzfZJ1xLlcdPoyocLVjR1Dy16Cqw 1ZJK95Hw7qLJVIkrXuZQfB5W/R0VGEIoDenfo= X-Google-DKIM-Signature: v=1; a=rsa-sha256; c=relaxed/relaxed; d=1e100.net; s=20230601; t=1738854017; x=1739458817; h=references:in-reply-to:cc:to:from:subject:message-id:date :x-gm-message-state:from:to:cc:subject:date:message-id:reply-to; bh=NmFuqREBcjZd1DDU486MPLLM8ujTbtSTWZwBKpr1DdE=; b=uW1FaDNH23a3gS3iMItAazpq8J4ygJeIXRvDu4+bnSa9soSvTvJznu6aoUz/Gex8Ba uuJOZ6Ru4K8t9Tt6ZhIEWNWVOS+YaYl+QSmMQrOQ/BUd4wK4tcV/yugyAX+8a9B1kUNx 5D/BTNBwutcvHnvQT+rebxhkr+Uvidx2GBvfHarFkR8iB+v+e40g3pi53UgiYi3D/i4t fL6eJN4Gv+pCP9vWLfHpbwzHYJnIspavBcZp4htsUrDGYBnHKErblHbK27RLIuwjrOv4 Cq0NHO/u+SoQR/kxi0iWoZLT4eD04+QnWVCdO7V2RY4vWToPd5hxCney+csJkrFlKUIZ mbjQ== X-Gm-Message-State: AOJu0YxVCtyv1Ng/zZN86/f4wf+LRJBShUlQ8s9wJtVXGyPXfESHF+Rt z5uwNWo/QT2XZlcFxMMC//SbIBh9EhxqgcIK00xuAHkQ5psxZrSujzEseKA8QKWnApMJKW01Sp/ kXGpgViQx8nj/bK/MdKWxxNUOHsBGo11OihP8Kngq X-Gm-Gg: ASbGnctLoQ2ttIy1QJAprRzAuU7y3HMevTSXgePvzmiJU0RO1KsbfgxZAl2gaFnby9q 5+qWcKG/FHj5KNKSfQ97BbTpv96eIlRNFD5d+HxelSK+onoR5ar5ryOzxetfRB6N8SWWEG/t/zl onRVFfBT76ueyqWWFJhsgpYbYj5xi3RDVoNqESFl3syx3Pi1p1Nv5lcN9QLkK51BCNEzFEITUkO FJFt6v7HTaPKA+lMMkmR4qFVHsaM8WEVpFjX4jTgCPQTJECQ9+kVXED99939v8ZOJbFU/w8oX0p 39ld5NRXF+ProwMfqg9l8OTONTvlyg== X-Google-Smtp-Source: AGHT+IEdoecwI+QWJ/tXPK8c1BphirllLpELRHJnQfJR33sAzBWfW4Jh5U+iJhJFIVitTNwtOIRk09wZYlN8 X-Received: by 2002:a17:902:e74a:b0:21f:228:4e16 with SMTP id d9443c01a7336-21f17edca50mr111451525ad.33.1738854015312; Thu, 06 Feb 2025 07:00:15 -0800 (PST) Received: from postal.iol.unh.edu (postal.iol.unh.edu. [132.177.123.84]) by smtp-relay.gmail.com with ESMTPS id d9443c01a7336-21f3658d28bsm521615ad.63.2025.02.06.07.00.15 (version=TLS1_2 cipher=ECDHE-ECDSA-AES128-GCM-SHA256 bits=128/128); Thu, 06 Feb 2025 07:00:15 -0800 (PST) X-Relaying-Domain: iol.unh.edu Date: Thu, 06 Feb 2025 07:00:15 -0800 (PST) Message-ID: <67a4ce7f.170a0220.12578a.31afSMTPIN_ADDED_MISSING@mx.google.com> Received: from [172.21.0.5] (unknown [172.18.0.240]) by postal.iol.unh.edu (Postfix) with ESMTP id 5D8186052471; Thu, 6 Feb 2025 10:00:14 -0500 (EST) Subject: |SUCCESS| pw150970 [PATCH] [v5] eal: define __SIZEOF_LONG__ when usi From: dpdklab@iol.unh.edu To: Test Report Cc: dpdk-test-reports@iol.unh.edu In-Reply-To: <1738771937-18083-1-git-send-email-andremue@linux.microsoft.com> References: <1738771937-18083-1-git-send-email-andremue@linux.microsoft.com> Content-Type: text/plain X-BeenThere: test-report@dpdk.org X-Mailman-Version: 2.1.29 Precedence: list List-Id: automatic DPDK test reports List-Unsubscribe: , List-Archive: List-Post: List-Help: List-Subscribe: , Errors-To: test-report-bounces@dpdk.org Test-Label: iol-compile-arm64-testing Test-Status: SUCCESS http://dpdk.org/patch/150970 _Testing PASS_ Submitter: Andre Muezerie Date: Wednesday, February 05 2025 16:12:17 DPDK git baseline: Repo:dpdk Branch: master CommitID:32c18e7364e30a8e43cc7cc6709a7ce606fa285e 150970 --> testing pass Upstream job id: Generic-DPDK-Compile-Meson#358318 Test environment and result as below: +----------------------------------------+--------------------+ | Environment | dpdk_meson_compile | +========================================+====================+ | RHEL9 (ARM) | PASS | +----------------------------------------+--------------------+ | Ubuntu 20.04 ARM GCC Cross Compile | PASS | +----------------------------------------+--------------------+ | Ubuntu 20.04 ARM SVE | PASS | +----------------------------------------+--------------------+ | Debian 12 with MUSDK | PASS | +----------------------------------------+--------------------+ | Fedora 40 (ARM) | PASS | +----------------------------------------+--------------------+ | Fedora 40 (ARM Clang) | PASS | +----------------------------------------+--------------------+ | Fedora 41 (ARM) | PASS | +----------------------------------------+--------------------+ | Fedora 41 (ARM Clang) | PASS | +----------------------------------------+--------------------+ | Ubuntu 20.04 (ARM) | PASS | +----------------------------------------+--------------------+ | Ubuntu 22.04 (ARM) | PASS | +----------------------------------------+--------------------+ | Ubuntu 24.04 (ARM) | PASS | +----------------------------------------+--------------------+ | CentOS Stream 9 (ARM) | PASS | +----------------------------------------+--------------------+ | Debian 11 (Buster) (ARM) | PASS | +----------------------------------------+--------------------+ | Ubuntu 20.04 ARM Clang Cross Compile | PASS | +----------------------------------------+--------------------+ | Ubuntu 20.04 aarch32 GCC Cross Compile | PASS | +----------------------------------------+--------------------+ | Debian 12 (arm) | PASS | +----------------------------------------+--------------------+ RHEL9 (ARM) Kernel: Depends on container host Compiler: gcc 11.5.0 20240719 (Red Hat 11.5.0-2) Ubuntu 20.04 ARM GCC Cross Compile Kernel: Depends on container host Compiler: aarch64-linux-gnu-gcc (Ubuntu 9.4.0-1ubuntu1~20.04.2) 9.4.0 Ubuntu 20.04 ARM SVE Kernel: Depends on container host Compiler: gcc (Ubuntu 10.5.0-1ubuntu1~20.04) 10.5.0 Debian 12 with MUSDK Kernel: Depends on container host Compiler: gcc (Debian 12.2.0-14) 12.2.0 Fedora 40 (ARM) Kernel: Depends on container host Compiler: gcc 14.2.1 20240912 (Red Hat 14.2.1-3) Fedora 40 (ARM Clang) Kernel: Depends on container host Compiler: clang 18.1.8 (Fedora 18.1.8-1.fc40) Fedora 41 (ARM) Kernel: Depends on container host Compiler: gcc 14.2.1 20240912 (Red Hat 14.2.1-3) Fedora 41 (ARM Clang) Kernel: Depends on container host Compiler: clang 19.1.5 (Fedora 19.1.5-1.fc41) Ubuntu 20.04 (ARM) Kernel: Depends on container host Compiler: gcc (Ubuntu 9.4.0-1ubuntu1~20.04.2) 9.4.0 Ubuntu 22.04 (ARM) Kernel: Depends on container host Compiler: gcc (Ubuntu 11.4.0-1ubuntu1~22.04) 11.4.0 Ubuntu 24.04 (ARM) Kernel: Depends on container host Compiler: gcc (Ubuntu 13.3.0-6ubuntu2~24.04) 13.3.0 CentOS Stream 9 (ARM) Kernel: Depends on container host Compiler: gcc 11.5.0 20240719 (Red Hat 11.5.0-2) Debian 11 (Buster) (ARM) Kernel: Depends on container host Compiler: gcc (Debian 10.2.1-6) 10.2.1 20210110 Ubuntu 20.04 ARM Clang Cross Compile Kernel: Depends on container host Compiler: clang 10.0.0-4ubuntu1 Ubuntu 20.04 aarch32 GCC Cross Compile Kernel: Depends on container host Compiler: gcc 9.4.0 Debian 12 (arm) Kernel: Depends on container host Compiler: gcc (Debian 12.2.0-14) 12.2.0 To view detailed results, visit: https://lab.dpdk.org/results/dashboard/patchsets/32498/ UNH-IOL DPDK Community Lab To manage your email subscriptions, visit: https://lab.dpdk.org/results/dashboard/preferences/subscriptions/