From mboxrd@z Thu Jan 1 00:00:00 1970 Return-Path: Received: from mails.dpdk.org (mails.dpdk.org [217.70.189.124]) by inbox.dpdk.org (Postfix) with ESMTP id 30246461AD for ; Thu, 6 Feb 2025 16:13:02 +0100 (CET) Received: from mails.dpdk.org (localhost [127.0.0.1]) by mails.dpdk.org (Postfix) with ESMTP id 1CCA1402F1; Thu, 6 Feb 2025 16:13:02 +0100 (CET) Received: from mail-qv1-f100.google.com (mail-qv1-f100.google.com [209.85.219.100]) by mails.dpdk.org (Postfix) with ESMTP id 8D44F4029A for ; Thu, 6 Feb 2025 16:13:01 +0100 (CET) Received: by mail-qv1-f100.google.com with SMTP id 6a1803df08f44-6e442b79de4so1165616d6.2 for ; Thu, 06 Feb 2025 07:13:01 -0800 (PST) DKIM-Signature: v=1; a=rsa-sha256; c=relaxed/relaxed; d=iol.unh.edu; s=unh-iol; t=1738854781; x=1739459581; darn=dpdk.org; h=references:in-reply-to:cc:to:from:subject:message-id:date:from:to :cc:subject:date:message-id:reply-to; bh=o5IGdohLMICG98xGb4SSnVI/Fbqdxu5kUl/WvLOQBok=; b=TzVvgAZhiIajmHZWznuUmbX0VNmU3RQym/P/lrmLWWn2Uv2ZDoQ+sZstHOSaVU90Co FiEr0lvVH+G0q25NnUAfdlyj1ArGCHmv5y+DiiJ1m0yZnix7Q/nYc2EFGLp6BLhZDEKW l1Iie4oe5u5gw9ew4VxNZdTmyysUo7QqpByV8= X-Google-DKIM-Signature: v=1; a=rsa-sha256; c=relaxed/relaxed; d=1e100.net; s=20230601; t=1738854781; x=1739459581; h=references:in-reply-to:cc:to:from:subject:message-id:date :x-gm-message-state:from:to:cc:subject:date:message-id:reply-to; bh=o5IGdohLMICG98xGb4SSnVI/Fbqdxu5kUl/WvLOQBok=; b=FRbCLK+c6l5D1rr1QpOM3t3Bv5ZokhQhGT7wQO9tI2GNhoT+U2pQq5FSe0YqhDn+vw JnzWUyMLFi/iGvbq/+u9T7Z26ZoTDLeHQus8n9YylrRhtWjolLscjKSAH6JMEd8+sq86 +TTLfVqIbSrOCc2zEyD+pntCiJ07TDpb8RUJIddRhZINsy/ZFKypC628mR7lLai0X5sz mOUWxPp8HUFJLqNaNw1hiqrR2dctI9OfZwP5pLBkF7dQbjlwEdPq8H9AP16+FAXJD1OR X3SDxq3W2ptFjXlswht6cuPIGXcxA+23dXiJlEBvslGAiA3z60IJrtPN4eE79vDBGNdN firA== X-Gm-Message-State: AOJu0YzKU8s3wIk0v9SRpFBkFc7BHbrTquRuoT5a42QtYRo7fBbWEG2r 9MSkrRZfYnlLrpC9Uj1FHkgvyiqUvhaAQDU+MNCjxxzCxGSQmqqVDnUNUeRQ5wz9uIpJmDm+yBg iYqyKRmAYoV8ZhGpVYpkfPNEM55SFIoz3NeviSRQV X-Gm-Gg: ASbGncuanJ2C3vwkej//2MvV0zmN+vGOyFvgrUgw81duBfEQ64MdjmiR55LK5q05uv4 KcbEll5ATusTZXx9Y5x5qkmrx5JSYLkfu0sMqneXQn27Fe4Nof/sKpOrO7O0OCP7u5aoa6TxlQJ Csw2HesAT9UETvuG5sNCYdau5WmjiT4+NEcJC8/sjAuj0XcEsBlmBh0ZYPaqYiSCOJbMCq/fm1L aoSmxa2Ny22dn7sKmjQCvJlzUZwc+wR6rC5LZOkGzYvijj3/Mt4+uibBPv5wXHm1siC4I7p5oDV E5sMn/1rcP7yBsSk01NJd3MWzk/yKg== X-Google-Smtp-Source: AGHT+IEYgfGxiM9mnRZLrJRkG3wY0UySmmY9kuSxeXTVYJCKA004Js19WjoE6lk7vzU/mrLmbLQwj810rfy2 X-Received: by 2002:a05:6214:2268:b0:6d4:36ff:4356 with SMTP id 6a1803df08f44-6e42fbc8f0cmr114878876d6.19.1738854780858; Thu, 06 Feb 2025 07:13:00 -0800 (PST) Received: from postal.iol.unh.edu (postal.iol.unh.edu. [132.177.123.84]) by smtp-relay.gmail.com with ESMTPS id 6a1803df08f44-6e43ba5605esm902046d6.37.2025.02.06.07.13.00 (version=TLS1_2 cipher=ECDHE-ECDSA-AES128-GCM-SHA256 bits=128/128); Thu, 06 Feb 2025 07:13:00 -0800 (PST) X-Relaying-Domain: iol.unh.edu Date: Thu, 06 Feb 2025 07:13:00 -0800 (PST) Message-ID: <67a4d17c.050a0220.23908.55a7SMTPIN_ADDED_MISSING@mx.google.com> Received: from [172.21.0.5] (unknown [172.18.0.240]) by postal.iol.unh.edu (Postfix) with ESMTP id 938976052471; Thu, 6 Feb 2025 10:13:00 -0500 (EST) Subject: |SUCCESS| pw151041 [PATCH] [1/1] net/mana: do not ring short doorbel From: dpdklab@iol.unh.edu To: Test Report Cc: dpdk-test-reports@iol.unh.edu In-Reply-To: <20250206100744.734612-1-weh@microsoft.com> References: <20250206100744.734612-1-weh@microsoft.com> Content-Type: text/plain X-BeenThere: test-report@dpdk.org X-Mailman-Version: 2.1.29 Precedence: list List-Id: automatic DPDK test reports List-Unsubscribe: , List-Archive: List-Post: List-Help: List-Subscribe: , Errors-To: test-report-bounces@dpdk.org Test-Label: iol-abi-testing Test-Status: SUCCESS http://dpdk.org/patch/151041 _Testing PASS_ Submitter: Wei Hu Date: Thursday, February 06 2025 10:07:43 DPDK git baseline: Repo:dpdk Branch: master CommitID:e595e7b5758fc73d99b810f5a8748f94bd467084 151041 --> testing pass Upstream job id: Generic-DPDK-Compile-ABI#115103 Test environment and result as below: +-------------------+----------+ | Environment | abi_test | +===================+==========+ | CentOS Stream 9 | PASS | +-------------------+----------+ | Debian Bullseye | PASS | +-------------------+----------+ | Debian 12 | PASS | +-------------------+----------+ | Fedora 40 (Clang) | PASS | +-------------------+----------+ | Fedora 40 | PASS | +-------------------+----------+ | RHEL8 | PASS | +-------------------+----------+ | Fedora 41 | PASS | +-------------------+----------+ | openSUSE Leap 15 | PASS | +-------------------+----------+ | Fedora 41 (Clang) | PASS | +-------------------+----------+ | RHEL9 | PASS | +-------------------+----------+ | Ubuntu 22.04 | PASS | +-------------------+----------+ | Ubuntu 24.04 | PASS | +-------------------+----------+ CentOS Stream 9 Kernel: Depends on container host Compiler: gcc 11.5.0 20240719 (Red Hat 11.5.0-2) Debian Bullseye Kernel: Depends on container host Compiler: gcc (Debian 10.2.1-6) 10.2.1 20210110 Debian 12 Kernel: Depends on container host Compiler: gcc (Debian 12.2.0-14) 12.2.0 Fedora 40 (Clang) Kernel: Depends on container host Compiler: clang 18.1.8 (Fedora 18.1.8-1.fc40) Fedora 40 Kernel: Depends on container host Compiler: gcc 14.2.1 20240912 (Red Hat 14.2.1-3) RHEL8 Kernel: Depends on container host Compiler: gcc 8.5.0 20210514 (Red Hat 8.5.0-22) Fedora 41 Kernel: Depends on container host Compiler: gcc 14.2.1 20240912 (Red Hat 14.2.1-3) openSUSE Leap 15 Kernel: Depends on container host Compiler: gcc (SUSE Linux) 7.5.0 Fedora 41 (Clang) Kernel: Depends on container host Compiler: clang 19.1.5 (Fedora 19.1.5-1.fc41) RHEL9 Kernel: Depends on container host Compiler: gcc 11.5.0 20240719 (Red Hat 11.5.0-2) Ubuntu 22.04 Kernel: Depends on container host Compiler: gcc (Ubuntu 11.4.0-1ubuntu1~22.04) 11.4.0 Ubuntu 24.04 Kernel: Depends on container host Compiler: gcc (Ubuntu 13.3.0-6ubuntu2~24.04) 13.3.0 To view detailed results, visit: https://lab.dpdk.org/results/dashboard/patchsets/32510/ UNH-IOL DPDK Community Lab To manage your email subscriptions, visit: https://lab.dpdk.org/results/dashboard/preferences/subscriptions/