From mboxrd@z Thu Jan 1 00:00:00 1970 Return-Path: Received: from mails.dpdk.org (mails.dpdk.org [217.70.189.124]) by inbox.dpdk.org (Postfix) with ESMTP id 45DAF461AD for ; Thu, 6 Feb 2025 17:04:16 +0100 (CET) Received: from mails.dpdk.org (localhost [127.0.0.1]) by mails.dpdk.org (Postfix) with ESMTP id 413C2402F1; Thu, 6 Feb 2025 17:04:16 +0100 (CET) Received: from mail-pl1-f228.google.com (mail-pl1-f228.google.com [209.85.214.228]) by mails.dpdk.org (Postfix) with ESMTP id 5CEE94029A for ; Thu, 6 Feb 2025 17:04:15 +0100 (CET) Received: by mail-pl1-f228.google.com with SMTP id d9443c01a7336-21661be2c2dso21722655ad.1 for ; Thu, 06 Feb 2025 08:04:15 -0800 (PST) DKIM-Signature: v=1; a=rsa-sha256; c=relaxed/relaxed; d=iol.unh.edu; s=unh-iol; t=1738857854; x=1739462654; darn=dpdk.org; h=references:in-reply-to:cc:to:from:subject:message-id:date:from:to :cc:subject:date:message-id:reply-to; bh=khTMEiHntvqJV/PX3+PgRQiAP9DyKnmZb2NXjjmkPy4=; b=bdJoWkLPfyQ/T8nYg29PazhODgzw4t7T5CtA66fSfpyya824F9WwcGHlAV/tXdlPuU XXphA1RXrucsR6YgPvjtNiZEb0WicOOGW6Bh3E0j+XAqdQvomhSfxZN6FN/p9NvbFlO4 vMhNBT0cBYvntLZrID0g7puE9xy/p7i0Lb62M= X-Google-DKIM-Signature: v=1; a=rsa-sha256; c=relaxed/relaxed; d=1e100.net; s=20230601; t=1738857854; x=1739462654; h=references:in-reply-to:cc:to:from:subject:message-id:date :x-gm-message-state:from:to:cc:subject:date:message-id:reply-to; bh=khTMEiHntvqJV/PX3+PgRQiAP9DyKnmZb2NXjjmkPy4=; b=VuJ9hLWUPCcwu5IWAv+HW9XjaMex7m0m0veWK1DqaU1R6Onv9iEomxLLUufv1bHX/N Ij+1zPNKlKUGbNHAtDmFYwNa1viYTz5w5W7TYH6XTrX+uuGW+wIwBdJbTThfojpd42x0 dY46t9nVUFZ5kLCW4rG2lP+lXvETRMbcfKXxyhJ+WABbhf7FIh2CNNSu+1LHIIVDHt+v lTybtn28v4B0l6h4yxKKXn9sWS369ytpuw4NULQJif0ivZaE1FINLP6MwC2LBaOelAdc TlP8XuDiA9QVPhUDFFBvB0ckJjOofQJZgtAtVjEG9JVtNVcg5wOuSZjYCHM/bfmHyYtz GCKw== X-Gm-Message-State: AOJu0YzxCYb1u6WP4nW6OMe0PIqecjmCCPtf4WtGP0TiiUQkFDpoEIZW zdIIHdpLqgNs+W79qURUbqPm1rq4+0wyI/r5OiaxVVoPm1TKeGiATaajSngtr8O6KV/y51ueSz1 IfqRkWnDOI6acwcSKBvrDHl4u0syfESf7B/z7IOTycfU7uIOKoPb/dGQi X-Gm-Gg: ASbGnctSd62/wlTLrxXLs6vpU4PQnm8BWbQmOyxUGVSA4rYA1on0aCT0d8fRlc6iLH6 pQ02iiBSJYZGaF1urnxD+ySpErbUTRnl8bj/YY6OGdnH8sm9aI7Bu7rD5St6zf9YevHPehsBjhL 6cwh/6x7N991uwPKyjzYZd5VHfXN46G/1giEZgOJjRKEz3h+Cd4ecSMwyUZmgbzJ8B151z7zV/h GBivsdDJE8F5wbtag4D7MCoZVavjFmwz+RTBYAjfdo/HChSFKdJ/VxDcUjQc9EOHjHnF7/4uMTc HBEWEjkOa62jT6STtJT1fBQ8rFZNY3IzdjK7bR7HOg== X-Google-Smtp-Source: AGHT+IGIRsVoEh+pL9Zsoe2iU20I0Hokxj+36oh6N/wC+ek8RXkBjsPMHGjTs/W8tMzT7XrRYoX32zF8hong X-Received: by 2002:a17:902:db07:b0:21f:1c9:ce48 with SMTP id d9443c01a7336-21f17e47109mr115612375ad.26.1738857853040; Thu, 06 Feb 2025 08:04:13 -0800 (PST) Received: from postal.iol.unh.edu (postal.iol.unh.edu. [2606:4100:3880:1234::84]) by smtp-relay.gmail.com with ESMTPS id d9443c01a7336-21f3694df55sm612055ad.12.2025.02.06.08.04.12 (version=TLS1_2 cipher=ECDHE-ECDSA-AES128-GCM-SHA256 bits=128/128); Thu, 06 Feb 2025 08:04:13 -0800 (PST) X-Relaying-Domain: iol.unh.edu Date: Thu, 06 Feb 2025 08:04:13 -0800 (PST) Message-ID: <67a4dd7d.170a0220.8af54.3dfbSMTPIN_ADDED_MISSING@mx.google.com> Received: from [172.21.0.6] (unknown [172.18.0.240]) by postal.iol.unh.edu (Postfix) with ESMTP id 82D426052471; Thu, 6 Feb 2025 11:04:12 -0500 (EST) Subject: |SUCCESS| pw151006-151005 [PATCH] [v3,2/2] drivers/net: add MSVC com From: dpdklab@iol.unh.edu To: Test Report Cc: dpdk-test-reports@iol.unh.edu In-Reply-To: <1738781590-2408-3-git-send-email-andremue@linux.microsoft.com> References: <1738781590-2408-3-git-send-email-andremue@linux.microsoft.com> Content-Type: text/plain X-BeenThere: test-report@dpdk.org X-Mailman-Version: 2.1.29 Precedence: list List-Id: automatic DPDK test reports List-Unsubscribe: , List-Archive: List-Post: List-Help: List-Subscribe: , Errors-To: test-report-bounces@dpdk.org Test-Label: iol-compile-arm64-testing Test-Status: SUCCESS http://dpdk.org/patch/151005 _Testing PASS_ Submitter: Andre Muezerie Date: Wednesday, February 05 2025 18:53:10 DPDK git baseline: Repo:dpdk Branch: master CommitID:e595e7b5758fc73d99b810f5a8748f94bd467084 151006-151005 --> testing pass Upstream job id: Generic-DPDK-Compile-Meson#358253 Test environment and result as below: +----------------------------------------+--------------------+ | Environment | dpdk_meson_compile | +========================================+====================+ | RHEL9 (ARM) | PASS | +----------------------------------------+--------------------+ | Ubuntu 20.04 ARM GCC Cross Compile | PASS | +----------------------------------------+--------------------+ | Ubuntu 20.04 ARM SVE | PASS | +----------------------------------------+--------------------+ | Debian 12 with MUSDK | PASS | +----------------------------------------+--------------------+ | Fedora 40 (ARM) | PASS | +----------------------------------------+--------------------+ | Fedora 41 (ARM) | PASS | +----------------------------------------+--------------------+ | Fedora 41 (ARM Clang) | PASS | +----------------------------------------+--------------------+ | Ubuntu 22.04 (ARM) | PASS | +----------------------------------------+--------------------+ | Ubuntu 24.04 (ARM) | PASS | +----------------------------------------+--------------------+ | CentOS Stream 9 (ARM) | PASS | +----------------------------------------+--------------------+ | Debian 11 (Buster) (ARM) | PASS | +----------------------------------------+--------------------+ | Debian 12 (arm) | PASS | +----------------------------------------+--------------------+ | Ubuntu 20.04 ARM Clang Cross Compile | PASS | +----------------------------------------+--------------------+ | Ubuntu 20.04 aarch32 GCC Cross Compile | PASS | +----------------------------------------+--------------------+ | Ubuntu 20.04 (ARM) | PASS | +----------------------------------------+--------------------+ RHEL9 (ARM) Kernel: Depends on container host Compiler: gcc 11.5.0 20240719 (Red Hat 11.5.0-2) Ubuntu 20.04 ARM GCC Cross Compile Kernel: Depends on container host Compiler: aarch64-linux-gnu-gcc (Ubuntu 9.4.0-1ubuntu1~20.04.2) 9.4.0 Ubuntu 20.04 ARM SVE Kernel: Depends on container host Compiler: gcc (Ubuntu 10.5.0-1ubuntu1~20.04) 10.5.0 Debian 12 with MUSDK Kernel: Depends on container host Compiler: gcc (Debian 12.2.0-14) 12.2.0 Fedora 40 (ARM) Kernel: Depends on container host Compiler: gcc 14.2.1 20240912 (Red Hat 14.2.1-3) Fedora 41 (ARM) Kernel: Depends on container host Compiler: gcc 14.2.1 20240912 (Red Hat 14.2.1-3) Fedora 41 (ARM Clang) Kernel: Depends on container host Compiler: clang 19.1.5 (Fedora 19.1.5-1.fc41) Ubuntu 22.04 (ARM) Kernel: Depends on container host Compiler: gcc (Ubuntu 11.4.0-1ubuntu1~22.04) 11.4.0 Ubuntu 24.04 (ARM) Kernel: Depends on container host Compiler: gcc (Ubuntu 13.3.0-6ubuntu2~24.04) 13.3.0 CentOS Stream 9 (ARM) Kernel: Depends on container host Compiler: gcc 11.5.0 20240719 (Red Hat 11.5.0-2) Debian 11 (Buster) (ARM) Kernel: Depends on container host Compiler: gcc (Debian 10.2.1-6) 10.2.1 20210110 Debian 12 (arm) Kernel: Depends on container host Compiler: gcc (Debian 12.2.0-14) 12.2.0 Ubuntu 20.04 ARM Clang Cross Compile Kernel: Depends on container host Compiler: clang 10.0.0-4ubuntu1 Ubuntu 20.04 aarch32 GCC Cross Compile Kernel: Depends on container host Compiler: gcc 9.4.0 Ubuntu 20.04 (ARM) Kernel: Depends on container host Compiler: gcc (Ubuntu 9.4.0-1ubuntu1~20.04.2) 9.4.0 To view detailed results, visit: https://lab.dpdk.org/results/dashboard/patchsets/32504/ UNH-IOL DPDK Community Lab To manage your email subscriptions, visit: https://lab.dpdk.org/results/dashboard/preferences/subscriptions/