From mboxrd@z Thu Jan 1 00:00:00 1970 Return-Path: Received: from mails.dpdk.org (mails.dpdk.org [217.70.189.124]) by inbox.dpdk.org (Postfix) with ESMTP id 75215461AD for ; Thu, 6 Feb 2025 17:27:46 +0100 (CET) Received: from mails.dpdk.org (localhost [127.0.0.1]) by mails.dpdk.org (Postfix) with ESMTP id 70B4140E6E; Thu, 6 Feb 2025 17:27:46 +0100 (CET) Received: from mail-qt1-f227.google.com (mail-qt1-f227.google.com [209.85.160.227]) by mails.dpdk.org (Postfix) with ESMTP id 78B2A402F1 for ; Thu, 6 Feb 2025 17:27:45 +0100 (CET) Received: by mail-qt1-f227.google.com with SMTP id d75a77b69052e-46783d44db0so11401141cf.1 for ; Thu, 06 Feb 2025 08:27:45 -0800 (PST) DKIM-Signature: v=1; a=rsa-sha256; c=relaxed/relaxed; d=iol.unh.edu; s=unh-iol; t=1738859265; x=1739464065; darn=dpdk.org; h=references:in-reply-to:cc:to:from:subject:message-id:date:from:to :cc:subject:date:message-id:reply-to; bh=7aKOz3bFg9hkbdRdFwtAGyi/Y3jXaJcJmk88XKga34s=; b=SUWoTRhDTBxTUP7zvM3jBQ/JIj3dapcm0QBfqGDi7phW1gUII1UdnUyh5Pbu9IYfOW CYga18Ha6nx2Bu1Q3pE1xCMzWnAvrPVNkZjrTW7IGoOg+d3/8MgjolYQIQpuk4fJZ4ak 11HnXYcEmROfManBZWJkA2MAIgYDcB+2UePLM= X-Google-DKIM-Signature: v=1; a=rsa-sha256; c=relaxed/relaxed; d=1e100.net; s=20230601; t=1738859265; x=1739464065; h=references:in-reply-to:cc:to:from:subject:message-id:date :x-gm-message-state:from:to:cc:subject:date:message-id:reply-to; bh=7aKOz3bFg9hkbdRdFwtAGyi/Y3jXaJcJmk88XKga34s=; b=pVzguD4No6K3QKE73nED4FFH40hb87v9aLdkCJ3wb2xy2TNRB5HIl/88eQ0XViH9Nh EAki3lNhRcKXXg+FqaFd0QfUyEiECvvO3FCofKY3YrfE0UsINKmAYiPCyvYGO8uvJur/ OPHQS6rI0tXe8tqkqAUJ8qr+36Ebuvmqcf+qLEC0pLetAjPMBFvn90o6wHU8JbCC1g6k TW0FeEIrDn3mAtyDXi1S9HSCRCDllNR9FB6AEyc5SoTimmmXnMAp77SZdd3edMdQ5Go4 MBJrUjcfONZrbyr2wak2biIclHRl1a8TE22kkKE4RnT6uXRKkUsgqnTDpJvg3T5DzyUN /JPw== X-Gm-Message-State: AOJu0Yz7pCMn9IJ5owPlB4bRuEmJK9KZVwvdhe35fJPvsAo4TA1mM5n9 LOi8m4icS63aqJFYtqzTNCKosLLOCnmSLyng8qQj233DZ2kmGbgzoY+ZYI1LgQWA00vk8uUfCav xj7LWA7974zRFNDwYchK1nQYjCMyewYIcl34czZrk X-Gm-Gg: ASbGncs1b/2j5JqM0qu3dgfuMNZpVnW6UOdiR0YKJkLD71+amJJxd2slCdW+vubRVJT bSw9C7p0GwUT/p+QBuco3pcBhMKPiDjmVZYqHQJ8TCL7iw99ykHpsvYbx6TDoqqMhK/EPQ5EFA4 UL5GY1rXz/7S9X8/04XXsyQKI7viiy9QxDZcFzM/t6HXBT3iMW67uK0/SyyBNyR5sPXM+PpSOMe YRgDkRjM62C6VxHq3q2iG8ir5vywwYyngS2HItCu20PsXJRQo1fi1rxmPkYcmdPd94EbXU4fCOB J85+8fYKf4F+L65ec5QkZJFQpjMqtw== X-Google-Smtp-Source: AGHT+IG/u+gebb//ZEsl8vgXVK/pbqJYUu5WehiuwYhKrig8MfH31+aqI1owQB0579ZjdGGyjkNjY8gN5inN X-Received: by 2002:a05:622a:5a95:b0:466:a20c:a67a with SMTP id d75a77b69052e-470282959c1mr114077061cf.38.1738859264857; Thu, 06 Feb 2025 08:27:44 -0800 (PST) Received: from postal.iol.unh.edu (postal.iol.unh.edu. [132.177.123.84]) by smtp-relay.gmail.com with ESMTPS id d75a77b69052e-47149276496sm667131cf.5.2025.02.06.08.27.44 (version=TLS1_2 cipher=ECDHE-ECDSA-AES128-GCM-SHA256 bits=128/128); Thu, 06 Feb 2025 08:27:44 -0800 (PST) X-Relaying-Domain: iol.unh.edu Date: Thu, 06 Feb 2025 08:27:44 -0800 (PST) Message-ID: <67a4e300.c80a0220.aca81.3aeeSMTPIN_ADDED_MISSING@mx.google.com> Received: from [172.21.0.7] (unknown [172.18.0.240]) by postal.iol.unh.edu (Postfix) with ESMTP id 75F476052471; Thu, 6 Feb 2025 11:27:44 -0500 (EST) Subject: |SUCCESS| pw151039 [PATCH] [v7,1/1] graph: mcore: optimize graph sea From: dpdklab@iol.unh.edu To: Test Report Cc: dpdk-test-reports@iol.unh.edu In-Reply-To: <20250206025322.2182-1-chcchc88@163.com> References: <20250206025322.2182-1-chcchc88@163.com> Content-Type: text/plain X-BeenThere: test-report@dpdk.org X-Mailman-Version: 2.1.29 Precedence: list List-Id: automatic DPDK test reports List-Unsubscribe: , List-Archive: List-Post: List-Help: List-Subscribe: , Errors-To: test-report-bounces@dpdk.org Test-Label: iol-compile-amd64-testing Test-Status: SUCCESS http://dpdk.org/patch/151039 _Testing PASS_ Submitter: Huichao Cai Date: Thursday, February 06 2025 02:53:22 DPDK git baseline: Repo:dpdk Branch: master CommitID:32c18e7364e30a8e43cc7cc6709a7ce606fa285e 151039 --> testing pass Upstream job id: Generic-DPDK-Compile-Meson#358424 Test environment and result as below: +---------------------+-------------------+--------------------+-------------------------+----------------------+------------------+-------------------+ | Environment | dpdk_msvc_compile | dpdk_meson_compile | dpdk_llvm_clang_compile | dpdk_mingw64_compile | dpdk_compile_ovs | dpdk_compile_spdk | +=====================+===================+====================+=========================+======================+==================+===================+ | Windows Server 2022 | PASS | SKIPPED | PASS | PASS | SKIPPED | SKIPPED | +---------------------+-------------------+--------------------+-------------------------+----------------------+------------------+-------------------+ | FreeBSD 13.4 | SKIPPED | PASS | SKIPPED | SKIPPED | SKIPPED | SKIPPED | +---------------------+-------------------+--------------------+-------------------------+----------------------+------------------+-------------------+ | FreeBSD 14.2 | SKIPPED | PASS | SKIPPED | SKIPPED | SKIPPED | SKIPPED | +---------------------+-------------------+--------------------+-------------------------+----------------------+------------------+-------------------+ | CentOS Stream 9 | SKIPPED | PASS | SKIPPED | SKIPPED | PASS | PASS | +---------------------+-------------------+--------------------+-------------------------+----------------------+------------------+-------------------+ | Debian Bullseye | SKIPPED | PASS | SKIPPED | SKIPPED | PASS | PASS | +---------------------+-------------------+--------------------+-------------------------+----------------------+------------------+-------------------+ | Debian 12 | SKIPPED | PASS | SKIPPED | SKIPPED | PASS | PASS | +---------------------+-------------------+--------------------+-------------------------+----------------------+------------------+-------------------+ | Fedora 40 (Clang) | SKIPPED | PASS | SKIPPED | SKIPPED | PASS | PASS | +---------------------+-------------------+--------------------+-------------------------+----------------------+------------------+-------------------+ | Fedora 40 | SKIPPED | PASS | SKIPPED | SKIPPED | PASS | PASS | +---------------------+-------------------+--------------------+-------------------------+----------------------+------------------+-------------------+ | Fedora 41 (Clang) | SKIPPED | PASS | SKIPPED | SKIPPED | PASS | PASS | +---------------------+-------------------+--------------------+-------------------------+----------------------+------------------+-------------------+ | Fedora 41 | SKIPPED | PASS | SKIPPED | SKIPPED | PASS | PASS | +---------------------+-------------------+--------------------+-------------------------+----------------------+------------------+-------------------+ | openSUSE Leap 15 | SKIPPED | PASS | SKIPPED | SKIPPED | SKIPPED | SKIPPED | +---------------------+-------------------+--------------------+-------------------------+----------------------+------------------+-------------------+ | RHEL8 | SKIPPED | PASS | SKIPPED | SKIPPED | PASS | SKIPPED | +---------------------+-------------------+--------------------+-------------------------+----------------------+------------------+-------------------+ | RHEL9 | SKIPPED | PASS | SKIPPED | SKIPPED | PASS | SKIPPED | +---------------------+-------------------+--------------------+-------------------------+----------------------+------------------+-------------------+ | Ubuntu 20.04 | SKIPPED | PASS | SKIPPED | SKIPPED | SKIPPED | SKIPPED | +---------------------+-------------------+--------------------+-------------------------+----------------------+------------------+-------------------+ | Ubuntu 22.04 | SKIPPED | PASS | SKIPPED | SKIPPED | PASS | PASS | +---------------------+-------------------+--------------------+-------------------------+----------------------+------------------+-------------------+ | Ubuntu 24.04 | SKIPPED | PASS | SKIPPED | SKIPPED | PASS | PASS | +---------------------+-------------------+--------------------+-------------------------+----------------------+------------------+-------------------+ | Alpine | SKIPPED | PASS | SKIPPED | SKIPPED | PASS | SKIPPED | +---------------------+-------------------+--------------------+-------------------------+----------------------+------------------+-------------------+ Windows Server 2022 Kernel: 10.0.20348.2031 Compiler: clang 15.0.7, gcc 14.1.0 (MinGW), and MSVC VS 19.39.33521 FreeBSD 13.4 Kernel: 13.4-RELEASE-p1 Compiler: clang 18.1.6 FreeBSD 14.2 Kernel: 14.2-RELEASE Compiler: clang 18.1.6 CentOS Stream 9 Kernel: Depends on container host Compiler: gcc 11.5.0 20240719 (Red Hat 11.5.0-2) Debian Bullseye Kernel: Depends on container host Compiler: gcc (Debian 10.2.1-6) 10.2.1 20210110 Debian 12 Kernel: Depends on container host Compiler: gcc (Debian 12.2.0-14) 12.2.0 Fedora 40 (Clang) Kernel: Depends on container host Compiler: clang 18.1.8 (Fedora 18.1.8-1.fc40) Fedora 40 Kernel: Depends on container host Compiler: gcc 14.2.1 20240912 (Red Hat 14.2.1-3) Fedora 41 (Clang) Kernel: Depends on container host Compiler: clang 19.1.5 (Fedora 19.1.5-1.fc41) Fedora 41 Kernel: Depends on container host Compiler: gcc 14.2.1 20240912 (Red Hat 14.2.1-3) openSUSE Leap 15 Kernel: Depends on container host Compiler: gcc (SUSE Linux) 7.5.0 RHEL8 Kernel: Depends on container host Compiler: gcc 8.5.0 20210514 (Red Hat 8.5.0-22) RHEL9 Kernel: Depends on container host Compiler: gcc 11.5.0 20240719 (Red Hat 11.5.0-2) Ubuntu 20.04 Kernel: Depends on container host Compiler: gcc (Ubuntu 9.4.0-1ubuntu1~20.04.2) 9.4.0 Ubuntu 22.04 Kernel: Depends on container host Compiler: gcc (Ubuntu 11.4.0-1ubuntu1~22.04) 11.4.0 Ubuntu 24.04 Kernel: Depends on container host Compiler: gcc (Ubuntu 13.3.0-6ubuntu2~24.04) 13.3.0 Alpine Kernel: Depends on container host Compiler: gcc (Alpine 14.2.0) 14.2.0 To view detailed results, visit: https://lab.dpdk.org/results/dashboard/patchsets/32508/ UNH-IOL DPDK Community Lab To manage your email subscriptions, visit: https://lab.dpdk.org/results/dashboard/preferences/subscriptions/