From mboxrd@z Thu Jan 1 00:00:00 1970 Return-Path: Received: from mails.dpdk.org (mails.dpdk.org [217.70.189.124]) by inbox.dpdk.org (Postfix) with ESMTP id 39ED746165 for ; Thu, 6 Feb 2025 17:33:35 +0100 (CET) Received: from mails.dpdk.org (localhost [127.0.0.1]) by mails.dpdk.org (Postfix) with ESMTP id 323B140E49; Thu, 6 Feb 2025 17:33:35 +0100 (CET) Received: from mail-qv1-f100.google.com (mail-qv1-f100.google.com [209.85.219.100]) by mails.dpdk.org (Postfix) with ESMTP id 1A7C6402F1 for ; Thu, 6 Feb 2025 17:33:33 +0100 (CET) Received: by mail-qv1-f100.google.com with SMTP id 6a1803df08f44-6e42f82ab88so12428236d6.1 for ; Thu, 06 Feb 2025 08:33:33 -0800 (PST) DKIM-Signature: v=1; a=rsa-sha256; c=relaxed/relaxed; d=iol.unh.edu; s=unh-iol; t=1738859612; x=1739464412; darn=dpdk.org; h=references:in-reply-to:cc:to:from:subject:message-id:date:from:to :cc:subject:date:message-id:reply-to; bh=6Bh2MiaeF086ncgwxzqVscSd28Tyb6y9C6WEdEzFM2w=; b=XoDh23zfYTOeScNN99L8ztVM4ksIOF9iwRbB8yTHpfLMiPkvwrGy3Tx/Y2OYJEWBO/ DUWPGaWI0A8s4EGhSLjOdVZoZ2jYGQ274qFGRPd51c3KSYEjRfzdGbYGNWHTh1GvEfoc UtOfzBlkKjoc2n/U150HjL2nwKASzvGWIQM+E= X-Google-DKIM-Signature: v=1; a=rsa-sha256; c=relaxed/relaxed; d=1e100.net; s=20230601; t=1738859612; x=1739464412; h=references:in-reply-to:cc:to:from:subject:message-id:date :x-gm-message-state:from:to:cc:subject:date:message-id:reply-to; bh=6Bh2MiaeF086ncgwxzqVscSd28Tyb6y9C6WEdEzFM2w=; b=ufDr1P+QzVVm46Lvj3J6zuCQhLWWTyPG3+zT8wUcKGqj7yh/Q+T1WVRksB07BdTdyu 1Ld8uZJPk8/umwQ9GgYgqJqRyt2xtRwDEo2bqVXfuR+TiSpRIuElqo7hHyUF3Yvj7dBh Ro4oXcafVREQIi9W+RBA/XzCNc0zoKb4CzeubcuPWo0dQQO2ncfEUaVdfxQt1wtJesdn sI9vO1uzSXP+iREwwVBnX9REwmxehqMLsu+eh0CeqmJt/93hMHsrr7FZjKUM5vAvBWFb oSpcUFgxPnEoDb+LIy3h6+2EMc5Yk5zbGwsjvPWPutihiR01E3Gl/oKZiMhqZ7Fz8PmK Fl2A== X-Gm-Message-State: AOJu0Yy5m3D84tUIbUo2Qml3caiNOl/quFVGUOewGqe99qgkGb+pGu6l xsSR6K+IHCLzgPUFHbK8/hR9eSC7P+BDBlmY7vDsDUXcoG1KPUwldx+niSBGxDTtYz40a+EZguQ DEeI5Eol8K6NzQfXwlMtwFX9hQr+trVLakZuMBINj1j+dCy/cWVBlo5k4 X-Gm-Gg: ASbGncsOjBkNMEzJ3+TOWV49iq7fdBeT8Upht+SrBOMHLU4iK+f2DYL5GgFkJsy4Lr+ RcBCcNHqHxT6ySpRQA+O1NBK7uvfMYY75N5i+pCLitb9cJtBNa7GsZNQpB6j1VfJfce3r+8k5ca V8SLSkqZhrSxG87C/bsS21oJonntUUScUzXEKXqtgL2/oeAXcSZigsaI+fe9tSdm/5baFMkIIOb BMJgE9RELzEc0r3Iv39eq/SXRTJ0/dpPUIOw6jr0a5drBwFQzO7IsBDRRtqv6/8z9XqyK1CB29/ V7e3VrjYCfGwXfONyUZWPZt0lyzEzGzHAo0wFiVK0g== X-Google-Smtp-Source: AGHT+IFlOhtC+tgTpAmjrMBdo+XDvRlmKoedtabPfqgIlT8d/LzXVpFZV247C5Ltnxt8yA6KsTd8kz61/BNH X-Received: by 2002:a05:6214:242d:b0:6e1:afcf:8711 with SMTP id 6a1803df08f44-6e42fb0436fmr127843066d6.8.1738859612405; Thu, 06 Feb 2025 08:33:32 -0800 (PST) Received: from postal.iol.unh.edu (postal.iol.unh.edu. [2606:4100:3880:1234::84]) by smtp-relay.gmail.com with ESMTPS id 6a1803df08f44-6e43ba40bf8sm962456d6.24.2025.02.06.08.33.32 (version=TLS1_2 cipher=ECDHE-ECDSA-AES128-GCM-SHA256 bits=128/128); Thu, 06 Feb 2025 08:33:32 -0800 (PST) X-Relaying-Domain: iol.unh.edu Date: Thu, 06 Feb 2025 08:33:32 -0800 (PST) Message-ID: <67a4e45c.d40a0220.221b0d.5ca2SMTPIN_ADDED_MISSING@mx.google.com> Received: from [172.21.0.5] (unknown [172.18.0.240]) by postal.iol.unh.edu (Postfix) with ESMTP id 29AF46052471; Thu, 6 Feb 2025 11:33:32 -0500 (EST) Subject: |SUCCESS| pw151007 [PATCH] [v4] drivers/net: use 64-bit shift and av From: dpdklab@iol.unh.edu To: Test Report Cc: dpdk-test-reports@iol.unh.edu In-Reply-To: <1738783944-10172-1-git-send-email-andremue@linux.microsoft.com> References: <1738783944-10172-1-git-send-email-andremue@linux.microsoft.com> Content-Type: text/plain X-BeenThere: test-report@dpdk.org X-Mailman-Version: 2.1.29 Precedence: list List-Id: automatic DPDK test reports List-Unsubscribe: , List-Archive: List-Post: List-Help: List-Subscribe: , Errors-To: test-report-bounces@dpdk.org Test-Label: iol-sample-apps-testing Test-Status: SUCCESS http://dpdk.org/patch/151007 _Testing PASS_ Submitter: Andre Muezerie Date: Wednesday, February 05 2025 19:32:24 DPDK git baseline: Repo:dpdk Branch: master CommitID:e595e7b5758fc73d99b810f5a8748f94bd467084 151007 --> testing pass Upstream job id: ACVP-FIPS-testing#8796 Test environment and result as below: +--------------------+----------------------+----------------------+ | Environment | compressdev_zlib_pmd | dpdk_fips_validation | +====================+======================+======================+ | Ubuntu 22.04 (ARM) | PASS | SKIPPED | +--------------------+----------------------+----------------------+ | Ubuntu 22.04 | PASS | SKIPPED | +--------------------+----------------------+----------------------+ | Ubuntu 20.04 | SKIPPED | PASS | +--------------------+----------------------+----------------------+ Ubuntu 22.04 (ARM) Kernel: 5.15.0-97-generic Compiler: gcc gcc (Ubuntu 11.4.0-1ubuntu1~22.04) 11.4.0 Ubuntu 22.04 Kernel: 5.15.0-100-generic Compiler: gcc gcc (Ubuntu 11.4.0-1ubuntu1~22.04) 11.4.0 Ubuntu 20.04 Kernel: Depends on container host Compiler: gcc (Ubuntu 9.4.0-1ubuntu1~20.04.2) 9.4.0 To view detailed results, visit: https://lab.dpdk.org/results/dashboard/patchsets/32505/ UNH-IOL DPDK Community Lab To manage your email subscriptions, visit: https://lab.dpdk.org/results/dashboard/preferences/subscriptions/